BEGIN:VCALENDAR
VERSION:2.0
PRODID:-//Project SHARE - ECPv6.15.20//NONSGML v1.0//EN
CALSCALE:GREGORIAN
METHOD:PUBLISH
X-ORIGINAL-URL:https://www.projectsharepa.org
X-WR-CALDESC:Events for Project SHARE
REFRESH-INTERVAL;VALUE=DURATION:PT1H
X-Robots-Tag:noindex
X-PUBLISHED-TTL:PT1H
BEGIN:VTIMEZONE
TZID:America/New_York
BEGIN:DAYLIGHT
TZOFFSETFROM:-0500
TZOFFSETTO:-0400
TZNAME:EDT
DTSTART:20250309T070000
END:DAYLIGHT
BEGIN:STANDARD
TZOFFSETFROM:-0400
TZOFFSETTO:-0500
TZNAME:EST
DTSTART:20251102T060000
END:STANDARD
BEGIN:DAYLIGHT
TZOFFSETFROM:-0500
TZOFFSETTO:-0400
TZNAME:EDT
DTSTART:20260308T070000
END:DAYLIGHT
BEGIN:STANDARD
TZOFFSETFROM:-0400
TZOFFSETTO:-0500
TZNAME:EST
DTSTART:20261101T060000
END:STANDARD
BEGIN:DAYLIGHT
TZOFFSETFROM:-0500
TZOFFSETTO:-0400
TZNAME:EDT
DTSTART:20270314T070000
END:DAYLIGHT
BEGIN:STANDARD
TZOFFSETFROM:-0400
TZOFFSETTO:-0500
TZNAME:EST
DTSTART:20271107T060000
END:STANDARD
END:VTIMEZONE
BEGIN:VEVENT
DTSTART;TZID=America/New_York:20260217T113000
DTEND;TZID=America/New_York:20260217T130000
DTSTAMP:20260424T150327
CREATED:20260115T141555Z
LAST-MODIFIED:20260115T141556Z
UID:3754-1771327800-1771333200@www.projectsharepa.org
SUMMARY:Financial Literacy Class w/ Maranatha-Carlisle
DESCRIPTION:Financial Literacy Class w/ Maranatha-Carlisle \n\n\n\nProject SHARE is teaming up again with Maranatha-Carlisle to bring a free financial literacy class to our warehouse. Learn with your peers about savings\, budgeting\, credit building\, debt elimination and more! \n\n\n\nLunch\, a $25 gift card & childcare will be provided at each class! \n\n\n\nRegister Here: ttsu.me/moneywinter26 \n\n\n\nQuestions? Contact Alicia\, SHARE Support Program Coordinator\, at support@projectsharepa.org or (717) 249-7773 ext. 246.
URL:https://www.projectsharepa.org/event/financial-literacy-class-w-maranatha-carlisle-3/
LOCATION:Project SHARE Headquarters\, 5 N. Orange St. Suite #4\, Carlisle\, Pennsylvania\, 17013\, United States
END:VEVENT
BEGIN:VEVENT
DTSTART;TZID=America/New_York:20260217T120000
DTEND;TZID=America/New_York:20260217T140000
DTSTAMP:20260424T150327
CREATED:20251212T172544Z
LAST-MODIFIED:20251212T172545Z
UID:2997-1771329600-1771336800@www.projectsharepa.org
SUMMARY:Drive Thru
DESCRIPTION:An appointment is not needed. If it is your first time visiting Project SHARE\, please call (717) 249-7773. \n\n\n\nLearn more about our Distribution here.
URL:https://www.projectsharepa.org/event/drive-thru-14/
LOCATION:Project SHARE Headquarters\, 5 N. Orange St. Suite #4\, Carlisle\, Pennsylvania\, 17013\, United States
CATEGORIES:Drive Thru
END:VEVENT
END:VCALENDAR