BEGIN:VCALENDAR
VERSION:2.0
PRODID:-//Project SHARE - ECPv6.15.20//NONSGML v1.0//EN
CALSCALE:GREGORIAN
METHOD:PUBLISH
X-WR-CALNAME:Project SHARE
X-ORIGINAL-URL:https://www.projectsharepa.org
X-WR-CALDESC:Events for Project SHARE
REFRESH-INTERVAL;VALUE=DURATION:PT1H
X-Robots-Tag:noindex
X-PUBLISHED-TTL:PT1H
BEGIN:VTIMEZONE
TZID:America/New_York
BEGIN:DAYLIGHT
TZOFFSETFROM:-0500
TZOFFSETTO:-0400
TZNAME:EDT
DTSTART:20250309T070000
END:DAYLIGHT
BEGIN:STANDARD
TZOFFSETFROM:-0400
TZOFFSETTO:-0500
TZNAME:EST
DTSTART:20251102T060000
END:STANDARD
BEGIN:DAYLIGHT
TZOFFSETFROM:-0500
TZOFFSETTO:-0400
TZNAME:EDT
DTSTART:20260308T070000
END:DAYLIGHT
BEGIN:STANDARD
TZOFFSETFROM:-0400
TZOFFSETTO:-0500
TZNAME:EST
DTSTART:20261101T060000
END:STANDARD
BEGIN:DAYLIGHT
TZOFFSETFROM:-0500
TZOFFSETTO:-0400
TZNAME:EDT
DTSTART:20270314T070000
END:DAYLIGHT
BEGIN:STANDARD
TZOFFSETFROM:-0400
TZOFFSETTO:-0500
TZNAME:EST
DTSTART:20271107T060000
END:STANDARD
END:VTIMEZONE
BEGIN:VEVENT
DTSTART;TZID=America/New_York:20260303T090000
DTEND;TZID=America/New_York:20260303T140000
DTSTAMP:20260424T135244
CREATED:20251229T154914Z
LAST-MODIFIED:20251229T154915Z
UID:3117-1772528400-1772546400@www.projectsharepa.org
SUMMARY:Farmstand
DESCRIPTION:Shopping is by appointment only. Register at https://timetosignup.com/projectsharepa/ \n\n\n\nLearn more about our Farmstand.
URL:https://www.projectsharepa.org/event/farmstand-172/
LOCATION:Project SHARE Farmstand\, 123 Lincoln St\, Carlisle\, Pennsylvania\, 17013\, United States
CATEGORIES:Farmstand,Farmstand
END:VEVENT
BEGIN:VEVENT
DTSTART;TZID=America/New_York:20260303T113000
DTEND;TZID=America/New_York:20260303T130000
DTSTAMP:20260424T135244
CREATED:20260115T141933Z
LAST-MODIFIED:20260115T141934Z
UID:3758-1772537400-1772542800@www.projectsharepa.org
SUMMARY:Financial Literacy Class w/ Maranatha-Carlisle
DESCRIPTION:Project SHARE is teaming up again with Maranatha-Carlisle to bring a free financial literacy class to our warehouse. Learn with your peers about savings\, budgeting\, credit building\, debt elimination and more! \n\n\n\nLunch\, a $25 gift card & childcare will be provided at each class! \n\n\n\nRegister Here: ttsu.me/moneywinter26 \n\n\n\nQuestions? Contact Alicia\, SHARE Support Program Coordinator\, at support@projectsharepa.org or (717) 249-7773 ext. 246.
URL:https://www.projectsharepa.org/event/financial-literacy-class-w-maranatha-carlisle-5/
LOCATION:Project SHARE Headquarters\, 5 N. Orange St. Suite #4\, Carlisle\, Pennsylvania\, 17013\, United States
END:VEVENT
BEGIN:VEVENT
DTSTART;TZID=America/New_York:20260303T150000
DTEND;TZID=America/New_York:20260303T173000
DTSTAMP:20260424T135244
CREATED:20251229T155004Z
LAST-MODIFIED:20251229T155005Z
UID:3119-1772550000-1772559000@www.projectsharepa.org
SUMMARY:Farmstand
DESCRIPTION:Shopping is by appointment only. Register at https://timetosignup.com/projectsharepa/ \n\n\n\nLearn more about our Farmstand.
URL:https://www.projectsharepa.org/event/farmstand-173/
LOCATION:Project SHARE Farmstand\, 123 Lincoln St\, Carlisle\, Pennsylvania\, 17013\, United States
CATEGORIES:Farmstand,Farmstand
END:VEVENT
END:VCALENDAR