BEGIN:VCALENDAR
VERSION:2.0
PRODID:-//Project SHARE - ECPv6.15.20//NONSGML v1.0//EN
CALSCALE:GREGORIAN
METHOD:PUBLISH
X-ORIGINAL-URL:https://www.projectsharepa.org
X-WR-CALDESC:Events for Project SHARE
REFRESH-INTERVAL;VALUE=DURATION:PT1H
X-Robots-Tag:noindex
X-PUBLISHED-TTL:PT1H
BEGIN:VTIMEZONE
TZID:America/New_York
BEGIN:DAYLIGHT
TZOFFSETFROM:-0500
TZOFFSETTO:-0400
TZNAME:EDT
DTSTART:20250309T070000
END:DAYLIGHT
BEGIN:STANDARD
TZOFFSETFROM:-0400
TZOFFSETTO:-0500
TZNAME:EST
DTSTART:20251102T060000
END:STANDARD
BEGIN:DAYLIGHT
TZOFFSETFROM:-0500
TZOFFSETTO:-0400
TZNAME:EDT
DTSTART:20260308T070000
END:DAYLIGHT
BEGIN:STANDARD
TZOFFSETFROM:-0400
TZOFFSETTO:-0500
TZNAME:EST
DTSTART:20261101T060000
END:STANDARD
BEGIN:DAYLIGHT
TZOFFSETFROM:-0500
TZOFFSETTO:-0400
TZNAME:EDT
DTSTART:20270314T070000
END:DAYLIGHT
BEGIN:STANDARD
TZOFFSETFROM:-0400
TZOFFSETTO:-0500
TZNAME:EST
DTSTART:20271107T060000
END:STANDARD
END:VTIMEZONE
BEGIN:VEVENT
DTSTART;TZID=America/New_York:20260323T180000
DTEND;TZID=America/New_York:20260323T193000
DTSTAMP:20260424T135341
CREATED:20260121T161545Z
LAST-MODIFIED:20260121T161546Z
UID:3769-1774288800-1774294200@www.projectsharepa.org
SUMMARY:Empty Bowls
DESCRIPTION:Empty Bowls 2026 in back! \n\n\n\nJoin Project SHARE and the Carlisle Arts Learning Center (CALC) for our annual community dinner featuring local soups\, homemade bread and handmade ceramic bowls to take home. Every ticket purchased helps reduce food insecurity for neighbors in the greater Carlisle area. \n\n\n\nGrab your tickets here: www.carlislearts.org/emptybowls2026 Seats are limited! \n\n\n\nThank you to M&T for sponsoring this beloved event!
URL:https://www.projectsharepa.org/event/empty-bowls/
LOCATION:Project SHARE Headquarters\, 5 N. Orange St. Suite #4\, Carlisle\, Pennsylvania\, 17013\, United States
ATTACH;FMTTYPE=image/png:https://www.projectsharepa.org/wp-content/uploads/2026/01/EB-Square-without-logos.png
END:VEVENT
END:VCALENDAR