BEGIN:VCALENDAR
VERSION:2.0
PRODID:-//Project SHARE - ECPv6.15.20//NONSGML v1.0//EN
CALSCALE:GREGORIAN
METHOD:PUBLISH
X-WR-CALNAME:Project SHARE
X-ORIGINAL-URL:https://www.projectsharepa.org
X-WR-CALDESC:Events for Project SHARE
REFRESH-INTERVAL;VALUE=DURATION:PT1H
X-Robots-Tag:noindex
X-PUBLISHED-TTL:PT1H
BEGIN:VTIMEZONE
TZID:America/New_York
BEGIN:DAYLIGHT
TZOFFSETFROM:-0500
TZOFFSETTO:-0400
TZNAME:EDT
DTSTART:20240310T070000
END:DAYLIGHT
BEGIN:STANDARD
TZOFFSETFROM:-0400
TZOFFSETTO:-0500
TZNAME:EST
DTSTART:20241103T060000
END:STANDARD
BEGIN:DAYLIGHT
TZOFFSETFROM:-0500
TZOFFSETTO:-0400
TZNAME:EDT
DTSTART:20250309T070000
END:DAYLIGHT
BEGIN:STANDARD
TZOFFSETFROM:-0400
TZOFFSETTO:-0500
TZNAME:EST
DTSTART:20251102T060000
END:STANDARD
BEGIN:DAYLIGHT
TZOFFSETFROM:-0500
TZOFFSETTO:-0400
TZNAME:EDT
DTSTART:20260308T070000
END:DAYLIGHT
BEGIN:STANDARD
TZOFFSETFROM:-0400
TZOFFSETTO:-0500
TZNAME:EST
DTSTART:20261101T060000
END:STANDARD
BEGIN:DAYLIGHT
TZOFFSETFROM:-0500
TZOFFSETTO:-0400
TZNAME:EDT
DTSTART:20270314T070000
END:DAYLIGHT
BEGIN:STANDARD
TZOFFSETFROM:-0400
TZOFFSETTO:-0500
TZNAME:EST
DTSTART:20271107T060000
END:STANDARD
END:VTIMEZONE
BEGIN:VEVENT
DTSTART;TZID=America/New_York:20260108T170000
DTEND;TZID=America/New_York:20260108T183000
DTSTAMP:20260425T070433
CREATED:20251229T144126Z
LAST-MODIFIED:20251229T144127Z
UID:3067-1767891600-1767897000@www.projectsharepa.org
SUMMARY:Kids in the Kitchen
DESCRIPTION:Kids in the Kitchen is designed for children aged 7-14 to learn basic nutrition and gain valuable cooking skills through hands-on learning and collaboration with fellow classmates. \n\n\n\nRegister at https://timetosignup.com/projectsharepa/ \n\n\n\nLearn more about our cooking classes.
URL:https://www.projectsharepa.org/event/kids-in-the-kitchen-9/
LOCATION:Project SHARE Headquarters\, 5 N. Orange St. Suite #4\, Carlisle\, Pennsylvania\, 17013\, United States
CATEGORIES:Cooking Classes
END:VEVENT
BEGIN:VEVENT
DTSTART;TZID=America/New_York:20260108T090000
DTEND;TZID=America/New_York:20260108T140000
DTSTAMP:20260425T070433
CREATED:20251210T192744Z
LAST-MODIFIED:20251212T174754Z
UID:2909-1767862800-1767880800@www.projectsharepa.org
SUMMARY:Farmstand
DESCRIPTION:Shopping is by appointment only. Register at https://timetosignup.com/projectsharepa/ \n\n\n\nLearn more about our Farmstand.
URL:https://www.projectsharepa.org/event/farmstand-151/
LOCATION:Project SHARE Farmstand\, 123 Lincoln St\, Carlisle\, Pennsylvania\, 17013\, United States
CATEGORIES:Farmstand,Farmstand
END:VEVENT
BEGIN:VEVENT
DTSTART;TZID=America/New_York:20260108T090000
DTEND;TZID=America/New_York:20260108T120000
DTSTAMP:20260425T070433
CREATED:20251210T192125Z
LAST-MODIFIED:20251212T174715Z
UID:2907-1767862800-1767873600@www.projectsharepa.org
SUMMARY:Your Choice Pantry
DESCRIPTION:Shopping is by appointment only. Register at https://timetosignup.com/projectsharepa/. If it is your first time visiting Project SHARE\, please call (717) 249-7773. \n\n\n\nLearn more about our Distribution.
URL:https://www.projectsharepa.org/event/your-choice-pantry-2/
LOCATION:Project SHARE Headquarters\, 5 N. Orange St. Suite #4\, Carlisle\, Pennsylvania\, 17013\, United States
CATEGORIES:Your Choice Pantry,Your Choice Pantry
END:VEVENT
BEGIN:VEVENT
DTSTART;TZID=America/New_York:20260107T090000
DTEND;TZID=America/New_York:20260107T120000
DTSTAMP:20260425T070433
CREATED:20251210T192018Z
LAST-MODIFIED:20251212T174626Z
UID:2905-1767776400-1767787200@www.projectsharepa.org
SUMMARY:Your Choice Pantry
DESCRIPTION:Shopping is by appointment only. Register at https://timetosignup.com/projectsharepa/. If it is your first time visiting Project SHARE\, please call (717) 249-7773. \n\n\n\nLearn more about our Distribution.
URL:https://www.projectsharepa.org/event/your-choice-pantry/
LOCATION:Project SHARE Headquarters\, 5 N. Orange St. Suite #4\, Carlisle\, Pennsylvania\, 17013\, United States
CATEGORIES:Your Choice Pantry,Your Choice Pantry
END:VEVENT
BEGIN:VEVENT
DTSTART;TZID=America/New_York:20260106T150000
DTEND;TZID=America/New_York:20260106T173000
DTSTAMP:20260425T070433
CREATED:20251210T191843Z
LAST-MODIFIED:20251212T174336Z
UID:2903-1767711600-1767720600@www.projectsharepa.org
SUMMARY:Farmstand
DESCRIPTION:Shopping is by appointment only. Register at https://timetosignup.com/projectsharepa/ \n\n\n\nLearn more about our Farmstand.
URL:https://www.projectsharepa.org/event/farmstand-140/
LOCATION:Project SHARE Farmstand\, 123 Lincoln St\, Carlisle\, Pennsylvania\, 17013\, United States
CATEGORIES:Farmstand,Farmstand
END:VEVENT
BEGIN:VEVENT
DTSTART;TZID=America/New_York:20260106T090000
DTEND;TZID=America/New_York:20260106T140000
DTSTAMP:20260425T070433
CREATED:20251210T191745Z
LAST-MODIFIED:20251212T174304Z
UID:2901-1767690000-1767708000@www.projectsharepa.org
SUMMARY:Farmstand
DESCRIPTION:Shopping is by appointment only. Register at https://timetosignup.com/projectsharepa/ \n\n\n\nLearn more about our Farmstand.
URL:https://www.projectsharepa.org/event/farmstand-139/
LOCATION:Project SHARE Farmstand\, 123 Lincoln St\, Carlisle\, Pennsylvania\, 17013\, United States
CATEGORIES:Farmstand,Farmstand
END:VEVENT
BEGIN:VEVENT
DTSTART;TZID=America/New_York:20260102T090000
DTEND;TZID=America/New_York:20260102T120000
DTSTAMP:20260425T070433
CREATED:20251210T191653Z
LAST-MODIFIED:20251212T174226Z
UID:2899-1767344400-1767355200@www.projectsharepa.org
SUMMARY:Farmstand
DESCRIPTION:Shopping is by appointment only. Register at https://timetosignup.com/projectsharepa/ \n\n\n\nLearn more about our Farmstand.
URL:https://www.projectsharepa.org/event/farmstand-138/
LOCATION:Project SHARE Farmstand\, 123 Lincoln St\, Carlisle\, Pennsylvania\, 17013\, United States
CATEGORIES:Farmstand,Farmstand
END:VEVENT
BEGIN:VEVENT
DTSTART;TZID=America/New_York:20260101T000000
DTEND;TZID=America/New_York:20260101T235959
DTSTAMP:20260425T070433
CREATED:20251210T190504Z
LAST-MODIFIED:20251210T202448Z
UID:2884-1767225600-1767311999@www.projectsharepa.org
SUMMARY:Project SHARE Closed
DESCRIPTION:New Year’s Day
URL:https://www.projectsharepa.org/event/project-share-closed-26/
LOCATION:Pennsylvania
END:VEVENT
BEGIN:VEVENT
DTSTART;TZID=America/New_York:20251230T090000
DTEND;TZID=America/New_York:20251230T120000
DTSTAMP:20260425T070433
CREATED:20250128T200011Z
LAST-MODIFIED:20250128T200012Z
UID:2570-1767085200-1767096000@www.projectsharepa.org
SUMMARY:Your Choice Distribution
DESCRIPTION:Shopping is by appointment only. Register at https://timetosignup.com/projectsharepa/. If it is your first time visiting Project SHARE\, please call (717) 249-7773.
URL:https://www.projectsharepa.org/event/your-choice-distribution-149/
LOCATION:Pennsylvania
END:VEVENT
BEGIN:VEVENT
DTSTART;TZID=America/New_York:20251226T000000
DTEND;TZID=America/New_York:20251226T235959
DTSTAMP:20260425T070433
CREATED:20251223T145205Z
LAST-MODIFIED:20251223T145206Z
UID:3059-1766707200-1766793599@www.projectsharepa.org
SUMMARY:Project SHARE Closed
DESCRIPTION:
URL:https://www.projectsharepa.org/event/project-share-closed-31/
LOCATION:Pennsylvania
END:VEVENT
BEGIN:VEVENT
DTSTART;TZID=America/New_York:20251225T000000
DTEND;TZID=America/New_York:20251225T235959
DTSTAMP:20260425T070433
CREATED:20250128T195714Z
LAST-MODIFIED:20250128T195714Z
UID:2566-1766620800-1766707199@www.projectsharepa.org
SUMMARY:Project SHARE Closed
DESCRIPTION:Christmas Day
URL:https://www.projectsharepa.org/event/project-share-closed-25/
LOCATION:Pennsylvania
END:VEVENT
BEGIN:VEVENT
DTSTART;TZID=America/New_York:20251224T000000
DTEND;TZID=America/New_York:20251224T235959
DTSTAMP:20260425T070433
CREATED:20250128T195429Z
LAST-MODIFIED:20250128T195430Z
UID:2564-1766534400-1766620799@www.projectsharepa.org
SUMMARY:Project SHARE Closed
DESCRIPTION:Christmas Eve
URL:https://www.projectsharepa.org/event/project-share-closed-24/
LOCATION:Pennsylvania
END:VEVENT
BEGIN:VEVENT
DTSTART;TZID=America/New_York:20251223T090000
DTEND;TZID=America/New_York:20251223T140000
DTSTAMP:20260425T070433
CREATED:20250128T195052Z
LAST-MODIFIED:20250128T195053Z
UID:2558-1766480400-1766498400@www.projectsharepa.org
SUMMARY:Farmstand
DESCRIPTION:Shopping is by appointment only. Register at https://timetosignup.com/projectsharepa/
URL:https://www.projectsharepa.org/event/farmstand-148/
LOCATION:Pennsylvania
END:VEVENT
BEGIN:VEVENT
DTSTART;TZID=America/New_York:20251223T090000
DTEND;TZID=America/New_York:20251223T120000
DTSTAMP:20260425T070433
CREATED:20250128T195308Z
LAST-MODIFIED:20250128T195308Z
UID:2562-1766480400-1766491200@www.projectsharepa.org
SUMMARY:Your Choice Distribution
DESCRIPTION:Shopping is by appointment only. Register at https://timetosignup.com/projectsharepa/. If it is your first time visiting Project SHARE\, please call (717) 249-7773.
URL:https://www.projectsharepa.org/event/your-choice-distribution-148/
LOCATION:Pennsylvania
END:VEVENT
BEGIN:VEVENT
DTSTART;TZID=America/New_York:20251220T083000
DTEND;TZID=America/New_York:20251220T120000
DTSTAMP:20260425T070433
CREATED:20250128T195010Z
LAST-MODIFIED:20250128T202726Z
UID:2556-1766219400-1766232000@www.projectsharepa.org
SUMMARY:Your Choice Distribution
DESCRIPTION:Shopping is by appointment only. Register at https://timetosignup.com/projectsharepa/. If it is your first time visiting Project SHARE\, please call (717) 249-7773.
URL:https://www.projectsharepa.org/event/project-share/
LOCATION:Pennsylvania
END:VEVENT
BEGIN:VEVENT
DTSTART;TZID=America/New_York:20251219T090000
DTEND;TZID=America/New_York:20251219T120000
DTSTAMP:20260425T070433
CREATED:20251215T200542Z
LAST-MODIFIED:20251215T200543Z
UID:3057-1766134800-1766145600@www.projectsharepa.org
SUMMARY:Farmstand
DESCRIPTION:Shopping is by appointment only. Register at https://timetosignup.com/projectsharepa/
URL:https://www.projectsharepa.org/event/farmstand-171/
LOCATION:Pennsylvania
END:VEVENT
BEGIN:VEVENT
DTSTART;TZID=America/New_York:20251219T000000
DTEND;TZID=America/New_York:20251219T235900
DTSTAMP:20260425T070433
CREATED:20250128T194930Z
LAST-MODIFIED:20251204T194049Z
UID:2554-1766102400-1766188740@www.projectsharepa.org
SUMMARY:Project SHARE Closed
DESCRIPTION:
URL:https://www.projectsharepa.org/event/project-share-closed-23/
LOCATION:Pennsylvania
END:VEVENT
BEGIN:VEVENT
DTSTART;TZID=America/New_York:20251218T140000
DTEND;TZID=America/New_York:20251218T173000
DTSTAMP:20260425T070433
CREATED:20250128T194729Z
LAST-MODIFIED:20250128T194730Z
UID:2552-1766066400-1766079000@www.projectsharepa.org
SUMMARY:Your Choice Distribution
DESCRIPTION:Shopping is by appointment only. Register at https://timetosignup.com/projectsharepa/. If it is your first time visiting Project SHARE\, please call (717) 249-7773.
URL:https://www.projectsharepa.org/event/your-choice-distribution-147/
LOCATION:Pennsylvania
END:VEVENT
BEGIN:VEVENT
DTSTART;TZID=America/New_York:20251218T100000
DTEND;TZID=America/New_York:20251218T120000
DTSTAMP:20260425T070433
CREATED:20250128T194658Z
LAST-MODIFIED:20250128T194659Z
UID:2550-1766052000-1766059200@www.projectsharepa.org
SUMMARY:Your Choice Distribution
DESCRIPTION:Shopping is by appointment only. Register at https://timetosignup.com/projectsharepa/. If it is your first time visiting Project SHARE\, please call (717) 249-7773.
URL:https://www.projectsharepa.org/event/your-choice-distribution-146/
LOCATION:Pennsylvania
END:VEVENT
BEGIN:VEVENT
DTSTART;TZID=America/New_York:20251218T093000
DTEND;TZID=America/New_York:20251218T140000
DTSTAMP:20260425T070433
CREATED:20251215T200447Z
LAST-MODIFIED:20251215T200448Z
UID:3055-1766050200-1766066400@www.projectsharepa.org
SUMMARY:Farmstand
DESCRIPTION:Shopping is by appointment only. Register at https://timetosignup.com/projectsharepa/
URL:https://www.projectsharepa.org/event/farmstand-150/
LOCATION:Pennsylvania
END:VEVENT
BEGIN:VEVENT
DTSTART;TZID=America/New_York:20251217T140000
DTEND;TZID=America/New_York:20251217T173000
DTSTAMP:20260425T070434
CREATED:20250128T194610Z
LAST-MODIFIED:20250128T194611Z
UID:2548-1765980000-1765992600@www.projectsharepa.org
SUMMARY:Your Choice Distribution
DESCRIPTION:Shopping is by appointment only. Register at https://timetosignup.com/projectsharepa/. If it is your first time visiting Project SHARE\, please call (717) 249-7773.
URL:https://www.projectsharepa.org/event/your-choice-distribution-145/
LOCATION:Pennsylvania
END:VEVENT
BEGIN:VEVENT
DTSTART;TZID=America/New_York:20251217T090000
DTEND;TZID=America/New_York:20251217T120000
DTSTAMP:20260425T070434
CREATED:20250128T194527Z
LAST-MODIFIED:20250128T194528Z
UID:2546-1765962000-1765972800@www.projectsharepa.org
SUMMARY:Your Choice Distribution
DESCRIPTION:Shopping is by appointment only. Register at https://timetosignup.com/projectsharepa/. If it is your first time visiting Project SHARE\, please call (717) 249-7773.
URL:https://www.projectsharepa.org/event/your-choice-distribution-144/
LOCATION:Pennsylvania
END:VEVENT
BEGIN:VEVENT
DTSTART;TZID=America/New_York:20251216T120000
DTEND;TZID=America/New_York:20251216T140000
DTSTAMP:20260425T070434
CREATED:20250128T194422Z
LAST-MODIFIED:20250128T194423Z
UID:2544-1765886400-1765893600@www.projectsharepa.org
SUMMARY:Drive Thru
DESCRIPTION:An appointment is not needed. If it is your first time visiting Project SHARE\, please call (717) 249-7773.
URL:https://www.projectsharepa.org/event/drive-thru-12/
LOCATION:Pennsylvania
END:VEVENT
BEGIN:VEVENT
DTSTART;TZID=America/New_York:20251216T090000
DTEND;TZID=America/New_York:20251216T173000
DTSTAMP:20260425T070434
CREATED:20251215T200403Z
LAST-MODIFIED:20251215T200404Z
UID:3053-1765875600-1765906200@www.projectsharepa.org
SUMMARY:Farmstand
DESCRIPTION:Shopping is by appointment only. Register at https://timetosignup.com/projectsharepa/
URL:https://www.projectsharepa.org/event/farmstand-149/
LOCATION:Pennsylvania
END:VEVENT
BEGIN:VEVENT
DTSTART;TZID=America/New_York:20251212T090000
DTEND;TZID=America/New_York:20251212T120000
DTSTAMP:20260425T070434
CREATED:20250128T172906Z
LAST-MODIFIED:20250128T172907Z
UID:2542-1765530000-1765540800@www.projectsharepa.org
SUMMARY:Farmstand
DESCRIPTION:Shopping is by appointment only. Register at https://timetosignup.com/projectsharepa/
URL:https://www.projectsharepa.org/event/farmstand-147/
LOCATION:Pennsylvania
END:VEVENT
BEGIN:VEVENT
DTSTART;TZID=America/New_York:20251211T170000
DTEND;TZID=America/New_York:20251211T183000
DTSTAMP:20260425T070434
CREATED:20250128T172808Z
LAST-MODIFIED:20250128T172809Z
UID:2540-1765472400-1765477800@www.projectsharepa.org
SUMMARY:Slice of the Month
DESCRIPTION:Register at https://timetosignup.com/projectsharepa/
URL:https://www.projectsharepa.org/event/slice-of-the-month-8/
LOCATION:Pennsylvania
END:VEVENT
BEGIN:VEVENT
DTSTART;TZID=America/New_York:20251211T093000
DTEND;TZID=America/New_York:20251211T140000
DTSTAMP:20260425T070434
CREATED:20250128T172613Z
LAST-MODIFIED:20250128T172614Z
UID:2536-1765445400-1765461600@www.projectsharepa.org
SUMMARY:Farmstand
DESCRIPTION:Shopping is by appointment only. Register at https://timetosignup.com/projectsharepa/
URL:https://www.projectsharepa.org/event/farmstand-146/
LOCATION:Pennsylvania
END:VEVENT
BEGIN:VEVENT
DTSTART;TZID=America/New_York:20251211T090000
DTEND;TZID=America/New_York:20251211T120000
DTSTAMP:20260425T070434
CREATED:20250128T172718Z
LAST-MODIFIED:20251028T212258Z
UID:2538-1765443600-1765454400@www.projectsharepa.org
SUMMARY:Your Choice Distribution
DESCRIPTION:Shopping is by appointment only. Register at https://timetosignup.com/projectsharepa/. If it is your first time visiting Project SHARE\, please call (717) 249-7773.
URL:https://www.projectsharepa.org/event/your-choice-distribution-143/
LOCATION:Pennsylvania
END:VEVENT
BEGIN:VEVENT
DTSTART;TZID=America/New_York:20251210T090000
DTEND;TZID=America/New_York:20251210T120000
DTSTAMP:20260425T070434
CREATED:20250128T172459Z
LAST-MODIFIED:20250128T172500Z
UID:2534-1765357200-1765368000@www.projectsharepa.org
SUMMARY:Your Choice Distribution
DESCRIPTION:Shopping is by appointment only. Register at https://timetosignup.com/projectsharepa/. If it is your first time visiting Project SHARE\, please call (717) 249-7773.
URL:https://www.projectsharepa.org/event/your-choice-distribution-142/
LOCATION:Pennsylvania
END:VEVENT
BEGIN:VEVENT
DTSTART;TZID=America/New_York:20251209T150000
DTEND;TZID=America/New_York:20251209T173000
DTSTAMP:20260425T070434
CREATED:20250128T172312Z
LAST-MODIFIED:20250128T172313Z
UID:2532-1765292400-1765301400@www.projectsharepa.org
SUMMARY:Farmstand
DESCRIPTION:Shopping is by appointment only. Register at https://timetosignup.com/projectsharepa/
URL:https://www.projectsharepa.org/event/farmstand-145/
LOCATION:Pennsylvania
END:VEVENT
END:VCALENDAR