BEGIN:VCALENDAR
VERSION:2.0
PRODID:-//Project SHARE - ECPv6.15.20//NONSGML v1.0//EN
CALSCALE:GREGORIAN
METHOD:PUBLISH
X-WR-CALNAME:Project SHARE
X-ORIGINAL-URL:https://www.projectsharepa.org
X-WR-CALDESC:Events for Project SHARE
REFRESH-INTERVAL;VALUE=DURATION:PT1H
X-Robots-Tag:noindex
X-PUBLISHED-TTL:PT1H
BEGIN:VTIMEZONE
TZID:America/New_York
BEGIN:DAYLIGHT
TZOFFSETFROM:-0500
TZOFFSETTO:-0400
TZNAME:EDT
DTSTART:20240310T070000
END:DAYLIGHT
BEGIN:STANDARD
TZOFFSETFROM:-0400
TZOFFSETTO:-0500
TZNAME:EST
DTSTART:20241103T060000
END:STANDARD
BEGIN:DAYLIGHT
TZOFFSETFROM:-0500
TZOFFSETTO:-0400
TZNAME:EDT
DTSTART:20250309T070000
END:DAYLIGHT
BEGIN:STANDARD
TZOFFSETFROM:-0400
TZOFFSETTO:-0500
TZNAME:EST
DTSTART:20251102T060000
END:STANDARD
BEGIN:DAYLIGHT
TZOFFSETFROM:-0500
TZOFFSETTO:-0400
TZNAME:EDT
DTSTART:20260308T070000
END:DAYLIGHT
BEGIN:STANDARD
TZOFFSETFROM:-0400
TZOFFSETTO:-0500
TZNAME:EST
DTSTART:20261101T060000
END:STANDARD
END:VTIMEZONE
BEGIN:VEVENT
DTSTART;TZID=America/New_York:20251021T090000
DTEND;TZID=America/New_York:20251021T140000
DTSTAMP:20260425T071509
CREATED:20250128T161027Z
LAST-MODIFIED:20250128T161028Z
UID:2430-1761037200-1761055200@www.projectsharepa.org
SUMMARY:Farmstand
DESCRIPTION:Shopping is by appointment only. Register at https://timetosignup.com/projectsharepa/
URL:https://www.projectsharepa.org/event/farmstand-124/
LOCATION:Pennsylvania
END:VEVENT
BEGIN:VEVENT
DTSTART;TZID=America/New_York:20251018T083000
DTEND;TZID=America/New_York:20251018T120000
DTSTAMP:20260425T071509
CREATED:20250128T160945Z
LAST-MODIFIED:20250128T160946Z
UID:2428-1760776200-1760788800@www.projectsharepa.org
SUMMARY:Your Choice Distribution
DESCRIPTION:Shopping is by appointment only. Register at https://timetosignup.com/projectsharepa/. If it is your first time visiting Project SHARE\, please call (717) 249-7773.
URL:https://www.projectsharepa.org/event/your-choice-distribution-120/
LOCATION:Pennsylvania
END:VEVENT
BEGIN:VEVENT
DTSTART;TZID=America/New_York:20251017T000000
DTEND;TZID=America/New_York:20251017T235959
DTSTAMP:20260425T071509
CREATED:20250128T160913Z
LAST-MODIFIED:20250128T160914Z
UID:2426-1760659200-1760745599@www.projectsharepa.org
SUMMARY:Project SHARE Closed
DESCRIPTION:
URL:https://www.projectsharepa.org/event/project-share-closed-18/
LOCATION:Pennsylvania
END:VEVENT
BEGIN:VEVENT
DTSTART;TZID=America/New_York:20251016T140000
DTEND;TZID=America/New_York:20251016T173000
DTSTAMP:20260425T071509
CREATED:20250128T160852Z
LAST-MODIFIED:20250128T160853Z
UID:2424-1760623200-1760635800@www.projectsharepa.org
SUMMARY:Your Choice Distribution
DESCRIPTION:Shopping is by appointment only. Register at https://timetosignup.com/projectsharepa/. If it is your first time visiting Project SHARE\, please call (717) 249-7773.
URL:https://www.projectsharepa.org/event/your-choice-distribution-119/
LOCATION:Pennsylvania
END:VEVENT
BEGIN:VEVENT
DTSTART;TZID=America/New_York:20251015T140000
DTEND;TZID=America/New_York:20251015T173000
DTSTAMP:20260425T071509
CREATED:20250128T160651Z
LAST-MODIFIED:20250128T160653Z
UID:2422-1760536800-1760549400@www.projectsharepa.org
SUMMARY:Your Choice Distribution
DESCRIPTION:Shopping is by appointment only. Register at https://timetosignup.com/projectsharepa/. If it is your first time visiting Project SHARE\, please call (717) 249-7773.
URL:https://www.projectsharepa.org/event/your-choice-distribution-118/
LOCATION:Pennsylvania
END:VEVENT
BEGIN:VEVENT
DTSTART;TZID=America/New_York:20251015T090000
DTEND;TZID=America/New_York:20251015T120000
DTSTAMP:20260425T071509
CREATED:20250128T160408Z
LAST-MODIFIED:20250128T160409Z
UID:2420-1760518800-1760529600@www.projectsharepa.org
SUMMARY:Your Choice Distribution
DESCRIPTION:Shopping is by appointment only. Register at https://timetosignup.com/projectsharepa/. If it is your first time visiting Project SHARE\, please call (717) 249-7773.
URL:https://www.projectsharepa.org/event/your-choice-distribution-117/
LOCATION:Pennsylvania
END:VEVENT
BEGIN:VEVENT
DTSTART;TZID=America/New_York:20251014T120000
DTEND;TZID=America/New_York:20251014T140000
DTSTAMP:20260425T071509
CREATED:20250128T160307Z
LAST-MODIFIED:20250128T160308Z
UID:2418-1760443200-1760450400@www.projectsharepa.org
SUMMARY:Drive Thru
DESCRIPTION:An appointment is not needed. If it is your first time visiting Project SHARE\, please call (717) 249-7773.
URL:https://www.projectsharepa.org/event/drive-thru-10/
LOCATION:Pennsylvania
END:VEVENT
BEGIN:VEVENT
DTSTART;TZID=America/New_York:20251010T090000
DTEND;TZID=America/New_York:20251010T120000
DTSTAMP:20260425T071509
CREATED:20250128T160121Z
LAST-MODIFIED:20250128T160123Z
UID:2416-1760086800-1760097600@www.projectsharepa.org
SUMMARY:Farmstand
DESCRIPTION:Shopping is by appointment only. Register at https://timetosignup.com/projectsharepa/
URL:https://www.projectsharepa.org/event/farmstand-123/
LOCATION:Pennsylvania
END:VEVENT
BEGIN:VEVENT
DTSTART;TZID=America/New_York:20251009T170000
DTEND;TZID=America/New_York:20251009T183000
DTSTAMP:20260425T071509
CREATED:20250128T160050Z
LAST-MODIFIED:20250128T160051Z
UID:2414-1760029200-1760034600@www.projectsharepa.org
SUMMARY:Slice of the Month
DESCRIPTION:Register at https://timetosignup.com/projectsharepa/
URL:https://www.projectsharepa.org/event/slice-of-the-month-6/
LOCATION:Pennsylvania
END:VEVENT
BEGIN:VEVENT
DTSTART;TZID=America/New_York:20251009T100000
DTEND;TZID=America/New_York:20251009T120000
DTSTAMP:20260425T071509
CREATED:20250128T160016Z
LAST-MODIFIED:20250128T160017Z
UID:2412-1760004000-1760011200@www.projectsharepa.org
SUMMARY:Your Choice Distribution
DESCRIPTION:Shopping is by appointment only. Register at https://timetosignup.com/projectsharepa/. If it is your first time visiting Project SHARE\, please call (717) 249-7773.
URL:https://www.projectsharepa.org/event/your-choice-distribution-116/
LOCATION:Pennsylvania
END:VEVENT
BEGIN:VEVENT
DTSTART;TZID=America/New_York:20251009T093000
DTEND;TZID=America/New_York:20251009T140000
DTSTAMP:20260425T071509
CREATED:20250128T155940Z
LAST-MODIFIED:20250128T155941Z
UID:2410-1760002200-1760018400@www.projectsharepa.org
SUMMARY:Farmstand
DESCRIPTION:Shopping is by appointment only. Register at https://timetosignup.com/projectsharepa/
URL:https://www.projectsharepa.org/event/farmstand-122/
LOCATION:Pennsylvania
END:VEVENT
BEGIN:VEVENT
DTSTART;TZID=America/New_York:20251008T090000
DTEND;TZID=America/New_York:20251008T120000
DTSTAMP:20260425T071509
CREATED:20250128T155858Z
LAST-MODIFIED:20250128T155859Z
UID:2408-1759914000-1759924800@www.projectsharepa.org
SUMMARY:Your Choice Distribution
DESCRIPTION:Shopping is by appointment only. Register at https://timetosignup.com/projectsharepa/. If it is your first time visiting Project SHARE\, please call (717) 249-7773.
URL:https://www.projectsharepa.org/event/your-choice-distribution-115/
LOCATION:Pennsylvania
END:VEVENT
BEGIN:VEVENT
DTSTART;TZID=America/New_York:20251007T150000
DTEND;TZID=America/New_York:20251007T173000
DTSTAMP:20260425T071509
CREATED:20250128T155826Z
LAST-MODIFIED:20250128T155827Z
UID:2406-1759849200-1759858200@www.projectsharepa.org
SUMMARY:Farmstand
DESCRIPTION:Shopping is by appointment only. Register at https://timetosignup.com/projectsharepa/
URL:https://www.projectsharepa.org/event/farmstand-121/
LOCATION:Pennsylvania
END:VEVENT
BEGIN:VEVENT
DTSTART;TZID=America/New_York:20251007T090000
DTEND;TZID=America/New_York:20251007T140000
DTSTAMP:20260425T071509
CREATED:20250128T155755Z
LAST-MODIFIED:20250128T155756Z
UID:2404-1759827600-1759845600@www.projectsharepa.org
SUMMARY:Farmstand
DESCRIPTION:Shopping is by appointment only. Register at https://timetosignup.com/projectsharepa/
URL:https://www.projectsharepa.org/event/farmstand-120/
LOCATION:Pennsylvania
END:VEVENT
BEGIN:VEVENT
DTSTART;TZID=America/New_York:20251004T083000
DTEND;TZID=America/New_York:20251004T120000
DTSTAMP:20260425T071509
CREATED:20250128T155721Z
LAST-MODIFIED:20250128T155722Z
UID:2402-1759566600-1759579200@www.projectsharepa.org
SUMMARY:Your Choice Distribution
DESCRIPTION:Shopping is by appointment only. Register at https://timetosignup.com/projectsharepa/. If it is your first time visiting Project SHARE\, please call (717) 249-7773.
URL:https://www.projectsharepa.org/event/your-choice-distribution-114/
LOCATION:Pennsylvania
END:VEVENT
BEGIN:VEVENT
DTSTART;TZID=America/New_York:20251003T090000
DTEND;TZID=America/New_York:20251003T120000
DTSTAMP:20260425T071509
CREATED:20250128T155632Z
LAST-MODIFIED:20250128T155633Z
UID:2400-1759482000-1759492800@www.projectsharepa.org
SUMMARY:Farmstand
DESCRIPTION:Shopping is by appointment only. Register at https://timetosignup.com/projectsharepa/
URL:https://www.projectsharepa.org/event/farmstand-119/
LOCATION:Pennsylvania
END:VEVENT
BEGIN:VEVENT
DTSTART;TZID=America/New_York:20251002T170000
DTEND;TZID=America/New_York:20251002T183000
DTSTAMP:20260425T071509
CREATED:20250128T155455Z
LAST-MODIFIED:20250128T155456Z
UID:2398-1759424400-1759429800@www.projectsharepa.org
SUMMARY:Kids in the Kitchen
DESCRIPTION:Register at https://timetosignup.com/projectsharepa/
URL:https://www.projectsharepa.org/event/kids-in-the-kitchen-6/
LOCATION:Pennsylvania
END:VEVENT
BEGIN:VEVENT
DTSTART;TZID=America/New_York:20251002T100000
DTEND;TZID=America/New_York:20251002T120000
DTSTAMP:20260425T071509
CREATED:20250128T155411Z
LAST-MODIFIED:20250128T155412Z
UID:2396-1759399200-1759406400@www.projectsharepa.org
SUMMARY:Your Choice Distribution
DESCRIPTION:Shopping is by appointment only. Register at https://timetosignup.com/projectsharepa/. If it is your first time visiting Project SHARE\, please call (717) 249-7773.
URL:https://www.projectsharepa.org/event/your-choice-distribution-113/
LOCATION:Pennsylvania
END:VEVENT
BEGIN:VEVENT
DTSTART;TZID=America/New_York:20251002T093000
DTEND;TZID=America/New_York:20251002T140000
DTSTAMP:20260425T071509
CREATED:20250128T155302Z
LAST-MODIFIED:20250128T155303Z
UID:2394-1759397400-1759413600@www.projectsharepa.org
SUMMARY:Farmstand
DESCRIPTION:Shopping is by appointment only. Register at https://timetosignup.com/projectsharepa/
URL:https://www.projectsharepa.org/event/farmstand-118/
LOCATION:Pennsylvania
END:VEVENT
BEGIN:VEVENT
DTSTART;TZID=America/New_York:20251001T140000
DTEND;TZID=America/New_York:20251001T173000
DTSTAMP:20260425T071509
CREATED:20250128T155214Z
LAST-MODIFIED:20250128T155215Z
UID:2392-1759327200-1759339800@www.projectsharepa.org
SUMMARY:Your Choice Distribution
DESCRIPTION:Shopping is by appointment only. Register at https://timetosignup.com/projectsharepa/. If it is your first time visiting Project SHARE\, please call (717) 249-7773.
URL:https://www.projectsharepa.org/event/your-choice-distribution-112/
LOCATION:Pennsylvania
END:VEVENT
BEGIN:VEVENT
DTSTART;TZID=America/New_York:20251001T090000
DTEND;TZID=America/New_York:20251001T120000
DTSTAMP:20260425T071509
CREATED:20250128T155054Z
LAST-MODIFIED:20250128T155056Z
UID:2390-1759309200-1759320000@www.projectsharepa.org
SUMMARY:Your Choice Distribution
DESCRIPTION:Shopping is by appointment only. Register at https://timetosignup.com/projectsharepa/. If it is your first time visiting Project SHARE\, please call (717) 249-7773.
URL:https://www.projectsharepa.org/event/your-choice-distribution-111/
LOCATION:Pennsylvania
END:VEVENT
BEGIN:VEVENT
DTSTART;TZID=America/New_York:20250930T150000
DTEND;TZID=America/New_York:20250930T173000
DTSTAMP:20260425T071509
CREATED:20250128T153948Z
LAST-MODIFIED:20250128T153949Z
UID:2388-1759244400-1759253400@www.projectsharepa.org
SUMMARY:Farmstand
DESCRIPTION:Shopping is by appointment only. Register at https://timetosignup.com/projectsharepa/
URL:https://www.projectsharepa.org/event/farmstand-117/
LOCATION:Pennsylvania
END:VEVENT
BEGIN:VEVENT
DTSTART;TZID=America/New_York:20250930T090000
DTEND;TZID=America/New_York:20250930T140000
DTSTAMP:20260425T071509
CREATED:20250128T153920Z
LAST-MODIFIED:20250128T153921Z
UID:2386-1759222800-1759240800@www.projectsharepa.org
SUMMARY:Farmstand
DESCRIPTION:Shopping is by appointment only. Register at https://timetosignup.com/projectsharepa/
URL:https://www.projectsharepa.org/event/farmstand-116/
LOCATION:Pennsylvania
END:VEVENT
BEGIN:VEVENT
DTSTART;TZID=America/New_York:20250926T090000
DTEND;TZID=America/New_York:20250926T120000
DTSTAMP:20260425T071509
CREATED:20250128T153846Z
LAST-MODIFIED:20250128T153847Z
UID:2384-1758877200-1758888000@www.projectsharepa.org
SUMMARY:Farmstand
DESCRIPTION:Shopping is by appointment only. Register at https://timetosignup.com/projectsharepa/
URL:https://www.projectsharepa.org/event/farmstand-115/
LOCATION:Pennsylvania
END:VEVENT
BEGIN:VEVENT
DTSTART;TZID=America/New_York:20250925T100000
DTEND;TZID=America/New_York:20250925T120000
DTSTAMP:20260425T071509
CREATED:20250128T153810Z
LAST-MODIFIED:20250128T153811Z
UID:2382-1758794400-1758801600@www.projectsharepa.org
SUMMARY:Your Choice Distribution
DESCRIPTION:Shopping is by appointment only. Register at https://timetosignup.com/projectsharepa/. If it is your first time visiting Project SHARE\, please call (717) 249-7773.
URL:https://www.projectsharepa.org/event/your-choice-distribution-110/
LOCATION:Pennsylvania
END:VEVENT
BEGIN:VEVENT
DTSTART;TZID=America/New_York:20250925T093000
DTEND;TZID=America/New_York:20250925T140000
DTSTAMP:20260425T071509
CREATED:20250128T153736Z
LAST-MODIFIED:20250128T153737Z
UID:2380-1758792600-1758808800@www.projectsharepa.org
SUMMARY:Farmstand
DESCRIPTION:Shopping is by appointment only. Register at https://timetosignup.com/projectsharepa/
URL:https://www.projectsharepa.org/event/farmstand-114/
LOCATION:Pennsylvania
END:VEVENT
BEGIN:VEVENT
DTSTART;TZID=America/New_York:20250924T090000
DTEND;TZID=America/New_York:20250924T120000
DTSTAMP:20260425T071509
CREATED:20250128T153655Z
LAST-MODIFIED:20250128T153657Z
UID:2378-1758704400-1758715200@www.projectsharepa.org
SUMMARY:Your Choice Distribution
DESCRIPTION:Shopping is by appointment only. Register at https://timetosignup.com/projectsharepa/. If it is your first time visiting Project SHARE\, please call (717) 249-7773.
URL:https://www.projectsharepa.org/event/your-choice-distribution-109/
LOCATION:Pennsylvania
END:VEVENT
BEGIN:VEVENT
DTSTART;TZID=America/New_York:20250923T150000
DTEND;TZID=America/New_York:20250923T173000
DTSTAMP:20260425T071509
CREATED:20250128T153601Z
LAST-MODIFIED:20250128T153602Z
UID:2376-1758639600-1758648600@www.projectsharepa.org
SUMMARY:Farmstand
DESCRIPTION:Shopping is by appointment only. Register at https://timetosignup.com/projectsharepa/
URL:https://www.projectsharepa.org/event/farmstand-113/
LOCATION:Pennsylvania
END:VEVENT
BEGIN:VEVENT
DTSTART;TZID=America/New_York:20250923T090000
DTEND;TZID=America/New_York:20250923T140000
DTSTAMP:20260425T071509
CREATED:20250128T153533Z
LAST-MODIFIED:20250128T153534Z
UID:2374-1758618000-1758636000@www.projectsharepa.org
SUMMARY:Farmstand
DESCRIPTION:Shopping is by appointment only. Register at https://timetosignup.com/projectsharepa/
URL:https://www.projectsharepa.org/event/farmstand-112/
LOCATION:Pennsylvania
END:VEVENT
BEGIN:VEVENT
DTSTART;TZID=America/New_York:20250920T083000
DTEND;TZID=America/New_York:20250920T120000
DTSTAMP:20260425T071509
CREATED:20250128T153356Z
LAST-MODIFIED:20250128T153357Z
UID:2372-1758357000-1758369600@www.projectsharepa.org
SUMMARY:Your Choice Distribution
DESCRIPTION:Shopping is by appointment only. Register at https://timetosignup.com/projectsharepa/. If it is your first time visiting Project SHARE\, please call (717) 249-7773.
URL:https://www.projectsharepa.org/event/your-choice-distribution-108/
LOCATION:Pennsylvania
END:VEVENT
END:VCALENDAR