BEGIN:VCALENDAR
VERSION:2.0
PRODID:-//Project SHARE - ECPv6.15.20//NONSGML v1.0//EN
CALSCALE:GREGORIAN
METHOD:PUBLISH
X-WR-CALNAME:Project SHARE
X-ORIGINAL-URL:https://www.projectsharepa.org
X-WR-CALDESC:Events for Project SHARE
REFRESH-INTERVAL;VALUE=DURATION:PT1H
X-Robots-Tag:noindex
X-PUBLISHED-TTL:PT1H
BEGIN:VTIMEZONE
TZID:America/New_York
BEGIN:DAYLIGHT
TZOFFSETFROM:-0500
TZOFFSETTO:-0400
TZNAME:EDT
DTSTART:20240310T070000
END:DAYLIGHT
BEGIN:STANDARD
TZOFFSETFROM:-0400
TZOFFSETTO:-0500
TZNAME:EST
DTSTART:20241103T060000
END:STANDARD
BEGIN:DAYLIGHT
TZOFFSETFROM:-0500
TZOFFSETTO:-0400
TZNAME:EDT
DTSTART:20250309T070000
END:DAYLIGHT
BEGIN:STANDARD
TZOFFSETFROM:-0400
TZOFFSETTO:-0500
TZNAME:EST
DTSTART:20251102T060000
END:STANDARD
BEGIN:DAYLIGHT
TZOFFSETFROM:-0500
TZOFFSETTO:-0400
TZNAME:EDT
DTSTART:20260308T070000
END:DAYLIGHT
BEGIN:STANDARD
TZOFFSETFROM:-0400
TZOFFSETTO:-0500
TZNAME:EST
DTSTART:20261101T060000
END:STANDARD
BEGIN:DAYLIGHT
TZOFFSETFROM:-0500
TZOFFSETTO:-0400
TZNAME:EDT
DTSTART:20270314T070000
END:DAYLIGHT
BEGIN:STANDARD
TZOFFSETFROM:-0400
TZOFFSETTO:-0500
TZNAME:EST
DTSTART:20271107T060000
END:STANDARD
END:VTIMEZONE
BEGIN:VEVENT
DTSTART;TZID=America/New_York:20260122T170000
DTEND;TZID=America/New_York:20260122T183000
DTSTAMP:20260425T121615
CREATED:20251229T144224Z
LAST-MODIFIED:20251229T144225Z
UID:3069-1769101200-1769106600@www.projectsharepa.org
SUMMARY:Kids in the Kitchen
DESCRIPTION:Kids in the Kitchen is designed for children aged 7-14 to learn basic nutrition and gain valuable cooking skills through hands-on learning and collaboration with fellow classmates. \n\n\n\nRegister at https://timetosignup.com/projectsharepa/ \n\n\n\nLearn more about our cooking classes.
URL:https://www.projectsharepa.org/event/kids-in-the-kitchen-10/
LOCATION:Project SHARE Headquarters\, 5 N. Orange St. Suite #4\, Carlisle\, Pennsylvania\, 17013\, United States
CATEGORIES:Cooking Classes
END:VEVENT
BEGIN:VEVENT
DTSTART;TZID=America/New_York:20260122T123000
DTEND;TZID=America/New_York:20260122T143000
DTSTAMP:20260425T121615
CREATED:20260115T134109Z
LAST-MODIFIED:20260115T134110Z
UID:3748-1769085000-1769092200@www.projectsharepa.org
SUMMARY:SHARE Community Class
DESCRIPTION:In partnership with Penn State Health: Know Your Numbers for Better Health \n\n\n\nPresented by Julie Groh\, Community Health Nurse with Penn State Health \n\n\n\nLearn about your risk for cardiovascular disease by knowing your numbers and what they mean. Your numbers include your blood pressure\, blood sugar and cholesterol. Screenings will be done before and after the presentation so you will leave “knowing your numbers.” \n\n\n\nRegister Here: ttsu.me/knowyournumbers \n\n\n\nLunch & childcare will be provided! Also\, each registered participant will receive a SHARE the Health Box. Our SHARE the Health Box meal kits include two complete meals with ingredients and recipes\, each serving 4-6 people. \n\n\n\nQuestions? Contact Alicia\, SHARE Support Program Coordinator at support@projectsharepa.org or (717) 249-7773 ext. 246
URL:https://www.projectsharepa.org/event/share-community-class/
LOCATION:Project SHARE Headquarters\, 5 N. Orange St. Suite #4\, Carlisle\, Pennsylvania\, 17013\, United States
END:VEVENT
BEGIN:VEVENT
DTSTART;TZID=America/New_York:20260122T090000
DTEND;TZID=America/New_York:20260122T140000
DTSTAMP:20260425T121615
CREATED:20251210T211337Z
LAST-MODIFIED:20251212T175513Z
UID:2944-1769072400-1769090400@www.projectsharepa.org
SUMMARY:Farmstand
DESCRIPTION:Shopping is by appointment only. Register at https://timetosignup.com/projectsharepa/ \n\n\n\nLearn more about our Farmstand.
URL:https://www.projectsharepa.org/event/farmstand-154/
LOCATION:Project SHARE Farmstand\, 123 Lincoln St\, Carlisle\, Pennsylvania\, 17013\, United States
CATEGORIES:Farmstand,Farmstand
END:VEVENT
BEGIN:VEVENT
DTSTART;TZID=America/New_York:20260122T090000
DTEND;TZID=America/New_York:20260122T120000
DTSTAMP:20260425T121615
CREATED:20251210T211240Z
LAST-MODIFIED:20251212T175411Z
UID:2942-1769072400-1769083200@www.projectsharepa.org
SUMMARY:Your Choice Pantry
DESCRIPTION:Shopping is by appointment only. Register at https://timetosignup.com/projectsharepa/. If it is your first time visiting Project SHARE\, please call (717) 249-7773. \n\n\n\nLearn more about our Distribution.
URL:https://www.projectsharepa.org/event/your-choice-pantry-10/
LOCATION:Project SHARE Headquarters\, 5 N. Orange St. Suite #4\, Carlisle\, Pennsylvania\, 17013\, United States
CATEGORIES:Your Choice Pantry,Your Choice Pantry
END:VEVENT
BEGIN:VEVENT
DTSTART;TZID=America/New_York:20260121T140000
DTEND;TZID=America/New_York:20260121T173000
DTSTAMP:20260425T121615
CREATED:20251210T211129Z
LAST-MODIFIED:20251212T175335Z
UID:2940-1769004000-1769016600@www.projectsharepa.org
SUMMARY:Your Choice Pantry
DESCRIPTION:Shopping is by appointment only. Register at https://timetosignup.com/projectsharepa/. If it is your first time visiting Project SHARE\, please call (717) 249-7773. \n\n\n\nLearn more about our Distribution.
URL:https://www.projectsharepa.org/event/your-choice-pantry-9/
LOCATION:Project SHARE Headquarters\, 5 N. Orange St. Suite #4\, Carlisle\, Pennsylvania\, 17013\, United States
CATEGORIES:Your Choice Pantry,Your Choice Pantry
END:VEVENT
BEGIN:VEVENT
DTSTART;TZID=America/New_York:20260121T090000
DTEND;TZID=America/New_York:20260121T120000
DTSTAMP:20260425T121615
CREATED:20251210T211038Z
LAST-MODIFIED:20251212T175307Z
UID:2938-1768986000-1768996800@www.projectsharepa.org
SUMMARY:Your Choice Pantry
DESCRIPTION:Shopping is by appointment only. Register at https://timetosignup.com/projectsharepa/. If it is your first time visiting Project SHARE\, please call (717) 249-7773. \n\n\n\nLearn more about our Distribution.
URL:https://www.projectsharepa.org/event/your-choice-pantry-8/
LOCATION:Project SHARE Headquarters\, 5 N. Orange St. Suite #4\, Carlisle\, Pennsylvania\, 17013\, United States
CATEGORIES:Your Choice Pantry,Your Choice Pantry
END:VEVENT
BEGIN:VEVENT
DTSTART;TZID=America/New_York:20260120T090000
DTEND;TZID=America/New_York:20260120T140000
DTSTAMP:20260425T121615
CREATED:20251210T210901Z
LAST-MODIFIED:20251212T175224Z
UID:2936-1768899600-1768917600@www.projectsharepa.org
SUMMARY:Farmstand
DESCRIPTION:Shopping is by appointment only. Register at https://timetosignup.com/projectsharepa/ \n\n\n\nLearn more about our Farmstand.
URL:https://www.projectsharepa.org/event/farmstand-153/
LOCATION:Project SHARE Farmstand\, 123 Lincoln St\, Carlisle\, Pennsylvania\, 17013\, United States
CATEGORIES:Farmstand,Farmstand
END:VEVENT
BEGIN:VEVENT
DTSTART;TZID=America/New_York:20260119T000000
DTEND;TZID=America/New_York:20260119T235959
DTSTAMP:20260425T121615
CREATED:20251210T210755Z
LAST-MODIFIED:20251210T210756Z
UID:2934-1768780800-1768867199@www.projectsharepa.org
SUMMARY:Project SHARE Closed
DESCRIPTION:Martin Luther King Jr. Day
URL:https://www.projectsharepa.org/event/project-share-closed-28/
LOCATION:Pennsylvania
END:VEVENT
BEGIN:VEVENT
DTSTART;TZID=America/New_York:20260117T103000
DTEND;TZID=America/New_York:20260117T120000
DTSTAMP:20260425T121615
CREATED:20251229T150243Z
LAST-MODIFIED:20251229T150244Z
UID:3107-1768645800-1768651200@www.projectsharepa.org
SUMMARY:The Sharing Table
DESCRIPTION:The Sharing Table is a fun weekend activity that allows families to cook alongside one another\, offering a relaxing\, less structured environment designed to foster positive experiences between parents and children in the kitchen. \n\n\n\nRegister at https://timetosignup.com/projectsharepa/ \n\n\n\nLearn more about our cooking classes.
URL:https://www.projectsharepa.org/event/the-sharing-table/
LOCATION:Project SHARE Farmstand\, 123 Lincoln St\, Carlisle\, Pennsylvania\, 17013\, United States
CATEGORIES:Cooking Classes
END:VEVENT
BEGIN:VEVENT
DTSTART;TZID=America/New_York:20260117T083000
DTEND;TZID=America/New_York:20260117T120000
DTSTAMP:20260425T121615
CREATED:20251210T210650Z
LAST-MODIFIED:20251212T175145Z
UID:2932-1768638600-1768651200@www.projectsharepa.org
SUMMARY:Your Choice Pantry
DESCRIPTION:Shopping is by appointment only. Register at https://timetosignup.com/projectsharepa/. If it is your first time visiting Project SHARE\, please call (717) 249-7773. \n\n\n\nLearn more about our Distribution.
URL:https://www.projectsharepa.org/event/your-choice-pantry-7/
LOCATION:Project SHARE Headquarters\, 5 N. Orange St. Suite #4\, Carlisle\, Pennsylvania\, 17013\, United States
CATEGORIES:Your Choice Pantry,Your Choice Pantry
END:VEVENT
BEGIN:VEVENT
DTSTART;TZID=America/New_York:20260116T000000
DTEND;TZID=America/New_York:20260116T235959
DTSTAMP:20260425T121615
CREATED:20251210T210546Z
LAST-MODIFIED:20251210T210547Z
UID:2930-1768521600-1768607999@www.projectsharepa.org
SUMMARY:Project SHARE Closed
DESCRIPTION:
URL:https://www.projectsharepa.org/event/project-share-closed-27/
LOCATION:Pennsylvania
END:VEVENT
BEGIN:VEVENT
DTSTART;TZID=America/New_York:20260115T170000
DTEND;TZID=America/New_York:20260115T183000
DTSTAMP:20260425T121615
CREATED:20251229T145725Z
LAST-MODIFIED:20251229T145726Z
UID:3097-1768496400-1768501800@www.projectsharepa.org
SUMMARY:Slice of the Month
DESCRIPTION:In this class\, adults learn how to prepare easy\, delicious recipes with the foods available during Distribution and/or Farmstand each month. Participants walk away with a simple recipe and its ingredients as well as relationships with fellow Project SHARE community members. \n\n\n\nRegister at https://timetosignup.com/projectsharepa/ \n\n\n\nLearn more about our cooking classes.
URL:https://www.projectsharepa.org/event/slice-of-the-month-3/
LOCATION:Project SHARE Farmstand\, 123 Lincoln St\, Carlisle\, Pennsylvania\, 17013\, United States
CATEGORIES:Cooking Classes
END:VEVENT
BEGIN:VEVENT
DTSTART;TZID=America/New_York:20260115T140000
DTEND;TZID=America/New_York:20260115T173000
DTSTAMP:20260425T121615
CREATED:20251210T210509Z
LAST-MODIFIED:20251212T175103Z
UID:2928-1768485600-1768498200@www.projectsharepa.org
SUMMARY:Your Choice Pantry
DESCRIPTION:Shopping is by appointment only. Register at https://timetosignup.com/projectsharepa/. If it is your first time visiting Project SHARE\, please call (717) 249-7773. \n\n\n\nLearn more about our Distribution.
URL:https://www.projectsharepa.org/event/your-choice-pantry-6/
LOCATION:Project SHARE Headquarters\, 5 N. Orange St. Suite #4\, Carlisle\, Pennsylvania\, 17013\, United States
CATEGORIES:Your Choice Pantry,Your Choice Pantry
END:VEVENT
BEGIN:VEVENT
DTSTART;TZID=America/New_York:20260114T140000
DTEND;TZID=America/New_York:20260114T173000
DTSTAMP:20260425T121615
CREATED:20251210T210400Z
LAST-MODIFIED:20251212T175038Z
UID:2926-1768399200-1768411800@www.projectsharepa.org
SUMMARY:Your Choice Pantry
DESCRIPTION:Shopping is by appointment only. Register at https://timetosignup.com/projectsharepa/. If it is your first time visiting Project SHARE\, please call (717) 249-7773. \n\n\n\nLearn more about our Distribution.
URL:https://www.projectsharepa.org/event/your-choice-pantry-5/
LOCATION:Project SHARE Headquarters\, 5 N. Orange St. Suite #4\, Carlisle\, Pennsylvania\, 17013\, United States
CATEGORIES:Your Choice Pantry,Your Choice Pantry
END:VEVENT
BEGIN:VEVENT
DTSTART;TZID=America/New_York:20260114T080000
DTEND;TZID=America/New_York:20260114T120000
DTSTAMP:20260425T121615
CREATED:20251210T210253Z
LAST-MODIFIED:20251212T175017Z
UID:2924-1768377600-1768392000@www.projectsharepa.org
SUMMARY:Your Choice Pantry
DESCRIPTION:Shopping is by appointment only. Register at https://timetosignup.com/projectsharepa/. If it is your first time visiting Project SHARE\, please call (717) 249-7773. \n\n\n\nLearn more about our Distribution.
URL:https://www.projectsharepa.org/event/your-choice-pantry-4/
LOCATION:Project SHARE Headquarters\, 5 N. Orange St. Suite #4\, Carlisle\, Pennsylvania\, 17013\, United States
CATEGORIES:Your Choice Pantry,Your Choice Pantry
END:VEVENT
BEGIN:VEVENT
DTSTART;TZID=America/New_York:20260113T120000
DTEND;TZID=America/New_York:20260113T140000
DTSTAMP:20260425T121615
CREATED:20251210T212350Z
LAST-MODIFIED:20251212T174938Z
UID:2958-1768305600-1768312800@www.projectsharepa.org
SUMMARY:Drive Thru
DESCRIPTION:An appointment is not needed. If it is your first time visiting Project SHARE\, please call (717) 249-7773. \n\n\n\nLearn more about our Distribution here.
URL:https://www.projectsharepa.org/event/drive-thru-13/
LOCATION:Project SHARE Headquarters\, 5 N. Orange St. Suite #4\, Carlisle\, Pennsylvania\, 17013\, United States
CATEGORIES:Drive Thru
END:VEVENT
BEGIN:VEVENT
DTSTART;TZID=America/New_York:20260110T083000
DTEND;TZID=America/New_York:20260110T120000
DTSTAMP:20260425T121615
CREATED:20251210T210131Z
LAST-MODIFIED:20251212T174912Z
UID:2922-1768033800-1768046400@www.projectsharepa.org
SUMMARY:Your Choice Pantry
DESCRIPTION:Shopping is by appointment only. Register at https://timetosignup.com/projectsharepa/. If it is your first time visiting Project SHARE\, please call (717) 249-7773. \n\n\n\nLearn more about our Distribution.
URL:https://www.projectsharepa.org/event/your-choice-pantry-3/
LOCATION:Project SHARE Headquarters\, 5 N. Orange St. Suite #4\, Carlisle\, Pennsylvania\, 17013\, United States
CATEGORIES:Your Choice Pantry,Your Choice Pantry
END:VEVENT
BEGIN:VEVENT
DTSTART;TZID=America/New_York:20260109T090000
DTEND;TZID=America/New_York:20260109T120000
DTSTAMP:20260425T121615
CREATED:20251210T192848Z
LAST-MODIFIED:20251212T174824Z
UID:2911-1767949200-1767960000@www.projectsharepa.org
SUMMARY:Farmstand
DESCRIPTION:Shopping is by appointment only. Register at https://timetosignup.com/projectsharepa/ \n\n\n\nLearn more about our Farmstand.
URL:https://www.projectsharepa.org/event/farmstand-152/
LOCATION:Project SHARE Farmstand\, 123 Lincoln St\, Carlisle\, Pennsylvania\, 17013\, United States
CATEGORIES:Farmstand,Farmstand
END:VEVENT
BEGIN:VEVENT
DTSTART;TZID=America/New_York:20260108T170000
DTEND;TZID=America/New_York:20260108T183000
DTSTAMP:20260425T121615
CREATED:20251229T144126Z
LAST-MODIFIED:20251229T144127Z
UID:3067-1767891600-1767897000@www.projectsharepa.org
SUMMARY:Kids in the Kitchen
DESCRIPTION:Kids in the Kitchen is designed for children aged 7-14 to learn basic nutrition and gain valuable cooking skills through hands-on learning and collaboration with fellow classmates. \n\n\n\nRegister at https://timetosignup.com/projectsharepa/ \n\n\n\nLearn more about our cooking classes.
URL:https://www.projectsharepa.org/event/kids-in-the-kitchen-9/
LOCATION:Project SHARE Headquarters\, 5 N. Orange St. Suite #4\, Carlisle\, Pennsylvania\, 17013\, United States
CATEGORIES:Cooking Classes
END:VEVENT
BEGIN:VEVENT
DTSTART;TZID=America/New_York:20260108T090000
DTEND;TZID=America/New_York:20260108T140000
DTSTAMP:20260425T121615
CREATED:20251210T192744Z
LAST-MODIFIED:20251212T174754Z
UID:2909-1767862800-1767880800@www.projectsharepa.org
SUMMARY:Farmstand
DESCRIPTION:Shopping is by appointment only. Register at https://timetosignup.com/projectsharepa/ \n\n\n\nLearn more about our Farmstand.
URL:https://www.projectsharepa.org/event/farmstand-151/
LOCATION:Project SHARE Farmstand\, 123 Lincoln St\, Carlisle\, Pennsylvania\, 17013\, United States
CATEGORIES:Farmstand,Farmstand
END:VEVENT
BEGIN:VEVENT
DTSTART;TZID=America/New_York:20260108T090000
DTEND;TZID=America/New_York:20260108T120000
DTSTAMP:20260425T121615
CREATED:20251210T192125Z
LAST-MODIFIED:20251212T174715Z
UID:2907-1767862800-1767873600@www.projectsharepa.org
SUMMARY:Your Choice Pantry
DESCRIPTION:Shopping is by appointment only. Register at https://timetosignup.com/projectsharepa/. If it is your first time visiting Project SHARE\, please call (717) 249-7773. \n\n\n\nLearn more about our Distribution.
URL:https://www.projectsharepa.org/event/your-choice-pantry-2/
LOCATION:Project SHARE Headquarters\, 5 N. Orange St. Suite #4\, Carlisle\, Pennsylvania\, 17013\, United States
CATEGORIES:Your Choice Pantry,Your Choice Pantry
END:VEVENT
BEGIN:VEVENT
DTSTART;TZID=America/New_York:20260107T090000
DTEND;TZID=America/New_York:20260107T120000
DTSTAMP:20260425T121615
CREATED:20251210T192018Z
LAST-MODIFIED:20251212T174626Z
UID:2905-1767776400-1767787200@www.projectsharepa.org
SUMMARY:Your Choice Pantry
DESCRIPTION:Shopping is by appointment only. Register at https://timetosignup.com/projectsharepa/. If it is your first time visiting Project SHARE\, please call (717) 249-7773. \n\n\n\nLearn more about our Distribution.
URL:https://www.projectsharepa.org/event/your-choice-pantry/
LOCATION:Project SHARE Headquarters\, 5 N. Orange St. Suite #4\, Carlisle\, Pennsylvania\, 17013\, United States
CATEGORIES:Your Choice Pantry,Your Choice Pantry
END:VEVENT
BEGIN:VEVENT
DTSTART;TZID=America/New_York:20260106T150000
DTEND;TZID=America/New_York:20260106T173000
DTSTAMP:20260425T121615
CREATED:20251210T191843Z
LAST-MODIFIED:20251212T174336Z
UID:2903-1767711600-1767720600@www.projectsharepa.org
SUMMARY:Farmstand
DESCRIPTION:Shopping is by appointment only. Register at https://timetosignup.com/projectsharepa/ \n\n\n\nLearn more about our Farmstand.
URL:https://www.projectsharepa.org/event/farmstand-140/
LOCATION:Project SHARE Farmstand\, 123 Lincoln St\, Carlisle\, Pennsylvania\, 17013\, United States
CATEGORIES:Farmstand,Farmstand
END:VEVENT
BEGIN:VEVENT
DTSTART;TZID=America/New_York:20260106T090000
DTEND;TZID=America/New_York:20260106T140000
DTSTAMP:20260425T121615
CREATED:20251210T191745Z
LAST-MODIFIED:20251212T174304Z
UID:2901-1767690000-1767708000@www.projectsharepa.org
SUMMARY:Farmstand
DESCRIPTION:Shopping is by appointment only. Register at https://timetosignup.com/projectsharepa/ \n\n\n\nLearn more about our Farmstand.
URL:https://www.projectsharepa.org/event/farmstand-139/
LOCATION:Project SHARE Farmstand\, 123 Lincoln St\, Carlisle\, Pennsylvania\, 17013\, United States
CATEGORIES:Farmstand,Farmstand
END:VEVENT
BEGIN:VEVENT
DTSTART;TZID=America/New_York:20260102T090000
DTEND;TZID=America/New_York:20260102T120000
DTSTAMP:20260425T121615
CREATED:20251210T191653Z
LAST-MODIFIED:20251212T174226Z
UID:2899-1767344400-1767355200@www.projectsharepa.org
SUMMARY:Farmstand
DESCRIPTION:Shopping is by appointment only. Register at https://timetosignup.com/projectsharepa/ \n\n\n\nLearn more about our Farmstand.
URL:https://www.projectsharepa.org/event/farmstand-138/
LOCATION:Project SHARE Farmstand\, 123 Lincoln St\, Carlisle\, Pennsylvania\, 17013\, United States
CATEGORIES:Farmstand,Farmstand
END:VEVENT
BEGIN:VEVENT
DTSTART;TZID=America/New_York:20260101T000000
DTEND;TZID=America/New_York:20260101T235959
DTSTAMP:20260425T121615
CREATED:20251210T190504Z
LAST-MODIFIED:20251210T202448Z
UID:2884-1767225600-1767311999@www.projectsharepa.org
SUMMARY:Project SHARE Closed
DESCRIPTION:New Year’s Day
URL:https://www.projectsharepa.org/event/project-share-closed-26/
LOCATION:Pennsylvania
END:VEVENT
BEGIN:VEVENT
DTSTART;TZID=America/New_York:20251230T090000
DTEND;TZID=America/New_York:20251230T120000
DTSTAMP:20260425T121615
CREATED:20250128T200011Z
LAST-MODIFIED:20250128T200012Z
UID:2570-1767085200-1767096000@www.projectsharepa.org
SUMMARY:Your Choice Distribution
DESCRIPTION:Shopping is by appointment only. Register at https://timetosignup.com/projectsharepa/. If it is your first time visiting Project SHARE\, please call (717) 249-7773.
URL:https://www.projectsharepa.org/event/your-choice-distribution-149/
LOCATION:Pennsylvania
END:VEVENT
BEGIN:VEVENT
DTSTART;TZID=America/New_York:20251226T000000
DTEND;TZID=America/New_York:20251226T235959
DTSTAMP:20260425T121615
CREATED:20251223T145205Z
LAST-MODIFIED:20251223T145206Z
UID:3059-1766707200-1766793599@www.projectsharepa.org
SUMMARY:Project SHARE Closed
DESCRIPTION:
URL:https://www.projectsharepa.org/event/project-share-closed-31/
LOCATION:Pennsylvania
END:VEVENT
BEGIN:VEVENT
DTSTART;TZID=America/New_York:20251225T000000
DTEND;TZID=America/New_York:20251225T235959
DTSTAMP:20260425T121615
CREATED:20250128T195714Z
LAST-MODIFIED:20250128T195714Z
UID:2566-1766620800-1766707199@www.projectsharepa.org
SUMMARY:Project SHARE Closed
DESCRIPTION:Christmas Day
URL:https://www.projectsharepa.org/event/project-share-closed-25/
LOCATION:Pennsylvania
END:VEVENT
BEGIN:VEVENT
DTSTART;TZID=America/New_York:20251224T000000
DTEND;TZID=America/New_York:20251224T235959
DTSTAMP:20260425T121615
CREATED:20250128T195429Z
LAST-MODIFIED:20250128T195430Z
UID:2564-1766534400-1766620799@www.projectsharepa.org
SUMMARY:Project SHARE Closed
DESCRIPTION:Christmas Eve
URL:https://www.projectsharepa.org/event/project-share-closed-24/
LOCATION:Pennsylvania
END:VEVENT
END:VCALENDAR