BEGIN:VCALENDAR
VERSION:2.0
PRODID:-//Project SHARE - ECPv6.15.20//NONSGML v1.0//EN
CALSCALE:GREGORIAN
METHOD:PUBLISH
X-ORIGINAL-URL:https://www.projectsharepa.org
X-WR-CALDESC:Events for Project SHARE
REFRESH-INTERVAL;VALUE=DURATION:PT1H
X-Robots-Tag:noindex
X-PUBLISHED-TTL:PT1H
BEGIN:VTIMEZONE
TZID:America/New_York
BEGIN:DAYLIGHT
TZOFFSETFROM:-0500
TZOFFSETTO:-0400
TZNAME:EDT
DTSTART:20250309T070000
END:DAYLIGHT
BEGIN:STANDARD
TZOFFSETFROM:-0400
TZOFFSETTO:-0500
TZNAME:EST
DTSTART:20251102T060000
END:STANDARD
BEGIN:DAYLIGHT
TZOFFSETFROM:-0500
TZOFFSETTO:-0400
TZNAME:EDT
DTSTART:20260308T070000
END:DAYLIGHT
BEGIN:STANDARD
TZOFFSETFROM:-0400
TZOFFSETTO:-0500
TZNAME:EST
DTSTART:20261101T060000
END:STANDARD
BEGIN:DAYLIGHT
TZOFFSETFROM:-0500
TZOFFSETTO:-0400
TZNAME:EDT
DTSTART:20270314T070000
END:DAYLIGHT
BEGIN:STANDARD
TZOFFSETFROM:-0400
TZOFFSETTO:-0500
TZNAME:EST
DTSTART:20271107T060000
END:STANDARD
END:VTIMEZONE
BEGIN:VEVENT
DTSTART;TZID=America/New_York:20260903T090000
DTEND;TZID=America/New_York:20260903T140000
DTSTAMP:20260425T065034
CREATED:20251230T190236Z
LAST-MODIFIED:20251230T190237Z
UID:3401-1788426000-1788444000@www.projectsharepa.org
SUMMARY:Farmstand
DESCRIPTION:Shopping is by appointment only. Register at https://timetosignup.com/projectsharepa/ \n\n\n\nLearn more about our Farmstand.
URL:https://www.projectsharepa.org/event/farmstand-232/
LOCATION:Project SHARE Farmstand\, 123 Lincoln St\, Carlisle\, Pennsylvania\, 17013\, United States
CATEGORIES:Farmstand,Farmstand
END:VEVENT
BEGIN:VEVENT
DTSTART;TZID=America/New_York:20260903T140000
DTEND;TZID=America/New_York:20260903T173000
DTSTAMP:20260425T065034
CREATED:20251230T190149Z
LAST-MODIFIED:20251230T190150Z
UID:3399-1788444000-1788456600@www.projectsharepa.org
SUMMARY:Your Choice Pantry
DESCRIPTION:Shopping is by appointment only. Register at https://timetosignup.com/projectsharepa/. If it is your first time visiting Project SHARE\, please call (717) 249-7773. \n\n\n\nLearn more about our Distribution.
URL:https://www.projectsharepa.org/event/your-choice-pantry-77/
LOCATION:Project SHARE Headquarters\, 5 N. Orange St. Suite #4\, Carlisle\, Pennsylvania\, 17013\, United States
CATEGORIES:Your Choice Pantry,Your Choice Pantry
END:VEVENT
BEGIN:VEVENT
DTSTART;TZID=America/New_York:20260904T090000
DTEND;TZID=America/New_York:20260904T120000
DTSTAMP:20260425T065034
CREATED:20251230T190322Z
LAST-MODIFIED:20251230T190323Z
UID:3403-1788512400-1788523200@www.projectsharepa.org
SUMMARY:Farmstand
DESCRIPTION:Shopping is by appointment only. Register at https://timetosignup.com/projectsharepa/ \n\n\n\nLearn more about our Farmstand.
URL:https://www.projectsharepa.org/event/farmstand-233/
LOCATION:Project SHARE Farmstand\, 123 Lincoln St\, Carlisle\, Pennsylvania\, 17013\, United States
CATEGORIES:Farmstand,Farmstand
END:VEVENT
BEGIN:VEVENT
DTSTART;TZID=America/New_York:20260905T083000
DTEND;TZID=America/New_York:20260905T120000
DTSTAMP:20260425T065034
CREATED:20251230T190411Z
LAST-MODIFIED:20251230T190412Z
UID:3405-1788597000-1788609600@www.projectsharepa.org
SUMMARY:Your Choice Pantry
DESCRIPTION:Shopping is by appointment only. Register at https://timetosignup.com/projectsharepa/. If it is your first time visiting Project SHARE\, please call (717) 249-7773. \n\n\n\nLearn more about our Distribution.
URL:https://www.projectsharepa.org/event/your-choice-pantry-78/
LOCATION:Project SHARE Headquarters\, 5 N. Orange St. Suite #4\, Carlisle\, Pennsylvania\, 17013\, United States
CATEGORIES:Your Choice Pantry,Your Choice Pantry
END:VEVENT
BEGIN:VEVENT
DTSTART;TZID=America/New_York:20260907T000000
DTEND;TZID=America/New_York:20260907T235959
DTSTAMP:20260425T065034
CREATED:20251230T190442Z
LAST-MODIFIED:20251230T190443Z
UID:3407-1788739200-1788825599@www.projectsharepa.org
SUMMARY:Project SHARE Closed
DESCRIPTION:Labor Day
URL:https://www.projectsharepa.org/event/project-share-closed-38/
LOCATION:Pennsylvania
END:VEVENT
BEGIN:VEVENT
DTSTART;TZID=America/New_York:20260908T090000
DTEND;TZID=America/New_York:20260908T140000
DTSTAMP:20260425T065034
CREATED:20251230T190523Z
LAST-MODIFIED:20251230T190524Z
UID:3409-1788858000-1788876000@www.projectsharepa.org
SUMMARY:Farmstand
DESCRIPTION:Shopping is by appointment only. Register at https://timetosignup.com/projectsharepa/ \n\n\n\nLearn more about our Farmstand.
URL:https://www.projectsharepa.org/event/farmstand-234/
LOCATION:Project SHARE Farmstand\, 123 Lincoln St\, Carlisle\, Pennsylvania\, 17013\, United States
CATEGORIES:Farmstand,Farmstand
END:VEVENT
BEGIN:VEVENT
DTSTART;TZID=America/New_York:20260908T150000
DTEND;TZID=America/New_York:20260908T173000
DTSTAMP:20260425T065034
CREATED:20251230T190614Z
LAST-MODIFIED:20251230T190615Z
UID:3411-1788879600-1788888600@www.projectsharepa.org
SUMMARY:Farmstand
DESCRIPTION:Shopping is by appointment only. Register at https://timetosignup.com/projectsharepa/ \n\n\n\nLearn more about our Farmstand.
URL:https://www.projectsharepa.org/event/farmstand-235/
LOCATION:Project SHARE Farmstand\, 123 Lincoln St\, Carlisle\, Pennsylvania\, 17013\, United States
CATEGORIES:Farmstand,Farmstand
END:VEVENT
BEGIN:VEVENT
DTSTART;TZID=America/New_York:20260909T090000
DTEND;TZID=America/New_York:20260909T120000
DTSTAMP:20260425T065034
CREATED:20251230T190712Z
LAST-MODIFIED:20251230T190713Z
UID:3413-1788944400-1788955200@www.projectsharepa.org
SUMMARY:Your Choice Pantry
DESCRIPTION:Shopping is by appointment only. Register at https://timetosignup.com/projectsharepa/. If it is your first time visiting Project SHARE\, please call (717) 249-7773. \n\n\n\nLearn more about our Distribution.
URL:https://www.projectsharepa.org/event/your-choice-pantry-79/
LOCATION:Project SHARE Headquarters\, 5 N. Orange St. Suite #4\, Carlisle\, Pennsylvania\, 17013\, United States
CATEGORIES:Your Choice Pantry,Your Choice Pantry
END:VEVENT
BEGIN:VEVENT
DTSTART;TZID=America/New_York:20260910T090000
DTEND;TZID=America/New_York:20260910T120000
DTSTAMP:20260425T065034
CREATED:20251230T201827Z
LAST-MODIFIED:20251230T201828Z
UID:3526-1789030800-1789041600@www.projectsharepa.org
SUMMARY:Your Choice Pantry
DESCRIPTION:Shopping is by appointment only. Register at https://timetosignup.com/projectsharepa/. If it is your first time visiting Project SHARE\, please call (717) 249-7773. \n\n\n\nLearn more about our Distribution.
URL:https://www.projectsharepa.org/event/your-choice-pantry-100/
LOCATION:Project SHARE Headquarters\, 5 N. Orange St. Suite #4\, Carlisle\, Pennsylvania\, 17013\, United States
CATEGORIES:Your Choice Pantry,Your Choice Pantry
END:VEVENT
BEGIN:VEVENT
DTSTART;TZID=America/New_York:20260910T090000
DTEND;TZID=America/New_York:20260910T140000
DTSTAMP:20260425T065034
CREATED:20251230T202119Z
LAST-MODIFIED:20251230T202120Z
UID:3530-1789030800-1789048800@www.projectsharepa.org
SUMMARY:Farmstand
DESCRIPTION:Shopping is by appointment only. Register at https://timetosignup.com/projectsharepa/ \n\n\n\nLearn more about our Farmstand.
URL:https://www.projectsharepa.org/event/farmstand-256/
LOCATION:Project SHARE Farmstand\, 123 Lincoln St\, Carlisle\, Pennsylvania\, 17013\, United States
CATEGORIES:Farmstand,Farmstand
END:VEVENT
BEGIN:VEVENT
DTSTART;TZID=America/New_York:20260910T140000
DTEND;TZID=America/New_York:20260910T173000
DTSTAMP:20260425T065034
CREATED:20251230T202027Z
LAST-MODIFIED:20251230T202028Z
UID:3528-1789048800-1789061400@www.projectsharepa.org
SUMMARY:Your Choice Pantry
DESCRIPTION:Shopping is by appointment only. Register at https://timetosignup.com/projectsharepa/. If it is your first time visiting Project SHARE\, please call (717) 249-7773. \n\n\n\nLearn more about our Distribution.
URL:https://www.projectsharepa.org/event/your-choice-pantry-101/
LOCATION:Project SHARE Headquarters\, 5 N. Orange St. Suite #4\, Carlisle\, Pennsylvania\, 17013\, United States
CATEGORIES:Your Choice Pantry,Your Choice Pantry
END:VEVENT
BEGIN:VEVENT
DTSTART;TZID=America/New_York:20260911T090000
DTEND;TZID=America/New_York:20260911T120000
DTSTAMP:20260425T065034
CREATED:20251230T202210Z
LAST-MODIFIED:20251230T202211Z
UID:3532-1789117200-1789128000@www.projectsharepa.org
SUMMARY:Farmstand
DESCRIPTION:Shopping is by appointment only. Register at https://timetosignup.com/projectsharepa/ \n\n\n\nLearn more about our Farmstand.
URL:https://www.projectsharepa.org/event/farmstand-257/
LOCATION:Project SHARE Farmstand\, 123 Lincoln St\, Carlisle\, Pennsylvania\, 17013\, United States
CATEGORIES:Farmstand,Farmstand
END:VEVENT
BEGIN:VEVENT
DTSTART;TZID=America/New_York:20260915T120000
DTEND;TZID=America/New_York:20260915T140000
DTSTAMP:20260425T065034
CREATED:20251230T202301Z
LAST-MODIFIED:20251230T202302Z
UID:3534-1789473600-1789480800@www.projectsharepa.org
SUMMARY:Drive Thru
DESCRIPTION:An appointment is not needed. If it is your first time visiting Project SHARE\, please call (717) 249-7773. \n\n\n\nLearn more about our Distribution.
URL:https://www.projectsharepa.org/event/drive-thru-21/
LOCATION:Project SHARE Headquarters\, 5 N. Orange St. Suite #4\, Carlisle\, Pennsylvania\, 17013\, United States
CATEGORIES:Drive Thru
END:VEVENT
BEGIN:VEVENT
DTSTART;TZID=America/New_York:20260916T090000
DTEND;TZID=America/New_York:20260916T120000
DTSTAMP:20260425T065034
CREATED:20251230T202358Z
LAST-MODIFIED:20251230T202359Z
UID:3536-1789549200-1789560000@www.projectsharepa.org
SUMMARY:Your Choice Pantry
DESCRIPTION:Shopping is by appointment only. Register at https://timetosignup.com/projectsharepa/. If it is your first time visiting Project SHARE\, please call (717) 249-7773. \n\n\n\nLearn more about our Distribution.
URL:https://www.projectsharepa.org/event/your-choice-pantry-102/
LOCATION:Project SHARE Headquarters\, 5 N. Orange St. Suite #4\, Carlisle\, Pennsylvania\, 17013\, United States
CATEGORIES:Your Choice Pantry,Your Choice Pantry
END:VEVENT
BEGIN:VEVENT
DTSTART;TZID=America/New_York:20260917T140000
DTEND;TZID=America/New_York:20260917T173000
DTSTAMP:20260425T065034
CREATED:20251230T202447Z
LAST-MODIFIED:20251230T202448Z
UID:3538-1789653600-1789666200@www.projectsharepa.org
SUMMARY:Your Choice Pantry
DESCRIPTION:Shopping is by appointment only. Register at https://timetosignup.com/projectsharepa/. If it is your first time visiting Project SHARE\, please call (717) 249-7773. \n\n\n\nLearn more about our Distribution.
URL:https://www.projectsharepa.org/event/your-choice-pantry-103/
LOCATION:Project SHARE Headquarters\, 5 N. Orange St. Suite #4\, Carlisle\, Pennsylvania\, 17013\, United States
CATEGORIES:Your Choice Pantry,Your Choice Pantry
END:VEVENT
BEGIN:VEVENT
DTSTART;TZID=America/New_York:20260918T000000
DTEND;TZID=America/New_York:20260918T235959
DTSTAMP:20260425T065034
CREATED:20251230T202516Z
LAST-MODIFIED:20251230T202517Z
UID:3540-1789689600-1789775999@www.projectsharepa.org
SUMMARY:Project SHARE Closed
DESCRIPTION:
URL:https://www.projectsharepa.org/event/project-share-closed-41/
LOCATION:Pennsylvania
END:VEVENT
BEGIN:VEVENT
DTSTART;TZID=America/New_York:20260919T083000
DTEND;TZID=America/New_York:20260919T120000
DTSTAMP:20260425T065034
CREATED:20251230T202610Z
LAST-MODIFIED:20251230T202611Z
UID:3542-1789806600-1789819200@www.projectsharepa.org
SUMMARY:Your Choice Pantry
DESCRIPTION:Shopping is by appointment only. Register at https://timetosignup.com/projectsharepa/. If it is your first time visiting Project SHARE\, please call (717) 249-7773. \n\n\n\nLearn more about our Distribution.
URL:https://www.projectsharepa.org/event/your-choice-pantry-104/
LOCATION:Project SHARE Headquarters\, 5 N. Orange St. Suite #4\, Carlisle\, Pennsylvania\, 17013\, United States
CATEGORIES:Your Choice Pantry,Your Choice Pantry
END:VEVENT
BEGIN:VEVENT
DTSTART;TZID=America/New_York:20260922T090000
DTEND;TZID=America/New_York:20260922T140000
DTSTAMP:20260425T065034
CREATED:20251230T202726Z
LAST-MODIFIED:20251230T202727Z
UID:3544-1790067600-1790085600@www.projectsharepa.org
SUMMARY:Farmstand
DESCRIPTION:Shopping is by appointment only. Register at https://timetosignup.com/projectsharepa/ \n\n\n\nLearn more about our Farmstand.
URL:https://www.projectsharepa.org/event/farmstand-258/
LOCATION:Project SHARE Farmstand\, 123 Lincoln St\, Carlisle\, Pennsylvania\, 17013\, United States
CATEGORIES:Farmstand,Farmstand
END:VEVENT
BEGIN:VEVENT
DTSTART;TZID=America/New_York:20260922T150000
DTEND;TZID=America/New_York:20260922T173000
DTSTAMP:20260425T065034
CREATED:20251230T202815Z
LAST-MODIFIED:20251230T202816Z
UID:3546-1790089200-1790098200@www.projectsharepa.org
SUMMARY:Farmstand
DESCRIPTION:Shopping is by appointment only. Register at https://timetosignup.com/projectsharepa/ \n\n\n\nLearn more about our Farmstand.
URL:https://www.projectsharepa.org/event/farmstand-259/
LOCATION:Project SHARE Farmstand\, 123 Lincoln St\, Carlisle\, Pennsylvania\, 17013\, United States
CATEGORIES:Farmstand,Farmstand
END:VEVENT
BEGIN:VEVENT
DTSTART;TZID=America/New_York:20260923T090000
DTEND;TZID=America/New_York:20260923T120000
DTSTAMP:20260425T065034
CREATED:20251230T202906Z
LAST-MODIFIED:20251230T202907Z
UID:3548-1790154000-1790164800@www.projectsharepa.org
SUMMARY:Your Choice Pantry
DESCRIPTION:Shopping is by appointment only. Register at https://timetosignup.com/projectsharepa/. If it is your first time visiting Project SHARE\, please call (717) 249-7773. \n\n\n\nLearn more about our Distribution.
URL:https://www.projectsharepa.org/event/your-choice-pantry-105/
LOCATION:Project SHARE Headquarters\, 5 N. Orange St. Suite #4\, Carlisle\, Pennsylvania\, 17013\, United States
CATEGORIES:Your Choice Pantry,Your Choice Pantry
END:VEVENT
BEGIN:VEVENT
DTSTART;TZID=America/New_York:20260924T090000
DTEND;TZID=America/New_York:20260924T120000
DTSTAMP:20260425T065034
CREATED:20251230T202953Z
LAST-MODIFIED:20251230T202954Z
UID:3550-1790240400-1790251200@www.projectsharepa.org
SUMMARY:Your Choice Pantry
DESCRIPTION:Shopping is by appointment only. Register at https://timetosignup.com/projectsharepa/. If it is your first time visiting Project SHARE\, please call (717) 249-7773. \n\n\n\nLearn more about our Distribution.
URL:https://www.projectsharepa.org/event/your-choice-pantry-106/
LOCATION:Project SHARE Headquarters\, 5 N. Orange St. Suite #4\, Carlisle\, Pennsylvania\, 17013\, United States
CATEGORIES:Your Choice Pantry,Your Choice Pantry
END:VEVENT
BEGIN:VEVENT
DTSTART;TZID=America/New_York:20260924T090000
DTEND;TZID=America/New_York:20260924T140000
DTSTAMP:20260425T065034
CREATED:20251230T203036Z
LAST-MODIFIED:20251230T203038Z
UID:3552-1790240400-1790258400@www.projectsharepa.org
SUMMARY:Farmstand
DESCRIPTION:Shopping is by appointment only. Register at https://timetosignup.com/projectsharepa/ \n\n\n\nLearn more about our Farmstand.
URL:https://www.projectsharepa.org/event/farmstand-260/
LOCATION:Project SHARE Farmstand\, 123 Lincoln St\, Carlisle\, Pennsylvania\, 17013\, United States
CATEGORIES:Farmstand,Farmstand
END:VEVENT
BEGIN:VEVENT
DTSTART;TZID=America/New_York:20260925T090000
DTEND;TZID=America/New_York:20260925T120000
DTSTAMP:20260425T065034
CREATED:20251230T203124Z
LAST-MODIFIED:20251230T203125Z
UID:3554-1790326800-1790337600@www.projectsharepa.org
SUMMARY:Farmstand
DESCRIPTION:Shopping is by appointment only. Register at https://timetosignup.com/projectsharepa/ \n\n\n\nLearn more about our Farmstand.
URL:https://www.projectsharepa.org/event/farmstand-261/
LOCATION:Project SHARE Farmstand\, 123 Lincoln St\, Carlisle\, Pennsylvania\, 17013\, United States
CATEGORIES:Farmstand,Farmstand
END:VEVENT
BEGIN:VEVENT
DTSTART;TZID=America/New_York:20260929T090000
DTEND;TZID=America/New_York:20260929T140000
DTSTAMP:20260425T065034
CREATED:20251230T203207Z
LAST-MODIFIED:20251230T203209Z
UID:3556-1790672400-1790690400@www.projectsharepa.org
SUMMARY:Farmstand
DESCRIPTION:Shopping is by appointment only. Register at https://timetosignup.com/projectsharepa/ \n\n\n\nLearn more about our Farmstand.
URL:https://www.projectsharepa.org/event/farmstand-262/
LOCATION:Project SHARE Farmstand\, 123 Lincoln St\, Carlisle\, Pennsylvania\, 17013\, United States
CATEGORIES:Farmstand,Farmstand
END:VEVENT
BEGIN:VEVENT
DTSTART;TZID=America/New_York:20260929T150000
DTEND;TZID=America/New_York:20260929T173000
DTSTAMP:20260425T065034
CREATED:20251230T203255Z
LAST-MODIFIED:20251230T203256Z
UID:3558-1790694000-1790703000@www.projectsharepa.org
SUMMARY:Farmstand
DESCRIPTION:Shopping is by appointment only. Register at https://timetosignup.com/projectsharepa/ \n\n\n\nLearn more about our Farmstand.
URL:https://www.projectsharepa.org/event/farmstand-263/
LOCATION:Project SHARE Farmstand\, 123 Lincoln St\, Carlisle\, Pennsylvania\, 17013\, United States
CATEGORIES:Farmstand,Farmstand
END:VEVENT
BEGIN:VEVENT
DTSTART;TZID=America/New_York:20260930T090000
DTEND;TZID=America/New_York:20260930T120000
DTSTAMP:20260425T065034
CREATED:20251230T203348Z
LAST-MODIFIED:20251230T203350Z
UID:3560-1790758800-1790769600@www.projectsharepa.org
SUMMARY:Your Choice Pantry
DESCRIPTION:Shopping is by appointment only. Register at https://timetosignup.com/projectsharepa/. If it is your first time visiting Project SHARE\, please call (717) 249-7773. \n\n\n\nLearn more about our Distribution.
URL:https://www.projectsharepa.org/event/your-choice-pantry-107/
LOCATION:Project SHARE Headquarters\, 5 N. Orange St. Suite #4\, Carlisle\, Pennsylvania\, 17013\, United States
CATEGORIES:Your Choice Pantry,Your Choice Pantry
END:VEVENT
BEGIN:VEVENT
DTSTART;TZID=America/New_York:20261001T090000
DTEND;TZID=America/New_York:20261001T120000
DTSTAMP:20260425T065034
CREATED:20251230T203517Z
LAST-MODIFIED:20251230T203518Z
UID:3562-1790845200-1790856000@www.projectsharepa.org
SUMMARY:Your Choice Pantry
DESCRIPTION:Shopping is by appointment only. Register at https://timetosignup.com/projectsharepa/. If it is your first time visiting Project SHARE\, please call (717) 249-7773. \n\n\n\nLearn more about our Distribution.
URL:https://www.projectsharepa.org/event/your-choice-pantry-108/
LOCATION:Project SHARE Headquarters\, 5 N. Orange St. Suite #4\, Carlisle\, Pennsylvania\, 17013\, United States
CATEGORIES:Your Choice Pantry,Your Choice Pantry
END:VEVENT
BEGIN:VEVENT
DTSTART;TZID=America/New_York:20261001T090000
DTEND;TZID=America/New_York:20261001T140000
DTSTAMP:20260425T065034
CREATED:20251230T203652Z
LAST-MODIFIED:20251230T203653Z
UID:3566-1790845200-1790863200@www.projectsharepa.org
SUMMARY:Farmstand
DESCRIPTION:Shopping is by appointment only. Register at https://timetosignup.com/projectsharepa/ \n\n\n\nLearn more about our Farmstand.
URL:https://www.projectsharepa.org/event/farmstand-264/
LOCATION:Project SHARE Farmstand\, 123 Lincoln St\, Carlisle\, Pennsylvania\, 17013\, United States
CATEGORIES:Farmstand,Farmstand
END:VEVENT
BEGIN:VEVENT
DTSTART;TZID=America/New_York:20261001T140000
DTEND;TZID=America/New_York:20261001T173000
DTSTAMP:20260425T065034
CREATED:20251230T203606Z
LAST-MODIFIED:20251230T203607Z
UID:3564-1790863200-1790875800@www.projectsharepa.org
SUMMARY:Your Choice Pantry
DESCRIPTION:Shopping is by appointment only. Register at https://timetosignup.com/projectsharepa/. If it is your first time visiting Project SHARE\, please call (717) 249-7773. \n\n\n\nLearn more about our Distribution.
URL:https://www.projectsharepa.org/event/your-choice-pantry-109/
LOCATION:Project SHARE Headquarters\, 5 N. Orange St. Suite #4\, Carlisle\, Pennsylvania\, 17013\, United States
CATEGORIES:Your Choice Pantry,Your Choice Pantry
END:VEVENT
BEGIN:VEVENT
DTSTART;TZID=America/New_York:20261002T090000
DTEND;TZID=America/New_York:20261002T120000
DTSTAMP:20260425T065034
CREATED:20251230T203738Z
LAST-MODIFIED:20251230T203739Z
UID:3568-1790931600-1790942400@www.projectsharepa.org
SUMMARY:Farmstand
DESCRIPTION:Shopping is by appointment only. Register at https://timetosignup.com/projectsharepa/ \n\n\n\nLearn more about our Farmstand.
URL:https://www.projectsharepa.org/event/farmstand-265/
LOCATION:Project SHARE Farmstand\, 123 Lincoln St\, Carlisle\, Pennsylvania\, 17013\, United States
CATEGORIES:Farmstand,Farmstand
END:VEVENT
END:VCALENDAR