BEGIN:VCALENDAR
VERSION:2.0
PRODID:-//Project SHARE - ECPv6.15.20//NONSGML v1.0//EN
CALSCALE:GREGORIAN
METHOD:PUBLISH
X-WR-CALNAME:Project SHARE
X-ORIGINAL-URL:https://www.projectsharepa.org
X-WR-CALDESC:Events for Project SHARE
REFRESH-INTERVAL;VALUE=DURATION:PT1H
X-Robots-Tag:noindex
X-PUBLISHED-TTL:PT1H
BEGIN:VTIMEZONE
TZID:America/New_York
BEGIN:DAYLIGHT
TZOFFSETFROM:-0500
TZOFFSETTO:-0400
TZNAME:EDT
DTSTART:20240310T070000
END:DAYLIGHT
BEGIN:STANDARD
TZOFFSETFROM:-0400
TZOFFSETTO:-0500
TZNAME:EST
DTSTART:20241103T060000
END:STANDARD
BEGIN:DAYLIGHT
TZOFFSETFROM:-0500
TZOFFSETTO:-0400
TZNAME:EDT
DTSTART:20250309T070000
END:DAYLIGHT
BEGIN:STANDARD
TZOFFSETFROM:-0400
TZOFFSETTO:-0500
TZNAME:EST
DTSTART:20251102T060000
END:STANDARD
BEGIN:DAYLIGHT
TZOFFSETFROM:-0500
TZOFFSETTO:-0400
TZNAME:EDT
DTSTART:20260308T070000
END:DAYLIGHT
BEGIN:STANDARD
TZOFFSETFROM:-0400
TZOFFSETTO:-0500
TZNAME:EST
DTSTART:20261101T060000
END:STANDARD
END:VTIMEZONE
BEGIN:VEVENT
DTSTART;TZID=America/New_York:20251205T090000
DTEND;TZID=America/New_York:20251205T120000
DTSTAMP:20260425T104313
CREATED:20250128T172054Z
LAST-MODIFIED:20250128T172055Z
UID:2526-1764925200-1764936000@www.projectsharepa.org
SUMMARY:Farmstand
DESCRIPTION:Shopping is by appointment only. Register at https://timetosignup.com/projectsharepa/
URL:https://www.projectsharepa.org/event/farmstand-143/
LOCATION:Pennsylvania
END:VEVENT
BEGIN:VEVENT
DTSTART;TZID=America/New_York:20251204T170000
DTEND;TZID=America/New_York:20251204T183000
DTSTAMP:20260425T104313
CREATED:20250128T171941Z
LAST-MODIFIED:20250128T171942Z
UID:2524-1764867600-1764873000@www.projectsharepa.org
SUMMARY:Kids in the Kitchen
DESCRIPTION:Register at https://timetosignup.com/projectsharepa/
URL:https://www.projectsharepa.org/event/kids-in-the-kitchen-8/
LOCATION:Pennsylvania
END:VEVENT
BEGIN:VEVENT
DTSTART;TZID=America/New_York:20251204T093000
DTEND;TZID=America/New_York:20251204T140000
DTSTAMP:20260425T104313
CREATED:20250128T171605Z
LAST-MODIFIED:20250128T171606Z
UID:2520-1764840600-1764856800@www.projectsharepa.org
SUMMARY:Farmstand
DESCRIPTION:Shopping is by appointment only. Register at https://timetosignup.com/projectsharepa/
URL:https://www.projectsharepa.org/event/farmstand-142/
LOCATION:Pennsylvania
END:VEVENT
BEGIN:VEVENT
DTSTART;TZID=America/New_York:20251204T090000
DTEND;TZID=America/New_York:20251204T120000
DTSTAMP:20260425T104313
CREATED:20250128T171719Z
LAST-MODIFIED:20251028T212327Z
UID:2522-1764838800-1764849600@www.projectsharepa.org
SUMMARY:Your Choice Distribution
DESCRIPTION:Shopping is by appointment only. Register at https://timetosignup.com/projectsharepa/. If it is your first time visiting Project SHARE\, please call (717) 249-7773.
URL:https://www.projectsharepa.org/event/your-choice-distribution-140/
LOCATION:Pennsylvania
END:VEVENT
BEGIN:VEVENT
DTSTART;TZID=America/New_York:20251203T140000
DTEND;TZID=America/New_York:20251203T173000
DTSTAMP:20260425T104313
CREATED:20250128T171529Z
LAST-MODIFIED:20250128T171530Z
UID:2518-1764770400-1764783000@www.projectsharepa.org
SUMMARY:Your Choice Distribution
DESCRIPTION:Shopping is by appointment only. Register at https://timetosignup.com/projectsharepa/. If it is your first time visiting Project SHARE\, please call (717) 249-7773.
URL:https://www.projectsharepa.org/event/your-choice-distribution-139/
LOCATION:Pennsylvania
END:VEVENT
BEGIN:VEVENT
DTSTART;TZID=America/New_York:20251203T090000
DTEND;TZID=America/New_York:20251203T120000
DTSTAMP:20260425T104313
CREATED:20250128T171431Z
LAST-MODIFIED:20250128T171432Z
UID:2516-1764752400-1764763200@www.projectsharepa.org
SUMMARY:Your Choice Distribution
DESCRIPTION:Shopping is by appointment only. Register at https://timetosignup.com/projectsharepa/. If it is your first time visiting Project SHARE\, please call (717) 249-7773.
URL:https://www.projectsharepa.org/event/your-choice-distribution-138/
LOCATION:Pennsylvania
END:VEVENT
BEGIN:VEVENT
DTSTART;TZID=America/New_York:20251202T140000
DTEND;TZID=America/New_York:20251202T173000
DTSTAMP:20260425T104313
CREATED:20250128T171256Z
LAST-MODIFIED:20250128T171257Z
UID:2514-1764684000-1764696600@www.projectsharepa.org
SUMMARY:Farmstand
DESCRIPTION:Shopping is by appointment only. Register at https://timetosignup.com/projectsharepa/
URL:https://www.projectsharepa.org/event/farmstand-141/
LOCATION:Pennsylvania
END:VEVENT
BEGIN:VEVENT
DTSTART;TZID=America/New_York:20251202T000000
DTEND;TZID=America/New_York:20251202T235959
DTSTAMP:20260425T104313
CREATED:20251202T141517Z
LAST-MODIFIED:20251202T141518Z
UID:2879-1764633600-1764719999@www.projectsharepa.org
SUMMARY:Project SHARE Closed Due to Weather
DESCRIPTION:More Information
URL:https://www.projectsharepa.org/event/project-share-closed-due-to-weather/
LOCATION:Pennsylvania
END:VEVENT
BEGIN:VEVENT
DTSTART;TZID=America/New_York:20251128T000000
DTEND;TZID=America/New_York:20251128T235959
DTSTAMP:20260425T104313
CREATED:20250128T171116Z
LAST-MODIFIED:20250128T171117Z
UID:2510-1764288000-1764374399@www.projectsharepa.org
SUMMARY:Project SHARE Closed
DESCRIPTION:
URL:https://www.projectsharepa.org/event/project-share-closed-22/
LOCATION:Pennsylvania
END:VEVENT
BEGIN:VEVENT
DTSTART;TZID=America/New_York:20251127T000000
DTEND;TZID=America/New_York:20251127T235959
DTSTAMP:20260425T104313
CREATED:20250128T171053Z
LAST-MODIFIED:20250128T171054Z
UID:2508-1764201600-1764287999@www.projectsharepa.org
SUMMARY:Project SHARE Closed
DESCRIPTION:Thanksgiving Day
URL:https://www.projectsharepa.org/event/project-share-closed-21/
LOCATION:Pennsylvania
END:VEVENT
BEGIN:VEVENT
DTSTART;TZID=America/New_York:20251126T090000
DTEND;TZID=America/New_York:20251126T120000
DTSTAMP:20260425T104313
CREATED:20250128T171018Z
LAST-MODIFIED:20250128T171019Z
UID:2506-1764147600-1764158400@www.projectsharepa.org
SUMMARY:Your Choice Distribution
DESCRIPTION:Shopping is by appointment only. Register at https://timetosignup.com/projectsharepa/. If it is your first time visiting Project SHARE\, please call (717) 249-7773.
URL:https://www.projectsharepa.org/event/your-choice-distribution-137/
LOCATION:Pennsylvania
END:VEVENT
BEGIN:VEVENT
DTSTART;TZID=America/New_York:20251125T090000
DTEND;TZID=America/New_York:20251125T120000
DTSTAMP:20260425T104313
CREATED:20250128T163711Z
LAST-MODIFIED:20250128T163712Z
UID:2504-1764061200-1764072000@www.projectsharepa.org
SUMMARY:Your Choice Distribution
DESCRIPTION:Shopping is by appointment only. Register at https://timetosignup.com/projectsharepa/. If it is your first time visiting Project SHARE\, please call (717) 249-7773.
URL:https://www.projectsharepa.org/event/your-choice-distribution-136/
LOCATION:Pennsylvania
END:VEVENT
BEGIN:VEVENT
DTSTART;TZID=America/New_York:20251122T083000
DTEND;TZID=America/New_York:20251122T120000
DTSTAMP:20260425T104313
CREATED:20250128T163534Z
LAST-MODIFIED:20250128T163535Z
UID:2498-1763800200-1763812800@www.projectsharepa.org
SUMMARY:Your Choice Distribution
DESCRIPTION:Shopping is by appointment only. Register at https://timetosignup.com/projectsharepa/. If it is your first time visiting Project SHARE\, please call (717) 249-7773.
URL:https://www.projectsharepa.org/event/your-choice-distribution-135/
LOCATION:Pennsylvania
END:VEVENT
BEGIN:VEVENT
DTSTART;TZID=America/New_York:20251121T000000
DTEND;TZID=America/New_York:20251121T235959
DTSTAMP:20260425T104313
CREATED:20250128T163500Z
LAST-MODIFIED:20250128T163501Z
UID:2496-1763683200-1763769599@www.projectsharepa.org
SUMMARY:Project SHARE Closed
DESCRIPTION:
URL:https://www.projectsharepa.org/event/project-share-closed-20/
LOCATION:Pennsylvania
END:VEVENT
BEGIN:VEVENT
DTSTART;TZID=America/New_York:20251120T140000
DTEND;TZID=America/New_York:20251120T173000
DTSTAMP:20260425T104313
CREATED:20250128T163434Z
LAST-MODIFIED:20250128T163435Z
UID:2494-1763647200-1763659800@www.projectsharepa.org
SUMMARY:Your Choice Distribution
DESCRIPTION:Shopping is by appointment only. Register at https://timetosignup.com/projectsharepa/. If it is your first time visiting Project SHARE\, please call (717) 249-7773.
URL:https://www.projectsharepa.org/event/your-choice-distribution-134/
LOCATION:Pennsylvania
END:VEVENT
BEGIN:VEVENT
DTSTART;TZID=America/New_York:20251120T090000
DTEND;TZID=America/New_York:20251120T120000
DTSTAMP:20260425T104313
CREATED:20250128T163400Z
LAST-MODIFIED:20250128T163401Z
UID:2492-1763629200-1763640000@www.projectsharepa.org
SUMMARY:Your Choice Distribution
DESCRIPTION:Shopping is by appointment only. Register at https://timetosignup.com/projectsharepa/. If it is your first time visiting Project SHARE\, please call (717) 249-7773.
URL:https://www.projectsharepa.org/event/your-choice-distribution-133/
LOCATION:Pennsylvania
END:VEVENT
BEGIN:VEVENT
DTSTART;TZID=America/New_York:20251119T140000
DTEND;TZID=America/New_York:20251119T173000
DTSTAMP:20260425T104313
CREATED:20250128T163317Z
LAST-MODIFIED:20250128T163318Z
UID:2490-1763560800-1763573400@www.projectsharepa.org
SUMMARY:Your Choice Distribution
DESCRIPTION:Shopping is by appointment only. Register at https://timetosignup.com/projectsharepa/. If it is your first time visiting Project SHARE\, please call (717) 249-7773.
URL:https://www.projectsharepa.org/event/your-choice-distribution-132/
LOCATION:Pennsylvania
END:VEVENT
BEGIN:VEVENT
DTSTART;TZID=America/New_York:20251119T090000
DTEND;TZID=America/New_York:20251119T120000
DTSTAMP:20260425T104313
CREATED:20250128T163243Z
LAST-MODIFIED:20250128T163244Z
UID:2488-1763542800-1763553600@www.projectsharepa.org
SUMMARY:Your Choice Distribution
DESCRIPTION:Shopping is by appointment only. Register at https://timetosignup.com/projectsharepa/. If it is your first time visiting Project SHARE\, please call (717) 249-7773.
URL:https://www.projectsharepa.org/event/your-choice-distribution-131/
LOCATION:Pennsylvania
END:VEVENT
BEGIN:VEVENT
DTSTART;TZID=America/New_York:20251118T120000
DTEND;TZID=America/New_York:20251118T140000
DTSTAMP:20260425T104313
CREATED:20250128T163207Z
LAST-MODIFIED:20250128T163208Z
UID:2486-1763467200-1763474400@www.projectsharepa.org
SUMMARY:Drive Thru
DESCRIPTION:An appointment is not needed. If it is your first time visiting Project SHARE\, please call (717) 249-7773.
URL:https://www.projectsharepa.org/event/drive-thru-11/
LOCATION:Pennsylvania
END:VEVENT
BEGIN:VEVENT
DTSTART;TZID=America/New_York:20251114T090000
DTEND;TZID=America/New_York:20251114T120000
DTSTAMP:20260425T104313
CREATED:20250128T163138Z
LAST-MODIFIED:20250128T163139Z
UID:2484-1763110800-1763121600@www.projectsharepa.org
SUMMARY:Farmstand
DESCRIPTION:Shopping is by appointment only. Register at https://timetosignup.com/projectsharepa/
URL:https://www.projectsharepa.org/event/farmstand-137/
LOCATION:Pennsylvania
END:VEVENT
BEGIN:VEVENT
DTSTART;TZID=America/New_York:20251113T170000
DTEND;TZID=America/New_York:20251113T183000
DTSTAMP:20260425T104313
CREATED:20250128T163108Z
LAST-MODIFIED:20250128T163109Z
UID:2482-1763053200-1763058600@www.projectsharepa.org
SUMMARY:Slice of the Month
DESCRIPTION:Register at https://timetosignup.com/projectsharepa/
URL:https://www.projectsharepa.org/event/slice-of-the-month-7/
LOCATION:Pennsylvania
END:VEVENT
BEGIN:VEVENT
DTSTART;TZID=America/New_York:20251113T093000
DTEND;TZID=America/New_York:20251113T140000
DTSTAMP:20260425T104313
CREATED:20250128T163019Z
LAST-MODIFIED:20250128T163020Z
UID:2480-1763026200-1763042400@www.projectsharepa.org
SUMMARY:Farmstand
DESCRIPTION:Shopping is by appointment only. Register at https://timetosignup.com/projectsharepa/
URL:https://www.projectsharepa.org/event/farmstand-136/
LOCATION:Pennsylvania
END:VEVENT
BEGIN:VEVENT
DTSTART;TZID=America/New_York:20251113T090000
DTEND;TZID=America/New_York:20251113T120000
DTSTAMP:20260425T104313
CREATED:20250128T162946Z
LAST-MODIFIED:20251028T212403Z
UID:2478-1763024400-1763035200@www.projectsharepa.org
SUMMARY:Your Choice Distribution
DESCRIPTION:Shopping is by appointment only. Register at https://timetosignup.com/projectsharepa/. If it is your first time visiting Project SHARE\, please call (717) 249-7773.
URL:https://www.projectsharepa.org/event/your-choice-distribution-130/
LOCATION:Pennsylvania
END:VEVENT
BEGIN:VEVENT
DTSTART;TZID=America/New_York:20251112T090000
DTEND;TZID=America/New_York:20251112T120000
DTSTAMP:20260425T104313
CREATED:20250128T162912Z
LAST-MODIFIED:20250128T162913Z
UID:2476-1762938000-1762948800@www.projectsharepa.org
SUMMARY:Your Choice Distribution
DESCRIPTION:Shopping is by appointment only. Register at https://timetosignup.com/projectsharepa/. If it is your first time visiting Project SHARE\, please call (717) 249-7773.
URL:https://www.projectsharepa.org/event/your-choice-distribution-129/
LOCATION:Pennsylvania
END:VEVENT
BEGIN:VEVENT
DTSTART;TZID=America/New_York:20251111T000000
DTEND;TZID=America/New_York:20251111T235959
DTSTAMP:20260425T104313
CREATED:20250128T162837Z
LAST-MODIFIED:20250128T162838Z
UID:2474-1762819200-1762905599@www.projectsharepa.org
SUMMARY:Project SHARE Closed
DESCRIPTION:Veterans Day
URL:https://www.projectsharepa.org/event/project-share-closed-19/
LOCATION:Pennsylvania
END:VEVENT
BEGIN:VEVENT
DTSTART;TZID=America/New_York:20251108T083000
DTEND;TZID=America/New_York:20251108T120000
DTSTAMP:20260425T104313
CREATED:20250128T162753Z
LAST-MODIFIED:20250128T162754Z
UID:2472-1762590600-1762603200@www.projectsharepa.org
SUMMARY:Your Choice Distribution
DESCRIPTION:Shopping is by appointment only. Register at https://timetosignup.com/projectsharepa/. If it is your first time visiting Project SHARE\, please call (717) 249-7773.
URL:https://www.projectsharepa.org/event/your-choice-distribution-128/
LOCATION:Pennsylvania
END:VEVENT
BEGIN:VEVENT
DTSTART;TZID=America/New_York:20251107T090000
DTEND;TZID=America/New_York:20251107T120000
DTSTAMP:20260425T104313
CREATED:20250128T162722Z
LAST-MODIFIED:20250128T162724Z
UID:2470-1762506000-1762516800@www.projectsharepa.org
SUMMARY:Farmstand
DESCRIPTION:Shopping is by appointment only. Register at https://timetosignup.com/projectsharepa/
URL:https://www.projectsharepa.org/event/farmstand-135/
LOCATION:Pennsylvania
END:VEVENT
BEGIN:VEVENT
DTSTART;TZID=America/New_York:20251106T170000
DTEND;TZID=America/New_York:20251106T183000
DTSTAMP:20260425T104313
CREATED:20250128T162646Z
LAST-MODIFIED:20250128T162647Z
UID:2468-1762448400-1762453800@www.projectsharepa.org
SUMMARY:Kids in the Kitchen
DESCRIPTION:Register at https://timetosignup.com/projectsharepa/
URL:https://www.projectsharepa.org/event/kids-in-the-kitchen-7/
LOCATION:Pennsylvania
END:VEVENT
BEGIN:VEVENT
DTSTART;TZID=America/New_York:20251106T093000
DTEND;TZID=America/New_York:20251106T140000
DTSTAMP:20260425T104313
CREATED:20250128T162445Z
LAST-MODIFIED:20250128T162446Z
UID:2464-1762421400-1762437600@www.projectsharepa.org
SUMMARY:Farmstand
DESCRIPTION:Shopping is by appointment only. Register at https://timetosignup.com/projectsharepa/
URL:https://www.projectsharepa.org/event/farmstand-134/
LOCATION:Pennsylvania
END:VEVENT
BEGIN:VEVENT
DTSTART;TZID=America/New_York:20251106T090000
DTEND;TZID=America/New_York:20251106T120000
DTSTAMP:20260425T104313
CREATED:20250128T162539Z
LAST-MODIFIED:20251028T212442Z
UID:2466-1762419600-1762430400@www.projectsharepa.org
SUMMARY:Your Choice Distribution
DESCRIPTION:Shopping is by appointment only. Register at https://timetosignup.com/projectsharepa/. If it is your first time visiting Project SHARE\, please call (717) 249-7773.
URL:https://www.projectsharepa.org/event/your-choice-distribution-127/
LOCATION:Pennsylvania
END:VEVENT
END:VCALENDAR