BEGIN:VCALENDAR
VERSION:2.0
PRODID:-//Project SHARE - ECPv6.15.20//NONSGML v1.0//EN
CALSCALE:GREGORIAN
METHOD:PUBLISH
X-ORIGINAL-URL:https://www.projectsharepa.org
X-WR-CALDESC:Events for Project SHARE
REFRESH-INTERVAL;VALUE=DURATION:PT1H
X-Robots-Tag:noindex
X-PUBLISHED-TTL:PT1H
BEGIN:VTIMEZONE
TZID:America/New_York
BEGIN:DAYLIGHT
TZOFFSETFROM:-0500
TZOFFSETTO:-0400
TZNAME:EDT
DTSTART:20250309T070000
END:DAYLIGHT
BEGIN:STANDARD
TZOFFSETFROM:-0400
TZOFFSETTO:-0500
TZNAME:EST
DTSTART:20251102T060000
END:STANDARD
BEGIN:DAYLIGHT
TZOFFSETFROM:-0500
TZOFFSETTO:-0400
TZNAME:EDT
DTSTART:20260308T070000
END:DAYLIGHT
BEGIN:STANDARD
TZOFFSETFROM:-0400
TZOFFSETTO:-0500
TZNAME:EST
DTSTART:20261101T060000
END:STANDARD
BEGIN:DAYLIGHT
TZOFFSETFROM:-0500
TZOFFSETTO:-0400
TZNAME:EDT
DTSTART:20270314T070000
END:DAYLIGHT
BEGIN:STANDARD
TZOFFSETFROM:-0400
TZOFFSETTO:-0500
TZNAME:EST
DTSTART:20271107T060000
END:STANDARD
END:VTIMEZONE
BEGIN:VEVENT
DTSTART;TZID=America/New_York:20261001T090000
DTEND;TZID=America/New_York:20261001T140000
DTSTAMP:20260425T115700
CREATED:20251230T203652Z
LAST-MODIFIED:20251230T203653Z
UID:3566-1790845200-1790863200@www.projectsharepa.org
SUMMARY:Farmstand
DESCRIPTION:Shopping is by appointment only. Register at https://timetosignup.com/projectsharepa/ \n\n\n\nLearn more about our Farmstand.
URL:https://www.projectsharepa.org/event/farmstand-264/
LOCATION:Project SHARE Farmstand\, 123 Lincoln St\, Carlisle\, Pennsylvania\, 17013\, United States
CATEGORIES:Farmstand,Farmstand
END:VEVENT
BEGIN:VEVENT
DTSTART;TZID=America/New_York:20261001T140000
DTEND;TZID=America/New_York:20261001T173000
DTSTAMP:20260425T115700
CREATED:20251230T203606Z
LAST-MODIFIED:20251230T203607Z
UID:3564-1790863200-1790875800@www.projectsharepa.org
SUMMARY:Your Choice Pantry
DESCRIPTION:Shopping is by appointment only. Register at https://timetosignup.com/projectsharepa/. If it is your first time visiting Project SHARE\, please call (717) 249-7773. \n\n\n\nLearn more about our Distribution.
URL:https://www.projectsharepa.org/event/your-choice-pantry-109/
LOCATION:Project SHARE Headquarters\, 5 N. Orange St. Suite #4\, Carlisle\, Pennsylvania\, 17013\, United States
CATEGORIES:Your Choice Pantry,Your Choice Pantry
END:VEVENT
BEGIN:VEVENT
DTSTART;TZID=America/New_York:20261002T090000
DTEND;TZID=America/New_York:20261002T120000
DTSTAMP:20260425T115700
CREATED:20251230T203738Z
LAST-MODIFIED:20251230T203739Z
UID:3568-1790931600-1790942400@www.projectsharepa.org
SUMMARY:Farmstand
DESCRIPTION:Shopping is by appointment only. Register at https://timetosignup.com/projectsharepa/ \n\n\n\nLearn more about our Farmstand.
URL:https://www.projectsharepa.org/event/farmstand-265/
LOCATION:Project SHARE Farmstand\, 123 Lincoln St\, Carlisle\, Pennsylvania\, 17013\, United States
CATEGORIES:Farmstand,Farmstand
END:VEVENT
BEGIN:VEVENT
DTSTART;TZID=America/New_York:20261006T090000
DTEND;TZID=America/New_York:20261006T140000
DTSTAMP:20260425T115700
CREATED:20251230T203841Z
LAST-MODIFIED:20251230T203842Z
UID:3570-1791277200-1791295200@www.projectsharepa.org
SUMMARY:Farmstand
DESCRIPTION:Shopping is by appointment only. Register at https://timetosignup.com/projectsharepa/ \n\n\n\nLearn more about our Farmstand.
URL:https://www.projectsharepa.org/event/farmstand-266/
LOCATION:Project SHARE Farmstand\, 123 Lincoln St\, Carlisle\, Pennsylvania\, 17013\, United States
CATEGORIES:Farmstand,Farmstand
END:VEVENT
BEGIN:VEVENT
DTSTART;TZID=America/New_York:20261006T150000
DTEND;TZID=America/New_York:20261006T173000
DTSTAMP:20260425T115700
CREATED:20251230T203928Z
LAST-MODIFIED:20251230T203929Z
UID:3572-1791298800-1791307800@www.projectsharepa.org
SUMMARY:Farmstand
DESCRIPTION:Shopping is by appointment only. Register at https://timetosignup.com/projectsharepa/ \n\n\n\nLearn more about our Farmstand.
URL:https://www.projectsharepa.org/event/farmstand-267/
LOCATION:Project SHARE Farmstand\, 123 Lincoln St\, Carlisle\, Pennsylvania\, 17013\, United States
CATEGORIES:Farmstand,Farmstand
END:VEVENT
BEGIN:VEVENT
DTSTART;TZID=America/New_York:20261007T090000
DTEND;TZID=America/New_York:20261007T120000
DTSTAMP:20260425T115700
CREATED:20251230T204055Z
LAST-MODIFIED:20251230T204056Z
UID:3574-1791363600-1791374400@www.projectsharepa.org
SUMMARY:Your Choice Pantry
DESCRIPTION:Shopping is by appointment only. Register at https://timetosignup.com/projectsharepa/. If it is your first time visiting Project SHARE\, please call (717) 249-7773. \n\n\n\nLearn more about our Distribution.
URL:https://www.projectsharepa.org/event/your-choice-pantry-110/
LOCATION:Project SHARE Headquarters\, 5 N. Orange St. Suite #4\, Carlisle\, Pennsylvania\, 17013\, United States
CATEGORIES:Your Choice Pantry,Your Choice Pantry
END:VEVENT
BEGIN:VEVENT
DTSTART;TZID=America/New_York:20261008T090000
DTEND;TZID=America/New_York:20261008T120000
DTSTAMP:20260425T115700
CREATED:20251230T204145Z
LAST-MODIFIED:20251230T204146Z
UID:3576-1791450000-1791460800@www.projectsharepa.org
SUMMARY:Your Choice Pantry
DESCRIPTION:Shopping is by appointment only. Register at https://timetosignup.com/projectsharepa/. If it is your first time visiting Project SHARE\, please call (717) 249-7773. \n\n\n\nLearn more about our Distribution.
URL:https://www.projectsharepa.org/event/your-choice-pantry-111/
LOCATION:Project SHARE Headquarters\, 5 N. Orange St. Suite #4\, Carlisle\, Pennsylvania\, 17013\, United States
CATEGORIES:Your Choice Pantry,Your Choice Pantry
END:VEVENT
BEGIN:VEVENT
DTSTART;TZID=America/New_York:20261008T090000
DTEND;TZID=America/New_York:20261008T140000
DTSTAMP:20260425T115700
CREATED:20251230T204232Z
LAST-MODIFIED:20251230T204234Z
UID:3578-1791450000-1791468000@www.projectsharepa.org
SUMMARY:Farmstand
DESCRIPTION:Shopping is by appointment only. Register at https://timetosignup.com/projectsharepa/ \n\n\n\nLearn more about our Farmstand.
URL:https://www.projectsharepa.org/event/farmstand-268/
LOCATION:Project SHARE Farmstand\, 123 Lincoln St\, Carlisle\, Pennsylvania\, 17013\, United States
CATEGORIES:Farmstand,Farmstand
END:VEVENT
BEGIN:VEVENT
DTSTART;TZID=America/New_York:20261009T090000
DTEND;TZID=America/New_York:20261009T120000
DTSTAMP:20260425T115700
CREATED:20251230T204330Z
LAST-MODIFIED:20251230T204331Z
UID:3580-1791536400-1791547200@www.projectsharepa.org
SUMMARY:Farmstand
DESCRIPTION:Shopping is by appointment only. Register at https://timetosignup.com/projectsharepa/ \n\n\n\nLearn more about our Farmstand.
URL:https://www.projectsharepa.org/event/farmstand-269/
LOCATION:Project SHARE Farmstand\, 123 Lincoln St\, Carlisle\, Pennsylvania\, 17013\, United States
CATEGORIES:Farmstand,Farmstand
END:VEVENT
BEGIN:VEVENT
DTSTART;TZID=America/New_York:20261010T083000
DTEND;TZID=America/New_York:20261010T120000
DTSTAMP:20260425T115700
CREATED:20251230T204449Z
LAST-MODIFIED:20251230T204450Z
UID:3582-1791621000-1791633600@www.projectsharepa.org
SUMMARY:Your Choice Pantry
DESCRIPTION:Shopping is by appointment only. Register at https://timetosignup.com/projectsharepa/. If it is your first time visiting Project SHARE\, please call (717) 249-7773. \n\n\n\nLearn more about our Distribution.
URL:https://www.projectsharepa.org/event/your-choice-pantry-112/
LOCATION:Project SHARE Headquarters\, 5 N. Orange St. Suite #4\, Carlisle\, Pennsylvania\, 17013\, United States
CATEGORIES:Your Choice Pantry,Your Choice Pantry
END:VEVENT
BEGIN:VEVENT
DTSTART;TZID=America/New_York:20261013T090000
DTEND;TZID=America/New_York:20261013T140000
DTSTAMP:20260425T115700
CREATED:20251230T204702Z
LAST-MODIFIED:20251230T204703Z
UID:3584-1791882000-1791900000@www.projectsharepa.org
SUMMARY:Farmstand
DESCRIPTION:Shopping is by appointment only. Register at https://timetosignup.com/projectsharepa/ \n\n\n\nLearn more about our Farmstand.
URL:https://www.projectsharepa.org/event/farmstand-270/
LOCATION:Project SHARE Farmstand\, 123 Lincoln St\, Carlisle\, Pennsylvania\, 17013\, United States
CATEGORIES:Farmstand,Farmstand
END:VEVENT
BEGIN:VEVENT
DTSTART;TZID=America/New_York:20261013T150000
DTEND;TZID=America/New_York:20261013T173000
DTSTAMP:20260425T115700
CREATED:20251230T204812Z
LAST-MODIFIED:20251230T204813Z
UID:3586-1791903600-1791912600@www.projectsharepa.org
SUMMARY:Farmstand
DESCRIPTION:Shopping is by appointment only. Register at https://timetosignup.com/projectsharepa/ \n\n\n\nLearn more about our Farmstand.
URL:https://www.projectsharepa.org/event/farmstand-271/
LOCATION:Project SHARE Farmstand\, 123 Lincoln St\, Carlisle\, Pennsylvania\, 17013\, United States
CATEGORIES:Farmstand,Farmstand
END:VEVENT
BEGIN:VEVENT
DTSTART;TZID=America/New_York:20261014T090000
DTEND;TZID=America/New_York:20261014T120000
DTSTAMP:20260425T115700
CREATED:20251230T204910Z
LAST-MODIFIED:20251230T204912Z
UID:3588-1791968400-1791979200@www.projectsharepa.org
SUMMARY:Your Choice Pantry
DESCRIPTION:Shopping is by appointment only. Register at https://timetosignup.com/projectsharepa/. If it is your first time visiting Project SHARE\, please call (717) 249-7773. \n\n\n\nLearn more about our Distribution.
URL:https://www.projectsharepa.org/event/your-choice-pantry-113/
LOCATION:Project SHARE Headquarters\, 5 N. Orange St. Suite #4\, Carlisle\, Pennsylvania\, 17013\, United States
CATEGORIES:Your Choice Pantry,Your Choice Pantry
END:VEVENT
BEGIN:VEVENT
DTSTART;TZID=America/New_York:20261015T090000
DTEND;TZID=America/New_York:20261015T140000
DTSTAMP:20260425T115700
CREATED:20251230T204959Z
LAST-MODIFIED:20251230T205000Z
UID:3590-1792054800-1792072800@www.projectsharepa.org
SUMMARY:Farmstand
DESCRIPTION:Shopping is by appointment only. Register at https://timetosignup.com/projectsharepa/ \n\n\n\nLearn more about our Farmstand.
URL:https://www.projectsharepa.org/event/farmstand-272/
LOCATION:Project SHARE Farmstand\, 123 Lincoln St\, Carlisle\, Pennsylvania\, 17013\, United States
CATEGORIES:Farmstand,Farmstand
END:VEVENT
BEGIN:VEVENT
DTSTART;TZID=America/New_York:20261015T140000
DTEND;TZID=America/New_York:20261015T173000
DTSTAMP:20260425T115700
CREATED:20251230T205048Z
LAST-MODIFIED:20251230T205049Z
UID:3592-1792072800-1792085400@www.projectsharepa.org
SUMMARY:Your Choice Pantry
DESCRIPTION:Shopping is by appointment only. Register at https://timetosignup.com/projectsharepa/. If it is your first time visiting Project SHARE\, please call (717) 249-7773. \n\n\n\nLearn more about our Distribution.
URL:https://www.projectsharepa.org/event/your-choice-pantry-114/
LOCATION:Project SHARE Headquarters\, 5 N. Orange St. Suite #4\, Carlisle\, Pennsylvania\, 17013\, United States
CATEGORIES:Your Choice Pantry,Your Choice Pantry
END:VEVENT
BEGIN:VEVENT
DTSTART;TZID=America/New_York:20261016T090000
DTEND;TZID=America/New_York:20261016T120000
DTSTAMP:20260425T115700
CREATED:20251230T205140Z
LAST-MODIFIED:20251230T205141Z
UID:3594-1792141200-1792152000@www.projectsharepa.org
SUMMARY:Farmstand
DESCRIPTION:Shopping is by appointment only. Register at https://timetosignup.com/projectsharepa/ \n\n\n\nLearn more about our Farmstand.
URL:https://www.projectsharepa.org/event/farmstand-273/
LOCATION:Project SHARE Farmstand\, 123 Lincoln St\, Carlisle\, Pennsylvania\, 17013\, United States
CATEGORIES:Farmstand,Farmstand
END:VEVENT
BEGIN:VEVENT
DTSTART;TZID=America/New_York:20261020T120000
DTEND;TZID=America/New_York:20261020T140000
DTSTAMP:20260425T115700
CREATED:20251230T205225Z
LAST-MODIFIED:20251230T205226Z
UID:3596-1792497600-1792504800@www.projectsharepa.org
SUMMARY:Drive Thru
DESCRIPTION:An appointment is not needed. If it is your first time visiting Project SHARE\, please call (717) 249-7773. \n\n\n\nLearn more about our Distribution.
URL:https://www.projectsharepa.org/event/drive-thru-22/
LOCATION:Project SHARE Headquarters\, 5 N. Orange St. Suite #4\, Carlisle\, Pennsylvania\, 17013\, United States
CATEGORIES:Drive Thru
END:VEVENT
BEGIN:VEVENT
DTSTART;TZID=America/New_York:20261021T090000
DTEND;TZID=America/New_York:20261021T120000
DTSTAMP:20260425T115700
CREATED:20251230T205548Z
LAST-MODIFIED:20251230T205549Z
UID:3598-1792573200-1792584000@www.projectsharepa.org
SUMMARY:Your Choice Pantry
DESCRIPTION:Shopping is by appointment only. Register at https://timetosignup.com/projectsharepa/. If it is your first time visiting Project SHARE\, please call (717) 249-7773. \n\n\n\nLearn more about our Distribution.
URL:https://www.projectsharepa.org/event/your-choice-pantry-115/
LOCATION:Project SHARE Headquarters\, 5 N. Orange St. Suite #4\, Carlisle\, Pennsylvania\, 17013\, United States
CATEGORIES:Your Choice Pantry,Your Choice Pantry
END:VEVENT
BEGIN:VEVENT
DTSTART;TZID=America/New_York:20261022T140000
DTEND;TZID=America/New_York:20261022T173000
DTSTAMP:20260425T115700
CREATED:20251230T211123Z
LAST-MODIFIED:20251230T211124Z
UID:3600-1792677600-1792690200@www.projectsharepa.org
SUMMARY:Your Choice Pantry
DESCRIPTION:Shopping is by appointment only. Register at https://timetosignup.com/projectsharepa/. If it is your first time visiting Project SHARE\, please call (717) 249-7773. \n\n\n\nLearn more about our Distribution.
URL:https://www.projectsharepa.org/event/your-choice-pantry-116/
LOCATION:Project SHARE Headquarters\, 5 N. Orange St. Suite #4\, Carlisle\, Pennsylvania\, 17013\, United States
CATEGORIES:Your Choice Pantry,Your Choice Pantry
END:VEVENT
BEGIN:VEVENT
DTSTART;TZID=America/New_York:20261023T000000
DTEND;TZID=America/New_York:20261023T235959
DTSTAMP:20260425T115700
CREATED:20251230T211148Z
LAST-MODIFIED:20251230T211150Z
UID:3602-1792713600-1792799999@www.projectsharepa.org
SUMMARY:Project SHARE Closed
DESCRIPTION:
URL:https://www.projectsharepa.org/event/project-share-closed-42/
LOCATION:Pennsylvania
END:VEVENT
BEGIN:VEVENT
DTSTART;TZID=America/New_York:20261024T083000
DTEND;TZID=America/New_York:20261024T120000
DTSTAMP:20260425T115700
CREATED:20251230T211241Z
LAST-MODIFIED:20251230T211242Z
UID:3604-1792830600-1792843200@www.projectsharepa.org
SUMMARY:Your Choice Pantry
DESCRIPTION:Shopping is by appointment only. Register at https://timetosignup.com/projectsharepa/. If it is your first time visiting Project SHARE\, please call (717) 249-7773. \n\n\n\nLearn more about our Distribution.
URL:https://www.projectsharepa.org/event/your-choice-pantry-117/
LOCATION:Project SHARE Headquarters\, 5 N. Orange St. Suite #4\, Carlisle\, Pennsylvania\, 17013\, United States
CATEGORIES:Your Choice Pantry,Your Choice Pantry
END:VEVENT
BEGIN:VEVENT
DTSTART;TZID=America/New_York:20261027T090000
DTEND;TZID=America/New_York:20261027T140000
DTSTAMP:20260425T115700
CREATED:20251231T164554Z
LAST-MODIFIED:20251231T164555Z
UID:3624-1793091600-1793109600@www.projectsharepa.org
SUMMARY:Farmstand
DESCRIPTION:Shopping is by appointment only. Register at https://timetosignup.com/projectsharepa/ \n\n\n\nLearn more about our Farmstand.
URL:https://www.projectsharepa.org/event/farmstand-275/
LOCATION:Project SHARE Farmstand\, 123 Lincoln St\, Carlisle\, Pennsylvania\, 17013\, United States
CATEGORIES:Farmstand,Farmstand
END:VEVENT
BEGIN:VEVENT
DTSTART;TZID=America/New_York:20261027T150000
DTEND;TZID=America/New_York:20261027T173000
DTSTAMP:20260425T115700
CREATED:20251231T164709Z
LAST-MODIFIED:20251231T164710Z
UID:3626-1793113200-1793122200@www.projectsharepa.org
SUMMARY:Farmstand
DESCRIPTION:Shopping is by appointment only. Register at https://timetosignup.com/projectsharepa/ \n\n\n\nLearn more about our Farmstand.
URL:https://www.projectsharepa.org/event/farmstand-276/
LOCATION:Project SHARE Farmstand\, 123 Lincoln St\, Carlisle\, Pennsylvania\, 17013\, United States
CATEGORIES:Farmstand,Farmstand
END:VEVENT
BEGIN:VEVENT
DTSTART;TZID=America/New_York:20261028T090000
DTEND;TZID=America/New_York:20261028T120000
DTSTAMP:20260425T115700
CREATED:20251230T211333Z
LAST-MODIFIED:20251230T211334Z
UID:3606-1793178000-1793188800@www.projectsharepa.org
SUMMARY:Your Choice Pantry
DESCRIPTION:Shopping is by appointment only. Register at https://timetosignup.com/projectsharepa/. If it is your first time visiting Project SHARE\, please call (717) 249-7773. \n\n\n\nLearn more about our Distribution.
URL:https://www.projectsharepa.org/event/your-choice-pantry-118/
LOCATION:Project SHARE Headquarters\, 5 N. Orange St. Suite #4\, Carlisle\, Pennsylvania\, 17013\, United States
CATEGORIES:Your Choice Pantry,Your Choice Pantry
END:VEVENT
BEGIN:VEVENT
DTSTART;TZID=America/New_York:20261029T090000
DTEND;TZID=America/New_York:20261029T120000
DTSTAMP:20260425T115700
CREATED:20251231T185039Z
LAST-MODIFIED:20251231T185040Z
UID:3628-1793264400-1793275200@www.projectsharepa.org
SUMMARY:Your Choice Pantry
DESCRIPTION:Shopping is by appointment only. Register at https://timetosignup.com/projectsharepa/. If it is your first time visiting Project SHARE\, please call (717) 249-7773. \n\n\n\nLearn more about our Distribution.
URL:https://www.projectsharepa.org/event/your-choice-pantry-119/
LOCATION:Project SHARE Headquarters\, 5 N. Orange St. Suite #4\, Carlisle\, Pennsylvania\, 17013\, United States
CATEGORIES:Your Choice Pantry,Your Choice Pantry
END:VEVENT
BEGIN:VEVENT
DTSTART;TZID=America/New_York:20261029T090000
DTEND;TZID=America/New_York:20261029T140000
DTSTAMP:20260425T115700
CREATED:20251231T185127Z
LAST-MODIFIED:20251231T185128Z
UID:3630-1793264400-1793282400@www.projectsharepa.org
SUMMARY:Farmstand
DESCRIPTION:Shopping is by appointment only. Register at https://timetosignup.com/projectsharepa/ \n\n\n\nLearn more about our Farmstand.
URL:https://www.projectsharepa.org/event/farmstand-277/
LOCATION:Project SHARE Farmstand\, 123 Lincoln St\, Carlisle\, Pennsylvania\, 17013\, United States
CATEGORIES:Farmstand,Farmstand
END:VEVENT
BEGIN:VEVENT
DTSTART;TZID=America/New_York:20261030T090000
DTEND;TZID=America/New_York:20261030T120000
DTSTAMP:20260425T115700
CREATED:20251230T211423Z
LAST-MODIFIED:20251230T211424Z
UID:3608-1793350800-1793361600@www.projectsharepa.org
SUMMARY:Farmstand
DESCRIPTION:Shopping is by appointment only. Register at https://timetosignup.com/projectsharepa/ \n\n\n\nLearn more about our Farmstand.
URL:https://www.projectsharepa.org/event/farmstand-274/
LOCATION:Project SHARE Farmstand\, 123 Lincoln St\, Carlisle\, Pennsylvania\, 17013\, United States
CATEGORIES:Farmstand,Farmstand
END:VEVENT
BEGIN:VEVENT
DTSTART;TZID=America/New_York:20261103T090000
DTEND;TZID=America/New_York:20261103T140000
DTSTAMP:20260425T115700
CREATED:20251231T185602Z
LAST-MODIFIED:20251231T185603Z
UID:3640-1793696400-1793714400@www.projectsharepa.org
SUMMARY:Farmstand
DESCRIPTION:Shopping is by appointment only. Register at https://timetosignup.com/projectsharepa/ \n\n\n\nLearn more about our Farmstand.
URL:https://www.projectsharepa.org/event/farmstand-280/
LOCATION:Project SHARE Farmstand\, 123 Lincoln St\, Carlisle\, Pennsylvania\, 17013\, United States
CATEGORIES:Farmstand,Farmstand
END:VEVENT
BEGIN:VEVENT
DTSTART;TZID=America/New_York:20261103T150000
DTEND;TZID=America/New_York:20261103T173000
DTSTAMP:20260425T115700
CREATED:20251231T185644Z
LAST-MODIFIED:20251231T185645Z
UID:3642-1793718000-1793727000@www.projectsharepa.org
SUMMARY:Farmstand
DESCRIPTION:Shopping is by appointment only. Register at https://timetosignup.com/projectsharepa/ \n\n\n\nLearn more about our Farmstand.
URL:https://www.projectsharepa.org/event/farmstand-281/
LOCATION:Project SHARE Farmstand\, 123 Lincoln St\, Carlisle\, Pennsylvania\, 17013\, United States
CATEGORIES:Farmstand,Farmstand
END:VEVENT
BEGIN:VEVENT
DTSTART;TZID=America/New_York:20261104T090000
DTEND;TZID=America/New_York:20261104T120000
DTSTAMP:20260425T115700
CREATED:20251231T194017Z
LAST-MODIFIED:20251231T194019Z
UID:3654-1793782800-1793793600@www.projectsharepa.org
SUMMARY:Your Choice Pantry
DESCRIPTION:Shopping is by appointment only. Register at https://timetosignup.com/projectsharepa/. If it is your first time visiting Project SHARE\, please call (717) 249-7773. \n\n\n\nLearn more about our Distribution.
URL:https://www.projectsharepa.org/event/your-choice-pantry-122/
LOCATION:Project SHARE Headquarters\, 5 N. Orange St. Suite #4\, Carlisle\, Pennsylvania\, 17013\, United States
CATEGORIES:Your Choice Pantry,Your Choice Pantry
END:VEVENT
END:VCALENDAR