BEGIN:VCALENDAR
VERSION:2.0
PRODID:-//Project SHARE - ECPv6.15.20//NONSGML v1.0//EN
CALSCALE:GREGORIAN
METHOD:PUBLISH
X-ORIGINAL-URL:https://www.projectsharepa.org
X-WR-CALDESC:Events for Project SHARE
REFRESH-INTERVAL;VALUE=DURATION:PT1H
X-Robots-Tag:noindex
X-PUBLISHED-TTL:PT1H
BEGIN:VTIMEZONE
TZID:America/New_York
BEGIN:DAYLIGHT
TZOFFSETFROM:-0500
TZOFFSETTO:-0400
TZNAME:EDT
DTSTART:20250309T070000
END:DAYLIGHT
BEGIN:STANDARD
TZOFFSETFROM:-0400
TZOFFSETTO:-0500
TZNAME:EST
DTSTART:20251102T060000
END:STANDARD
BEGIN:DAYLIGHT
TZOFFSETFROM:-0500
TZOFFSETTO:-0400
TZNAME:EDT
DTSTART:20260308T070000
END:DAYLIGHT
BEGIN:STANDARD
TZOFFSETFROM:-0400
TZOFFSETTO:-0500
TZNAME:EST
DTSTART:20261101T060000
END:STANDARD
BEGIN:DAYLIGHT
TZOFFSETFROM:-0500
TZOFFSETTO:-0400
TZNAME:EDT
DTSTART:20270314T070000
END:DAYLIGHT
BEGIN:STANDARD
TZOFFSETFROM:-0400
TZOFFSETTO:-0500
TZNAME:EST
DTSTART:20271107T060000
END:STANDARD
END:VTIMEZONE
BEGIN:VEVENT
DTSTART;TZID=America/New_York:20260122T090000
DTEND;TZID=America/New_York:20260122T120000
DTSTAMP:20260425T115659
CREATED:20251210T211240Z
LAST-MODIFIED:20251212T175411Z
UID:2942-1769072400-1769083200@www.projectsharepa.org
SUMMARY:Your Choice Pantry
DESCRIPTION:Shopping is by appointment only. Register at https://timetosignup.com/projectsharepa/. If it is your first time visiting Project SHARE\, please call (717) 249-7773. \n\n\n\nLearn more about our Distribution.
URL:https://www.projectsharepa.org/event/your-choice-pantry-10/
LOCATION:Project SHARE Headquarters\, 5 N. Orange St. Suite #4\, Carlisle\, Pennsylvania\, 17013\, United States
CATEGORIES:Your Choice Pantry,Your Choice Pantry
END:VEVENT
BEGIN:VEVENT
DTSTART;TZID=America/New_York:20260122T090000
DTEND;TZID=America/New_York:20260122T140000
DTSTAMP:20260425T115659
CREATED:20251210T211337Z
LAST-MODIFIED:20251212T175513Z
UID:2944-1769072400-1769090400@www.projectsharepa.org
SUMMARY:Farmstand
DESCRIPTION:Shopping is by appointment only. Register at https://timetosignup.com/projectsharepa/ \n\n\n\nLearn more about our Farmstand.
URL:https://www.projectsharepa.org/event/farmstand-154/
LOCATION:Project SHARE Farmstand\, 123 Lincoln St\, Carlisle\, Pennsylvania\, 17013\, United States
CATEGORIES:Farmstand,Farmstand
END:VEVENT
BEGIN:VEVENT
DTSTART;TZID=America/New_York:20260122T123000
DTEND;TZID=America/New_York:20260122T143000
DTSTAMP:20260425T115659
CREATED:20260115T134109Z
LAST-MODIFIED:20260115T134110Z
UID:3748-1769085000-1769092200@www.projectsharepa.org
SUMMARY:SHARE Community Class
DESCRIPTION:In partnership with Penn State Health: Know Your Numbers for Better Health \n\n\n\nPresented by Julie Groh\, Community Health Nurse with Penn State Health \n\n\n\nLearn about your risk for cardiovascular disease by knowing your numbers and what they mean. Your numbers include your blood pressure\, blood sugar and cholesterol. Screenings will be done before and after the presentation so you will leave “knowing your numbers.” \n\n\n\nRegister Here: ttsu.me/knowyournumbers \n\n\n\nLunch & childcare will be provided! Also\, each registered participant will receive a SHARE the Health Box. Our SHARE the Health Box meal kits include two complete meals with ingredients and recipes\, each serving 4-6 people. \n\n\n\nQuestions? Contact Alicia\, SHARE Support Program Coordinator at support@projectsharepa.org or (717) 249-7773 ext. 246
URL:https://www.projectsharepa.org/event/share-community-class/
LOCATION:Project SHARE Headquarters\, 5 N. Orange St. Suite #4\, Carlisle\, Pennsylvania\, 17013\, United States
END:VEVENT
BEGIN:VEVENT
DTSTART;TZID=America/New_York:20260122T170000
DTEND;TZID=America/New_York:20260122T183000
DTSTAMP:20260425T115659
CREATED:20251229T144224Z
LAST-MODIFIED:20251229T144225Z
UID:3069-1769101200-1769106600@www.projectsharepa.org
SUMMARY:Kids in the Kitchen
DESCRIPTION:Kids in the Kitchen is designed for children aged 7-14 to learn basic nutrition and gain valuable cooking skills through hands-on learning and collaboration with fellow classmates. \n\n\n\nRegister at https://timetosignup.com/projectsharepa/ \n\n\n\nLearn more about our cooking classes.
URL:https://www.projectsharepa.org/event/kids-in-the-kitchen-10/
LOCATION:Project SHARE Headquarters\, 5 N. Orange St. Suite #4\, Carlisle\, Pennsylvania\, 17013\, United States
CATEGORIES:Cooking Classes
END:VEVENT
BEGIN:VEVENT
DTSTART;TZID=America/New_York:20260123T090000
DTEND;TZID=America/New_York:20260123T120000
DTSTAMP:20260425T115659
CREATED:20251210T211454Z
LAST-MODIFIED:20251212T175545Z
UID:2946-1769158800-1769169600@www.projectsharepa.org
SUMMARY:Farmstand
DESCRIPTION:Shopping is by appointment only. Register at https://timetosignup.com/projectsharepa/ \n\n\n\nLearn more about our Farmstand.
URL:https://www.projectsharepa.org/event/farmstand-155/
LOCATION:Project SHARE Farmstand\, 123 Lincoln St\, Carlisle\, Pennsylvania\, 17013\, United States
CATEGORIES:Farmstand,Farmstand
END:VEVENT
BEGIN:VEVENT
DTSTART;TZID=America/New_York:20260127T090000
DTEND;TZID=America/New_York:20260127T140000
DTSTAMP:20260425T115659
CREATED:20251210T211644Z
LAST-MODIFIED:20251212T175610Z
UID:2948-1769504400-1769522400@www.projectsharepa.org
SUMMARY:Farmstand
DESCRIPTION:Shopping is by appointment only. Register at https://timetosignup.com/projectsharepa/ \n\n\n\nLearn more about our Farmstand.
URL:https://www.projectsharepa.org/event/farmstand-156/
LOCATION:Project SHARE Farmstand\, 123 Lincoln St\, Carlisle\, Pennsylvania\, 17013\, United States
CATEGORIES:Farmstand,Farmstand
END:VEVENT
BEGIN:VEVENT
DTSTART;TZID=America/New_York:20260128T090000
DTEND;TZID=America/New_York:20260128T120000
DTSTAMP:20260425T115659
CREATED:20251210T211746Z
LAST-MODIFIED:20251212T175645Z
UID:2950-1769590800-1769601600@www.projectsharepa.org
SUMMARY:Your Choice Pantry
DESCRIPTION:Shopping is by appointment only. Register at https://timetosignup.com/projectsharepa/. If it is your first time visiting Project SHARE\, please call (717) 249-7773. \n\n\n\nLearn more about our Distribution.
URL:https://www.projectsharepa.org/event/your-choice-pantry-11/
LOCATION:Project SHARE Headquarters\, 5 N. Orange St. Suite #4\, Carlisle\, Pennsylvania\, 17013\, United States
CATEGORIES:Your Choice Pantry,Your Choice Pantry
END:VEVENT
BEGIN:VEVENT
DTSTART;TZID=America/New_York:20260129T090000
DTEND;TZID=America/New_York:20260129T120000
DTSTAMP:20260425T115659
CREATED:20251210T211842Z
LAST-MODIFIED:20251212T175715Z
UID:2952-1769677200-1769688000@www.projectsharepa.org
SUMMARY:Your Choice Pantry
DESCRIPTION:Shopping is by appointment only. Register at https://timetosignup.com/projectsharepa/. If it is your first time visiting Project SHARE\, please call (717) 249-7773. \n\n\n\nLearn more about our Distribution.
URL:https://www.projectsharepa.org/event/your-choice-pantry-12/
LOCATION:Project SHARE Headquarters\, 5 N. Orange St. Suite #4\, Carlisle\, Pennsylvania\, 17013\, United States
CATEGORIES:Your Choice Pantry,Your Choice Pantry
END:VEVENT
BEGIN:VEVENT
DTSTART;TZID=America/New_York:20260129T090000
DTEND;TZID=America/New_York:20260129T140000
DTSTAMP:20260425T115659
CREATED:20251210T211933Z
LAST-MODIFIED:20251212T175738Z
UID:2954-1769677200-1769695200@www.projectsharepa.org
SUMMARY:Farmstand
DESCRIPTION:Shopping is by appointment only. Register at https://timetosignup.com/projectsharepa/ \n\n\n\nLearn more about our Farmstand.
URL:https://www.projectsharepa.org/event/farmstand-157/
LOCATION:Project SHARE Farmstand\, 123 Lincoln St\, Carlisle\, Pennsylvania\, 17013\, United States
CATEGORIES:Farmstand,Farmstand
END:VEVENT
BEGIN:VEVENT
DTSTART;TZID=America/New_York:20260129T170000
DTEND;TZID=America/New_York:20260129T180000
DTSTAMP:20260425T115659
CREATED:20251229T145119Z
LAST-MODIFIED:20251229T145120Z
UID:3087-1769706000-1769709600@www.projectsharepa.org
SUMMARY:Virtual Kids in the Kitchen
DESCRIPTION:Kids in the Kitchen is designed for children aged 7-14 to learn basic nutrition and gain valuable cooking skills through hands-on learning and collaboration with fellow classmates. \n\n\n\nVirtual classes are held over Zoom. Food kits are available to families for pick up prior to class. \n\n\n\nRegister at https://timetosignup.com/projectsharepa/ \n\n\n\nLearn more about our cooking classes here.
URL:https://www.projectsharepa.org/event/virtual-kids-in-the-kitchen-3/
LOCATION:Pennsylvania
CATEGORIES:Cooking Classes
END:VEVENT
BEGIN:VEVENT
DTSTART;TZID=America/New_York:20260130T090000
DTEND;TZID=America/New_York:20260130T120000
DTSTAMP:20260425T115659
CREATED:20251210T212059Z
LAST-MODIFIED:20251212T175805Z
UID:2956-1769763600-1769774400@www.projectsharepa.org
SUMMARY:Farmstand
DESCRIPTION:Shopping is by appointment only. Register at https://timetosignup.com/projectsharepa/ \n\n\n\nLearn more about our Farmstand.
URL:https://www.projectsharepa.org/event/farmstand-158/
LOCATION:Project SHARE Farmstand\, 123 Lincoln St\, Carlisle\, Pennsylvania\, 17013\, United States
CATEGORIES:Farmstand,Farmstand
END:VEVENT
BEGIN:VEVENT
DTSTART;TZID=America/New_York:20260203T090000
DTEND;TZID=America/New_York:20260203T140000
DTSTAMP:20260425T115659
CREATED:20251211T162012Z
LAST-MODIFIED:20251212T175829Z
UID:2963-1770109200-1770127200@www.projectsharepa.org
SUMMARY:Farmstand
DESCRIPTION:Shopping is by appointment only. Register at https://timetosignup.com/projectsharepa/ \n\n\n\nLearn more about our Farmstand.
URL:https://www.projectsharepa.org/event/farmstand-159/
LOCATION:Project SHARE Farmstand\, 123 Lincoln St\, Carlisle\, Pennsylvania\, 17013\, United States
CATEGORIES:Farmstand,Farmstand
END:VEVENT
BEGIN:VEVENT
DTSTART;TZID=America/New_York:20260203T113000
DTEND;TZID=America/New_York:20260203T130000
DTSTAMP:20260425T115659
CREATED:20260115T141035Z
LAST-MODIFIED:20260115T141036Z
UID:3750-1770118200-1770123600@www.projectsharepa.org
SUMMARY:Financial Literacy Class w/ Maranatha-Carlisle
DESCRIPTION:Project SHARE is teaming up again with Maranatha-Carlisle to bring a free financial literacy class to our warehouse. Lean with your peers about savings\, budgeting\, credit building\, debt elimination and more! \n\n\n\nLunch\, a $25 gift card & childcare will be provided at each class! \n\n\n\nRegister Here: ttsu.me/moneywinter26 \n\n\n\nQuestions? Contact Alicia\, SHARE Support Program Coordinator\, at support@projectsharepa.org or (717) 249-7773 ext. 246.
URL:https://www.projectsharepa.org/event/financial-literacy-class-w-maranatha-carlisle/
LOCATION:Project SHARE Headquarters\, 5 N. Orange St. Suite #4\, Carlisle\, Pennsylvania\, 17013\, United States
END:VEVENT
BEGIN:VEVENT
DTSTART;TZID=America/New_York:20260203T150000
DTEND;TZID=America/New_York:20260203T173000
DTSTAMP:20260425T115659
CREATED:20251211T162112Z
LAST-MODIFIED:20251212T175848Z
UID:2965-1770130800-1770139800@www.projectsharepa.org
SUMMARY:Farmstand
DESCRIPTION:Shopping is by appointment only. Register at https://timetosignup.com/projectsharepa/ \n\n\n\nLearn more about our Farmstand.
URL:https://www.projectsharepa.org/event/farmstand-160/
LOCATION:Project SHARE Farmstand\, 123 Lincoln St\, Carlisle\, Pennsylvania\, 17013\, United States
CATEGORIES:Farmstand,Farmstand
END:VEVENT
BEGIN:VEVENT
DTSTART;TZID=America/New_York:20260204T090000
DTEND;TZID=America/New_York:20260204T120000
DTSTAMP:20260425T115659
CREATED:20251211T163553Z
LAST-MODIFIED:20251212T175914Z
UID:2967-1770195600-1770206400@www.projectsharepa.org
SUMMARY:Your Choice Pantry
DESCRIPTION:Shopping is by appointment only. Register at https://timetosignup.com/projectsharepa/. If it is your first time visiting Project SHARE\, please call (717) 249-7773. \n\n\n\nLearn more about our Distribution.
URL:https://www.projectsharepa.org/event/your-choice-pantry-13/
LOCATION:Project SHARE Headquarters\, 5 N. Orange St. Suite #4\, Carlisle\, Pennsylvania\, 17013\, United States
CATEGORIES:Your Choice Pantry,Your Choice Pantry
END:VEVENT
BEGIN:VEVENT
DTSTART;TZID=America/New_York:20260205T090000
DTEND;TZID=America/New_York:20260205T120000
DTSTAMP:20260425T115659
CREATED:20251211T163801Z
LAST-MODIFIED:20251212T175948Z
UID:2971-1770282000-1770292800@www.projectsharepa.org
SUMMARY:Your Choice Pantry
DESCRIPTION:Shopping is by appointment only. Register at https://timetosignup.com/projectsharepa/. If it is your first time visiting Project SHARE\, please call (717) 249-7773. \n\n\n\nLearn more about our Distribution.
URL:https://www.projectsharepa.org/event/your-choice-pantry-14/
LOCATION:Project SHARE Headquarters\, 5 N. Orange St. Suite #4\, Carlisle\, Pennsylvania\, 17013\, United States
CATEGORIES:Your Choice Pantry,Your Choice Pantry
END:VEVENT
BEGIN:VEVENT
DTSTART;TZID=America/New_York:20260205T090000
DTEND;TZID=America/New_York:20260205T140000
DTSTAMP:20260425T115659
CREATED:20251211T163704Z
LAST-MODIFIED:20251212T180059Z
UID:2969-1770282000-1770300000@www.projectsharepa.org
SUMMARY:Farmstand
DESCRIPTION:Shopping is by appointment only. Register at https://timetosignup.com/projectsharepa/ \n\n\n\nLearn more about our Farmstand.
URL:https://www.projectsharepa.org/event/farmstand-161/
LOCATION:Project SHARE Farmstand\, 123 Lincoln St\, Carlisle\, Pennsylvania\, 17013\, United States
CATEGORIES:Farmstand,Farmstand
END:VEVENT
BEGIN:VEVENT
DTSTART;TZID=America/New_York:20260205T170000
DTEND;TZID=America/New_York:20260205T183000
DTSTAMP:20260425T115659
CREATED:20251229T144330Z
LAST-MODIFIED:20251229T144331Z
UID:3071-1770310800-1770316200@www.projectsharepa.org
SUMMARY:Kids in the Kitchen
DESCRIPTION:Kids in the Kitchen is designed for children aged 7-14 to learn basic nutrition and gain valuable cooking skills through hands-on learning and collaboration with fellow classmates. \n\n\n\nRegister at https://timetosignup.com/projectsharepa/ \n\n\n\nLearn more about our cooking classes.
URL:https://www.projectsharepa.org/event/kids-in-the-kitchen-11/
LOCATION:Project SHARE Headquarters\, 5 N. Orange St. Suite #4\, Carlisle\, Pennsylvania\, 17013\, United States
CATEGORIES:Cooking Classes
END:VEVENT
BEGIN:VEVENT
DTSTART;TZID=America/New_York:20260206T090000
DTEND;TZID=America/New_York:20260206T120000
DTSTAMP:20260425T115659
CREATED:20251211T163939Z
LAST-MODIFIED:20251212T180126Z
UID:2973-1770368400-1770379200@www.projectsharepa.org
SUMMARY:Farmstand
DESCRIPTION:Shopping is by appointment only. Register at https://timetosignup.com/projectsharepa/ \n\n\n\nLearn more about our Farmstand.
URL:https://www.projectsharepa.org/event/farmstand-162/
LOCATION:Project SHARE Farmstand\, 123 Lincoln St\, Carlisle\, Pennsylvania\, 17013\, United States
CATEGORIES:Farmstand,Farmstand
END:VEVENT
BEGIN:VEVENT
DTSTART;TZID=America/New_York:20260210T090000
DTEND;TZID=America/New_York:20260210T140000
DTSTAMP:20260425T115659
CREATED:20251211T164045Z
LAST-MODIFIED:20251212T180144Z
UID:2975-1770714000-1770732000@www.projectsharepa.org
SUMMARY:Farmstand
DESCRIPTION:Shopping is by appointment only. Register at https://timetosignup.com/projectsharepa/ \n\n\n\nLearn more about our Farmstand.
URL:https://www.projectsharepa.org/event/farmstand-163/
LOCATION:Project SHARE Farmstand\, 123 Lincoln St\, Carlisle\, Pennsylvania\, 17013\, United States
CATEGORIES:Farmstand,Farmstand
END:VEVENT
BEGIN:VEVENT
DTSTART;TZID=America/New_York:20260210T113000
DTEND;TZID=America/New_York:20260210T130000
DTSTAMP:20260425T115659
CREATED:20260115T141149Z
LAST-MODIFIED:20260115T141150Z
UID:3752-1770723000-1770728400@www.projectsharepa.org
SUMMARY:Financial Literacy Class w/ Maranatha-Carlisle
DESCRIPTION:Project SHARE is teaming up again with Maranatha-Carlisle to bring a free financial literacy class to our warehouse. Lean with your peers about savings\, budgeting\, credit building\, debt elimination and more! \n\n\n\nLunch\, a $25 gift card & childcare will be provided at each class! \n\n\n\nRegister Here: ttsu.me/moneywinter26 \n\n\n\nQuestions? Contact Alicia\, SHARE Support Program Coordinator\, at support@projectsharepa.org or (717) 249-7773 ext. 246.
URL:https://www.projectsharepa.org/event/financial-literacy-class-w-maranatha-carlisle-2/
LOCATION:Project SHARE Headquarters\, 5 N. Orange St. Suite #4\, Carlisle\, Pennsylvania\, 17013\, United States
END:VEVENT
BEGIN:VEVENT
DTSTART;TZID=America/New_York:20260210T150000
DTEND;TZID=America/New_York:20260210T173000
DTSTAMP:20260425T115659
CREATED:20251211T175127Z
LAST-MODIFIED:20251212T180201Z
UID:2977-1770735600-1770744600@www.projectsharepa.org
SUMMARY:Farmstand
DESCRIPTION:Shopping is by appointment only. Register at https://timetosignup.com/projectsharepa/ \n\n\n\nLearn more about our Farmstand.
URL:https://www.projectsharepa.org/event/farmstand-164/
LOCATION:Project SHARE Farmstand\, 123 Lincoln St\, Carlisle\, Pennsylvania\, 17013\, United States
CATEGORIES:Farmstand,Farmstand
END:VEVENT
BEGIN:VEVENT
DTSTART;TZID=America/New_York:20260211T090000
DTEND;TZID=America/New_York:20260211T120000
DTSTAMP:20260425T115659
CREATED:20251211T175221Z
LAST-MODIFIED:20251212T180224Z
UID:2979-1770800400-1770811200@www.projectsharepa.org
SUMMARY:Your Choice Pantry
DESCRIPTION:Shopping is by appointment only. Register at https://timetosignup.com/projectsharepa/. If it is your first time visiting Project SHARE\, please call (717) 249-7773. \n\n\n\nLearn more about our Distribution.
URL:https://www.projectsharepa.org/event/your-choice-pantry-15/
LOCATION:Project SHARE Headquarters\, 5 N. Orange St. Suite #4\, Carlisle\, Pennsylvania\, 17013\, United States
CATEGORIES:Your Choice Pantry,Your Choice Pantry
END:VEVENT
BEGIN:VEVENT
DTSTART;TZID=America/New_York:20260212T090000
DTEND;TZID=America/New_York:20260212T120000
DTSTAMP:20260425T115659
CREATED:20251211T175322Z
LAST-MODIFIED:20251212T180247Z
UID:2981-1770886800-1770897600@www.projectsharepa.org
SUMMARY:Your Choice Pantry
DESCRIPTION:Shopping is by appointment only. Register at https://timetosignup.com/projectsharepa/. If it is your first time visiting Project SHARE\, please call (717) 249-7773. \n\n\n\nLearn more about our Distribution
URL:https://www.projectsharepa.org/event/your-choice-pantry-16/
LOCATION:Project SHARE Headquarters\, 5 N. Orange St. Suite #4\, Carlisle\, Pennsylvania\, 17013\, United States
CATEGORIES:Your Choice Pantry,Your Choice Pantry
END:VEVENT
BEGIN:VEVENT
DTSTART;TZID=America/New_York:20260212T090000
DTEND;TZID=America/New_York:20260212T140000
DTSTAMP:20260425T115659
CREATED:20251211T175408Z
LAST-MODIFIED:20251211T175721Z
UID:2983-1770886800-1770904800@www.projectsharepa.org
SUMMARY:Farmstand
DESCRIPTION:Shopping is by appointment only. Register at https://timetosignup.com/projectsharepa/ \n\n\n\nLearn more about our Farmstand.
URL:https://www.projectsharepa.org/event/farmstand-165/
LOCATION:Project SHARE Farmstand\, 123 Lincoln St\, Carlisle\, Pennsylvania\, 17013\, United States
CATEGORIES:Farmstand,Farmstand
END:VEVENT
BEGIN:VEVENT
DTSTART;TZID=America/New_York:20260212T170000
DTEND;TZID=America/New_York:20260212T183000
DTSTAMP:20260425T115659
CREATED:20251229T145820Z
LAST-MODIFIED:20251229T145821Z
UID:3099-1770915600-1770921000@www.projectsharepa.org
SUMMARY:Slice of the Month
DESCRIPTION:In this class\, adults learn how to prepare easy\, delicious recipes with the foods available during Distribution and/or Farmstand each month. Participants walk away with a simple recipe and its ingredients as well as relationships with fellow Project SHARE community members. \n\n\n\nRegister at https://timetosignup.com/projectsharepa/ \n\n\n\nLearn more about our cooking classes.
URL:https://www.projectsharepa.org/event/slice-of-the-month-4/
LOCATION:Project SHARE Farmstand\, 123 Lincoln St\, Carlisle\, Pennsylvania\, 17013\, United States
CATEGORIES:Cooking Classes
END:VEVENT
BEGIN:VEVENT
DTSTART;TZID=America/New_York:20260213T090000
DTEND;TZID=America/New_York:20260213T120000
DTSTAMP:20260425T115659
CREATED:20251212T172033Z
LAST-MODIFIED:20251212T172034Z
UID:2989-1770973200-1770984000@www.projectsharepa.org
SUMMARY:Farmstand
DESCRIPTION:Shopping is by appointment only. Register at https://timetosignup.com/projectsharepa/ \n\n\n\nLearn more about our Farmstand.
URL:https://www.projectsharepa.org/event/farmstand-166/
LOCATION:Project SHARE Farmstand\, 123 Lincoln St\, Carlisle\, Pennsylvania\, 17013\, United States
CATEGORIES:Farmstand,Farmstand
END:VEVENT
BEGIN:VEVENT
DTSTART;TZID=America/New_York:20260214T083000
DTEND;TZID=America/New_York:20260214T120000
DTSTAMP:20260425T115659
CREATED:20251212T172310Z
LAST-MODIFIED:20251212T172311Z
UID:2991-1771057800-1771070400@www.projectsharepa.org
SUMMARY:Your Choice Pantry
DESCRIPTION:Shopping is by appointment only. Register at https://timetosignup.com/projectsharepa/. If it is your first time visiting Project SHARE\, please call (717) 249-7773. \n\n\n\nLearn more about our Distribution.
URL:https://www.projectsharepa.org/event/your-choice-pantry-17/
LOCATION:Project SHARE Headquarters\, 5 N. Orange St. Suite #4\, Carlisle\, Pennsylvania\, 17013\, United States
CATEGORIES:Your Choice Pantry,Your Choice Pantry
END:VEVENT
BEGIN:VEVENT
DTSTART;TZID=America/New_York:20260216T000000
DTEND;TZID=America/New_York:20260216T235959
DTSTAMP:20260425T115659
CREATED:20251212T172418Z
LAST-MODIFIED:20251212T172419Z
UID:2995-1771200000-1771286399@www.projectsharepa.org
SUMMARY:Project SHARE Closed
DESCRIPTION:Presidents’ Day
URL:https://www.projectsharepa.org/event/project-share-closed-29/
LOCATION:Pennsylvania
END:VEVENT
BEGIN:VEVENT
DTSTART;TZID=America/New_York:20260217T113000
DTEND;TZID=America/New_York:20260217T130000
DTSTAMP:20260425T115659
CREATED:20260115T141555Z
LAST-MODIFIED:20260115T141556Z
UID:3754-1771327800-1771333200@www.projectsharepa.org
SUMMARY:Financial Literacy Class w/ Maranatha-Carlisle
DESCRIPTION:Financial Literacy Class w/ Maranatha-Carlisle \n\n\n\nProject SHARE is teaming up again with Maranatha-Carlisle to bring a free financial literacy class to our warehouse. Learn with your peers about savings\, budgeting\, credit building\, debt elimination and more! \n\n\n\nLunch\, a $25 gift card & childcare will be provided at each class! \n\n\n\nRegister Here: ttsu.me/moneywinter26 \n\n\n\nQuestions? Contact Alicia\, SHARE Support Program Coordinator\, at support@projectsharepa.org or (717) 249-7773 ext. 246.
URL:https://www.projectsharepa.org/event/financial-literacy-class-w-maranatha-carlisle-3/
LOCATION:Project SHARE Headquarters\, 5 N. Orange St. Suite #4\, Carlisle\, Pennsylvania\, 17013\, United States
END:VEVENT
END:VCALENDAR