BEGIN:VCALENDAR
VERSION:2.0
PRODID:-//Project SHARE - ECPv6.15.20//NONSGML v1.0//EN
CALSCALE:GREGORIAN
METHOD:PUBLISH
X-WR-CALNAME:Project SHARE
X-ORIGINAL-URL:https://www.projectsharepa.org
X-WR-CALDESC:Events for Project SHARE
REFRESH-INTERVAL;VALUE=DURATION:PT1H
X-Robots-Tag:noindex
X-PUBLISHED-TTL:PT1H
BEGIN:VTIMEZONE
TZID:America/New_York
BEGIN:DAYLIGHT
TZOFFSETFROM:-0500
TZOFFSETTO:-0400
TZNAME:EDT
DTSTART:20240310T070000
END:DAYLIGHT
BEGIN:STANDARD
TZOFFSETFROM:-0400
TZOFFSETTO:-0500
TZNAME:EST
DTSTART:20241103T060000
END:STANDARD
BEGIN:DAYLIGHT
TZOFFSETFROM:-0500
TZOFFSETTO:-0400
TZNAME:EDT
DTSTART:20250309T070000
END:DAYLIGHT
BEGIN:STANDARD
TZOFFSETFROM:-0400
TZOFFSETTO:-0500
TZNAME:EST
DTSTART:20251102T060000
END:STANDARD
BEGIN:DAYLIGHT
TZOFFSETFROM:-0500
TZOFFSETTO:-0400
TZNAME:EDT
DTSTART:20260308T070000
END:DAYLIGHT
BEGIN:STANDARD
TZOFFSETFROM:-0400
TZOFFSETTO:-0500
TZNAME:EST
DTSTART:20261101T060000
END:STANDARD
END:VTIMEZONE
BEGIN:VEVENT
DTSTART;TZID=America/New_York:20250708T150000
DTEND;TZID=America/New_York:20250708T173000
DTSTAMP:20260425T205525
CREATED:20250123T171641Z
LAST-MODIFIED:20250123T171642Z
UID:2192-1751986800-1751995800@www.projectsharepa.org
SUMMARY:Farmstand
DESCRIPTION:Shopping is by appointment only. Register at https://timetosignup.com/projectsharepa/
URL:https://www.projectsharepa.org/event/farmstand-80/
LOCATION:Pennsylvania
END:VEVENT
BEGIN:VEVENT
DTSTART;TZID=America/New_York:20250708T090000
DTEND;TZID=America/New_York:20250708T140000
DTSTAMP:20260425T205525
CREATED:20250123T171615Z
LAST-MODIFIED:20250123T171616Z
UID:2190-1751965200-1751983200@www.projectsharepa.org
SUMMARY:Farmstand
DESCRIPTION:Shopping is by appointment only. Register at https://timetosignup.com/projectsharepa/
URL:https://www.projectsharepa.org/event/farmstand-79/
LOCATION:Pennsylvania
END:VEVENT
BEGIN:VEVENT
DTSTART;TZID=America/New_York:20250705T083000
DTEND;TZID=America/New_York:20250705T120000
DTSTAMP:20260425T205525
CREATED:20250123T171543Z
LAST-MODIFIED:20250123T171544Z
UID:2188-1751704200-1751716800@www.projectsharepa.org
SUMMARY:Your Choice Distribution
DESCRIPTION:Shopping is by appointment only. Register at https://timetosignup.com/projectsharepa/. If it is your first time visiting Project SHARE\, please call (717) 249-7773.
URL:https://www.projectsharepa.org/event/your-choice-distribution-76/
LOCATION:Pennsylvania
END:VEVENT
BEGIN:VEVENT
DTSTART;TZID=America/New_York:20250704T000000
DTEND;TZID=America/New_York:20250704T235959
DTSTAMP:20260425T205525
CREATED:20250123T171502Z
LAST-MODIFIED:20250123T171503Z
UID:2186-1751587200-1751673599@www.projectsharepa.org
SUMMARY:Project SHARE Closed
DESCRIPTION:Independence Day
URL:https://www.projectsharepa.org/event/project-share-closed-13/
LOCATION:Pennsylvania
END:VEVENT
BEGIN:VEVENT
DTSTART;TZID=America/New_York:20250703T160000
DTEND;TZID=America/New_York:20250703T180000
DTSTAMP:20260425T205525
CREATED:20250123T171425Z
LAST-MODIFIED:20250123T171426Z
UID:2184-1751558400-1751565600@www.projectsharepa.org
SUMMARY:Summer Feeding 4 Kids
DESCRIPTION:Register at https://timetosignup.com/projectsharepa/
URL:https://www.projectsharepa.org/event/summer-feeding-4-kids-9/
LOCATION:Pennsylvania
END:VEVENT
BEGIN:VEVENT
DTSTART;TZID=America/New_York:20250703T100000
DTEND;TZID=America/New_York:20250703T120000
DTSTAMP:20260425T205525
CREATED:20250123T171340Z
LAST-MODIFIED:20250123T171342Z
UID:2182-1751536800-1751544000@www.projectsharepa.org
SUMMARY:Your Choice Distribution
DESCRIPTION:Shopping is by appointment only. Register at https://timetosignup.com/projectsharepa/. If it is your first time visiting Project SHARE\, please call (717) 249-7773.
URL:https://www.projectsharepa.org/event/your-choice-distribution-75/
LOCATION:Pennsylvania
END:VEVENT
BEGIN:VEVENT
DTSTART;TZID=America/New_York:20250703T093000
DTEND;TZID=America/New_York:20250703T140000
DTSTAMP:20260425T205525
CREATED:20250123T171306Z
LAST-MODIFIED:20250123T171307Z
UID:2180-1751535000-1751551200@www.projectsharepa.org
SUMMARY:Farmstand
DESCRIPTION:Shopping is by appointment only. Register at https://timetosignup.com/projectsharepa/
URL:https://www.projectsharepa.org/event/farmstand-78/
LOCATION:Pennsylvania
END:VEVENT
BEGIN:VEVENT
DTSTART;TZID=America/New_York:20250702T140000
DTEND;TZID=America/New_York:20250702T173000
DTSTAMP:20260425T205525
CREATED:20250123T171221Z
LAST-MODIFIED:20250123T171222Z
UID:2178-1751464800-1751477400@www.projectsharepa.org
SUMMARY:Your Choice Distribution
DESCRIPTION:Shopping is by appointment only. Register at https://timetosignup.com/projectsharepa/. If it is your first time visiting Project SHARE\, please call (717) 249-7773.
URL:https://www.projectsharepa.org/event/your-choice-distribution-74/
LOCATION:Pennsylvania
END:VEVENT
BEGIN:VEVENT
DTSTART;TZID=America/New_York:20250702T090000
DTEND;TZID=America/New_York:20250702T120000
DTSTAMP:20260425T205525
CREATED:20250123T171133Z
LAST-MODIFIED:20250123T171134Z
UID:2176-1751446800-1751457600@www.projectsharepa.org
SUMMARY:Your Choice Distribution
DESCRIPTION:Shopping is by appointment only. Register at https://timetosignup.com/projectsharepa/. If it is your first time visiting Project SHARE\, please call (717) 249-7773.
URL:https://www.projectsharepa.org/event/your-choice-distribution-73/
LOCATION:Pennsylvania
END:VEVENT
BEGIN:VEVENT
DTSTART;TZID=America/New_York:20250701T150000
DTEND;TZID=America/New_York:20250701T173000
DTSTAMP:20260425T205525
CREATED:20250123T171102Z
LAST-MODIFIED:20250123T171103Z
UID:2174-1751382000-1751391000@www.projectsharepa.org
SUMMARY:Farmstand
DESCRIPTION:Shopping is by appointment only. Register at https://timetosignup.com/projectsharepa/
URL:https://www.projectsharepa.org/event/farmstand-77/
LOCATION:Pennsylvania
END:VEVENT
BEGIN:VEVENT
DTSTART;TZID=America/New_York:20250701T090000
DTEND;TZID=America/New_York:20250701T140000
DTSTAMP:20260425T205525
CREATED:20250123T171033Z
LAST-MODIFIED:20250123T171034Z
UID:2172-1751360400-1751378400@www.projectsharepa.org
SUMMARY:Farmstand
DESCRIPTION:Shopping is by appointment only. Register at https://timetosignup.com/projectsharepa/
URL:https://www.projectsharepa.org/event/farmstand-76/
LOCATION:Pennsylvania
END:VEVENT
BEGIN:VEVENT
DTSTART;TZID=America/New_York:20250627T090000
DTEND;TZID=America/New_York:20250627T120000
DTSTAMP:20260425T205525
CREATED:20250123T170624Z
LAST-MODIFIED:20250123T170625Z
UID:2168-1751014800-1751025600@www.projectsharepa.org
SUMMARY:Farmstand
DESCRIPTION:Shopping is by appointment only. Register at https://timetosignup.com/projectsharepa/
URL:https://www.projectsharepa.org/event/farmstand-75/
LOCATION:Pennsylvania
END:VEVENT
BEGIN:VEVENT
DTSTART;TZID=America/New_York:20250627T090000
DTEND;TZID=America/New_York:20250627T110000
DTSTAMP:20260425T205525
CREATED:20250123T170658Z
LAST-MODIFIED:20250123T170659Z
UID:2170-1751014800-1751022000@www.projectsharepa.org
SUMMARY:Summer Feeding 4 Kids
DESCRIPTION:Register at https://timetosignup.com/projectsharepa/
URL:https://www.projectsharepa.org/event/summer-feeding-4-kids-8/
LOCATION:Pennsylvania
END:VEVENT
BEGIN:VEVENT
DTSTART;TZID=America/New_York:20250626T160000
DTEND;TZID=America/New_York:20250626T180000
DTSTAMP:20260425T205525
CREATED:20250123T170546Z
LAST-MODIFIED:20250123T170547Z
UID:2166-1750953600-1750960800@www.projectsharepa.org
SUMMARY:Summer Feeding 4 Kids
DESCRIPTION:Register at https://timetosignup.com/projectsharepa/
URL:https://www.projectsharepa.org/event/summer-feeding-4-kids-7/
LOCATION:Pennsylvania
END:VEVENT
BEGIN:VEVENT
DTSTART;TZID=America/New_York:20250626T100000
DTEND;TZID=America/New_York:20250626T120000
DTSTAMP:20260425T205525
CREATED:20250123T170504Z
LAST-MODIFIED:20250123T170505Z
UID:2164-1750932000-1750939200@www.projectsharepa.org
SUMMARY:Your Choice Distribution
DESCRIPTION:Shopping is by appointment only. Register at https://timetosignup.com/projectsharepa/. If it is your first time visiting Project SHARE\, please call (717) 249-7773.
URL:https://www.projectsharepa.org/event/your-choice-distribution-72/
LOCATION:Pennsylvania
END:VEVENT
BEGIN:VEVENT
DTSTART;TZID=America/New_York:20250626T093000
DTEND;TZID=America/New_York:20250626T140000
DTSTAMP:20260425T205525
CREATED:20250123T170430Z
LAST-MODIFIED:20250123T170431Z
UID:2162-1750930200-1750946400@www.projectsharepa.org
SUMMARY:Farmstand
DESCRIPTION:Shopping is by appointment only. Register at https://timetosignup.com/projectsharepa/
URL:https://www.projectsharepa.org/event/farmstand-74/
LOCATION:Pennsylvania
END:VEVENT
BEGIN:VEVENT
DTSTART;TZID=America/New_York:20250625T090000
DTEND;TZID=America/New_York:20250625T120000
DTSTAMP:20260425T205525
CREATED:20250123T170357Z
LAST-MODIFIED:20250123T170359Z
UID:2160-1750842000-1750852800@www.projectsharepa.org
SUMMARY:Your Choice Distribution
DESCRIPTION:Shopping is by appointment only. Register at https://timetosignup.com/projectsharepa/. If it is your first time visiting Project SHARE\, please call (717) 249-7773.
URL:https://www.projectsharepa.org/event/your-choice-distribution-71/
LOCATION:Pennsylvania
END:VEVENT
BEGIN:VEVENT
DTSTART;TZID=America/New_York:20250624T150000
DTEND;TZID=America/New_York:20250624T173000
DTSTAMP:20260425T205525
CREATED:20250123T170323Z
LAST-MODIFIED:20250123T170324Z
UID:2158-1750777200-1750786200@www.projectsharepa.org
SUMMARY:Farmstand
DESCRIPTION:Shopping is by appointment only. Register at https://timetosignup.com/projectsharepa/
URL:https://www.projectsharepa.org/event/farmstand-73/
LOCATION:Pennsylvania
END:VEVENT
BEGIN:VEVENT
DTSTART;TZID=America/New_York:20250624T090000
DTEND;TZID=America/New_York:20250624T140000
DTSTAMP:20260425T205525
CREATED:20250123T170251Z
LAST-MODIFIED:20250123T170252Z
UID:2156-1750755600-1750773600@www.projectsharepa.org
SUMMARY:Farmstand
DESCRIPTION:Shopping is by appointment only. Register at https://timetosignup.com/projectsharepa/
URL:https://www.projectsharepa.org/event/farmstand-72/
LOCATION:Pennsylvania
END:VEVENT
BEGIN:VEVENT
DTSTART;TZID=America/New_York:20250621T083000
DTEND;TZID=America/New_York:20250621T120000
DTSTAMP:20260425T205525
CREATED:20250123T170221Z
LAST-MODIFIED:20250123T170223Z
UID:2154-1750494600-1750507200@www.projectsharepa.org
SUMMARY:Your Choice Distribution
DESCRIPTION:Shopping is by appointment only. Register at https://timetosignup.com/projectsharepa/. If it is your first time visiting Project SHARE\, please call (717) 249-7773.
URL:https://www.projectsharepa.org/event/your-choice-distribution-70/
LOCATION:Pennsylvania
END:VEVENT
BEGIN:VEVENT
DTSTART;TZID=America/New_York:20250620T160000
DTEND;TZID=America/New_York:20250620T180000
DTSTAMP:20260425T205525
CREATED:20250123T170144Z
LAST-MODIFIED:20250123T170145Z
UID:2152-1750435200-1750442400@www.projectsharepa.org
SUMMARY:Summer Feeding 4 Kids
DESCRIPTION:Register at https://timetosignup.com/projectsharepa/
URL:https://www.projectsharepa.org/event/summer-feeding-4-kids-6/
LOCATION:Pennsylvania
END:VEVENT
BEGIN:VEVENT
DTSTART;TZID=America/New_York:20250620T090000
DTEND;TZID=America/New_York:20250620T110000
DTSTAMP:20260425T205525
CREATED:20250123T170112Z
LAST-MODIFIED:20250123T170113Z
UID:2150-1750410000-1750417200@www.projectsharepa.org
SUMMARY:Summer Feeding 4 Kids
DESCRIPTION:Register at https://timetosignup.com/projectsharepa/
URL:https://www.projectsharepa.org/event/summer-feeding-4-kids-5/
LOCATION:Pennsylvania
END:VEVENT
BEGIN:VEVENT
DTSTART;TZID=America/New_York:20250620T000000
DTEND;TZID=America/New_York:20250620T235959
DTSTAMP:20260425T205525
CREATED:20250123T170040Z
LAST-MODIFIED:20250123T170041Z
UID:2148-1750377600-1750463999@www.projectsharepa.org
SUMMARY:Project SHARE Closed
DESCRIPTION:
URL:https://www.projectsharepa.org/event/project-share-closed-12/
LOCATION:Pennsylvania
END:VEVENT
BEGIN:VEVENT
DTSTART;TZID=America/New_York:20250619T000000
DTEND;TZID=America/New_York:20250619T235959
DTSTAMP:20260425T205525
CREATED:20250123T165957Z
LAST-MODIFIED:20250123T165957Z
UID:2146-1750291200-1750377599@www.projectsharepa.org
SUMMARY:Project SHARE Closed
DESCRIPTION:Juneteenth
URL:https://www.projectsharepa.org/event/project-share-closed-11/
LOCATION:Pennsylvania
END:VEVENT
BEGIN:VEVENT
DTSTART;TZID=America/New_York:20250618T140000
DTEND;TZID=America/New_York:20250618T173000
DTSTAMP:20260425T205525
CREATED:20250123T165922Z
LAST-MODIFIED:20250123T165924Z
UID:2144-1750255200-1750267800@www.projectsharepa.org
SUMMARY:Your Choice Distribution
DESCRIPTION:Shopping is by appointment only. Register at https://timetosignup.com/projectsharepa/. If it is your first time visiting Project SHARE\, please call (717) 249-7773.
URL:https://www.projectsharepa.org/event/your-choice-distribution-69/
LOCATION:Pennsylvania
END:VEVENT
BEGIN:VEVENT
DTSTART;TZID=America/New_York:20250618T090000
DTEND;TZID=America/New_York:20250618T120000
DTSTAMP:20260425T205525
CREATED:20250123T165833Z
LAST-MODIFIED:20250123T165834Z
UID:2142-1750237200-1750248000@www.projectsharepa.org
SUMMARY:Your Choice Distribution
DESCRIPTION:Shopping is by appointment only. Register at https://timetosignup.com/projectsharepa/. If it is your first time visiting Project SHARE\, please call (717) 249-7773.
URL:https://www.projectsharepa.org/event/your-choice-distribution-68/
LOCATION:Pennsylvania
END:VEVENT
BEGIN:VEVENT
DTSTART;TZID=America/New_York:20250617T120000
DTEND;TZID=America/New_York:20250617T140000
DTSTAMP:20260425T205525
CREATED:20250123T165801Z
LAST-MODIFIED:20250123T165802Z
UID:2140-1750161600-1750168800@www.projectsharepa.org
SUMMARY:Drive Thru
DESCRIPTION:An appointment is not needed. If it is your first time visiting Project SHARE\, please call (717) 249-7773.
URL:https://www.projectsharepa.org/event/drive-thru-6/
LOCATION:Pennsylvania
END:VEVENT
BEGIN:VEVENT
DTSTART;TZID=America/New_York:20250613T090000
DTEND;TZID=America/New_York:20250613T120000
DTSTAMP:20260425T205525
CREATED:20250123T165638Z
LAST-MODIFIED:20250123T165639Z
UID:2136-1749805200-1749816000@www.projectsharepa.org
SUMMARY:Farmstand
DESCRIPTION:Shopping is by appointment only. Register at https://timetosignup.com/projectsharepa/
URL:https://www.projectsharepa.org/event/farmstand-71/
LOCATION:Pennsylvania
END:VEVENT
BEGIN:VEVENT
DTSTART;TZID=America/New_York:20250613T090000
DTEND;TZID=America/New_York:20250613T110000
DTSTAMP:20260425T205525
CREATED:20250123T165714Z
LAST-MODIFIED:20250123T165715Z
UID:2138-1749805200-1749812400@www.projectsharepa.org
SUMMARY:Summer Feeding 4 Kids
DESCRIPTION:Register at https://timetosignup.com/projectsharepa/
URL:https://www.projectsharepa.org/event/summer-feeding-4-kids-4/
LOCATION:Pennsylvania
END:VEVENT
BEGIN:VEVENT
DTSTART;TZID=America/New_York:20250612T160000
DTEND;TZID=America/New_York:20250612T180000
DTSTAMP:20260425T205525
CREATED:20250123T165401Z
LAST-MODIFIED:20250123T165402Z
UID:2134-1749744000-1749751200@www.projectsharepa.org
SUMMARY:Summer Feeding 4 Kids
DESCRIPTION:Register at https://timetosignup.com/projectsharepa/
URL:https://www.projectsharepa.org/event/summer-feeding-4-kids-3/
LOCATION:Pennsylvania
END:VEVENT
END:VCALENDAR