BEGIN:VCALENDAR
VERSION:2.0
PRODID:-//Project SHARE - ECPv6.15.20//NONSGML v1.0//EN
CALSCALE:GREGORIAN
METHOD:PUBLISH
X-WR-CALNAME:Project SHARE
X-ORIGINAL-URL:https://www.projectsharepa.org
X-WR-CALDESC:Events for Project SHARE
REFRESH-INTERVAL;VALUE=DURATION:PT1H
X-Robots-Tag:noindex
X-PUBLISHED-TTL:PT1H
BEGIN:VTIMEZONE
TZID:America/New_York
BEGIN:DAYLIGHT
TZOFFSETFROM:-0500
TZOFFSETTO:-0400
TZNAME:EDT
DTSTART:20240310T070000
END:DAYLIGHT
BEGIN:STANDARD
TZOFFSETFROM:-0400
TZOFFSETTO:-0500
TZNAME:EST
DTSTART:20241103T060000
END:STANDARD
BEGIN:DAYLIGHT
TZOFFSETFROM:-0500
TZOFFSETTO:-0400
TZNAME:EDT
DTSTART:20250309T070000
END:DAYLIGHT
BEGIN:STANDARD
TZOFFSETFROM:-0400
TZOFFSETTO:-0500
TZNAME:EST
DTSTART:20251102T060000
END:STANDARD
BEGIN:DAYLIGHT
TZOFFSETFROM:-0500
TZOFFSETTO:-0400
TZNAME:EDT
DTSTART:20260308T070000
END:DAYLIGHT
BEGIN:STANDARD
TZOFFSETFROM:-0400
TZOFFSETTO:-0500
TZNAME:EST
DTSTART:20261101T060000
END:STANDARD
END:VTIMEZONE
BEGIN:VEVENT
DTSTART;TZID=America/New_York:20250620T000000
DTEND;TZID=America/New_York:20250620T235959
DTSTAMP:20260425T223559
CREATED:20250123T170040Z
LAST-MODIFIED:20250123T170041Z
UID:2148-1750377600-1750463999@www.projectsharepa.org
SUMMARY:Project SHARE Closed
DESCRIPTION:
URL:https://www.projectsharepa.org/event/project-share-closed-12/
LOCATION:Pennsylvania
END:VEVENT
BEGIN:VEVENT
DTSTART;TZID=America/New_York:20250619T000000
DTEND;TZID=America/New_York:20250619T235959
DTSTAMP:20260425T223559
CREATED:20250123T165957Z
LAST-MODIFIED:20250123T165957Z
UID:2146-1750291200-1750377599@www.projectsharepa.org
SUMMARY:Project SHARE Closed
DESCRIPTION:Juneteenth
URL:https://www.projectsharepa.org/event/project-share-closed-11/
LOCATION:Pennsylvania
END:VEVENT
BEGIN:VEVENT
DTSTART;TZID=America/New_York:20250618T140000
DTEND;TZID=America/New_York:20250618T173000
DTSTAMP:20260425T223559
CREATED:20250123T165922Z
LAST-MODIFIED:20250123T165924Z
UID:2144-1750255200-1750267800@www.projectsharepa.org
SUMMARY:Your Choice Distribution
DESCRIPTION:Shopping is by appointment only. Register at https://timetosignup.com/projectsharepa/. If it is your first time visiting Project SHARE\, please call (717) 249-7773.
URL:https://www.projectsharepa.org/event/your-choice-distribution-69/
LOCATION:Pennsylvania
END:VEVENT
BEGIN:VEVENT
DTSTART;TZID=America/New_York:20250618T090000
DTEND;TZID=America/New_York:20250618T120000
DTSTAMP:20260425T223559
CREATED:20250123T165833Z
LAST-MODIFIED:20250123T165834Z
UID:2142-1750237200-1750248000@www.projectsharepa.org
SUMMARY:Your Choice Distribution
DESCRIPTION:Shopping is by appointment only. Register at https://timetosignup.com/projectsharepa/. If it is your first time visiting Project SHARE\, please call (717) 249-7773.
URL:https://www.projectsharepa.org/event/your-choice-distribution-68/
LOCATION:Pennsylvania
END:VEVENT
BEGIN:VEVENT
DTSTART;TZID=America/New_York:20250617T120000
DTEND;TZID=America/New_York:20250617T140000
DTSTAMP:20260425T223559
CREATED:20250123T165801Z
LAST-MODIFIED:20250123T165802Z
UID:2140-1750161600-1750168800@www.projectsharepa.org
SUMMARY:Drive Thru
DESCRIPTION:An appointment is not needed. If it is your first time visiting Project SHARE\, please call (717) 249-7773.
URL:https://www.projectsharepa.org/event/drive-thru-6/
LOCATION:Pennsylvania
END:VEVENT
BEGIN:VEVENT
DTSTART;TZID=America/New_York:20250613T090000
DTEND;TZID=America/New_York:20250613T120000
DTSTAMP:20260425T223559
CREATED:20250123T165638Z
LAST-MODIFIED:20250123T165639Z
UID:2136-1749805200-1749816000@www.projectsharepa.org
SUMMARY:Farmstand
DESCRIPTION:Shopping is by appointment only. Register at https://timetosignup.com/projectsharepa/
URL:https://www.projectsharepa.org/event/farmstand-71/
LOCATION:Pennsylvania
END:VEVENT
BEGIN:VEVENT
DTSTART;TZID=America/New_York:20250613T090000
DTEND;TZID=America/New_York:20250613T110000
DTSTAMP:20260425T223559
CREATED:20250123T165714Z
LAST-MODIFIED:20250123T165715Z
UID:2138-1749805200-1749812400@www.projectsharepa.org
SUMMARY:Summer Feeding 4 Kids
DESCRIPTION:Register at https://timetosignup.com/projectsharepa/
URL:https://www.projectsharepa.org/event/summer-feeding-4-kids-4/
LOCATION:Pennsylvania
END:VEVENT
BEGIN:VEVENT
DTSTART;TZID=America/New_York:20250612T160000
DTEND;TZID=America/New_York:20250612T180000
DTSTAMP:20260425T223559
CREATED:20250123T165401Z
LAST-MODIFIED:20250123T165402Z
UID:2134-1749744000-1749751200@www.projectsharepa.org
SUMMARY:Summer Feeding 4 Kids
DESCRIPTION:Register at https://timetosignup.com/projectsharepa/
URL:https://www.projectsharepa.org/event/summer-feeding-4-kids-3/
LOCATION:Pennsylvania
END:VEVENT
BEGIN:VEVENT
DTSTART;TZID=America/New_York:20250612T140000
DTEND;TZID=America/New_York:20250612T173000
DTSTAMP:20260425T223559
CREATED:20250123T165320Z
LAST-MODIFIED:20250123T165321Z
UID:2132-1749736800-1749749400@www.projectsharepa.org
SUMMARY:Your Choice Distribution
DESCRIPTION:Shopping is by appointment only. Register at https://timetosignup.com/projectsharepa/. If it is your first time visiting Project SHARE\, please call (717) 249-7773.
URL:https://www.projectsharepa.org/event/your-choice-distribution-67/
LOCATION:Pennsylvania
END:VEVENT
BEGIN:VEVENT
DTSTART;TZID=America/New_York:20250612T100000
DTEND;TZID=America/New_York:20250612T120000
DTSTAMP:20260425T223559
CREATED:20250123T165233Z
LAST-MODIFIED:20250123T165234Z
UID:2130-1749722400-1749729600@www.projectsharepa.org
SUMMARY:Your Choice Distribution
DESCRIPTION:Shopping is by appointment only. Register at https://timetosignup.com/projectsharepa/. If it is your first time visiting Project SHARE\, please call (717) 249-7773.
URL:https://www.projectsharepa.org/event/your-choice-distribution-66/
LOCATION:Pennsylvania
END:VEVENT
BEGIN:VEVENT
DTSTART;TZID=America/New_York:20250612T093000
DTEND;TZID=America/New_York:20250612T140000
DTSTAMP:20260425T223559
CREATED:20250123T165149Z
LAST-MODIFIED:20250123T165151Z
UID:2128-1749720600-1749736800@www.projectsharepa.org
SUMMARY:Farmstand
DESCRIPTION:Shopping is by appointment only. Register at https://timetosignup.com/projectsharepa/
URL:https://www.projectsharepa.org/event/farmstand-70/
LOCATION:Pennsylvania
END:VEVENT
BEGIN:VEVENT
DTSTART;TZID=America/New_York:20250611T090000
DTEND;TZID=America/New_York:20250611T120000
DTSTAMP:20260425T223559
CREATED:20250123T165112Z
LAST-MODIFIED:20250123T165113Z
UID:2126-1749632400-1749643200@www.projectsharepa.org
SUMMARY:Your Choice Distribution
DESCRIPTION:Shopping is by appointment only. Register at https://timetosignup.com/projectsharepa/. If it is your first time visiting Project SHARE\, please call (717) 249-7773.
URL:https://www.projectsharepa.org/event/your-choice-distribution-65/
LOCATION:Pennsylvania
END:VEVENT
BEGIN:VEVENT
DTSTART;TZID=America/New_York:20250610T150000
DTEND;TZID=America/New_York:20250610T173000
DTSTAMP:20260425T223559
CREATED:20250123T165008Z
LAST-MODIFIED:20250123T165009Z
UID:2124-1749567600-1749576600@www.projectsharepa.org
SUMMARY:Farmstand
DESCRIPTION:Shopping is by appointment only. Register at https://timetosignup.com/projectsharepa/
URL:https://www.projectsharepa.org/event/farmstand-69/
LOCATION:Pennsylvania
END:VEVENT
BEGIN:VEVENT
DTSTART;TZID=America/New_York:20250610T090000
DTEND;TZID=America/New_York:20250610T140000
DTSTAMP:20260425T223559
CREATED:20250123T164926Z
LAST-MODIFIED:20250123T164927Z
UID:2122-1749546000-1749564000@www.projectsharepa.org
SUMMARY:Farmstand
DESCRIPTION:Shopping is by appointment only. Register at https://timetosignup.com/projectsharepa/
URL:https://www.projectsharepa.org/event/farmstand-68/
LOCATION:Pennsylvania
END:VEVENT
BEGIN:VEVENT
DTSTART;TZID=America/New_York:20250607T083000
DTEND;TZID=America/New_York:20250607T120000
DTSTAMP:20260425T223559
CREATED:20250123T164844Z
LAST-MODIFIED:20250123T164845Z
UID:2120-1749285000-1749297600@www.projectsharepa.org
SUMMARY:Your Choice Distribution
DESCRIPTION:Shopping is by appointment only. Register at https://timetosignup.com/projectsharepa/. If it is your first time visiting Project SHARE\, please call (717) 249-7773.
URL:https://www.projectsharepa.org/event/your-choice-distribution-64/
LOCATION:Pennsylvania
END:VEVENT
BEGIN:VEVENT
DTSTART;TZID=America/New_York:20250606T090000
DTEND;TZID=America/New_York:20250606T120000
DTSTAMP:20260425T223559
CREATED:20250123T164731Z
LAST-MODIFIED:20250123T164732Z
UID:2116-1749200400-1749211200@www.projectsharepa.org
SUMMARY:Farmstand
DESCRIPTION:Shopping is by appointment only. Register at https://timetosignup.com/projectsharepa/
URL:https://www.projectsharepa.org/event/farmstand-67/
LOCATION:Pennsylvania
END:VEVENT
BEGIN:VEVENT
DTSTART;TZID=America/New_York:20250606T090000
DTEND;TZID=America/New_York:20250606T110000
DTSTAMP:20260425T223559
CREATED:20250123T164807Z
LAST-MODIFIED:20250123T164808Z
UID:2118-1749200400-1749207600@www.projectsharepa.org
SUMMARY:Summer Feeding 4 Kids
DESCRIPTION:Register at https://timetosignup.com/projectsharepa/
URL:https://www.projectsharepa.org/event/summer-feeding-4-kids-2/
LOCATION:Pennsylvania
END:VEVENT
BEGIN:VEVENT
DTSTART;TZID=America/New_York:20250605T160000
DTEND;TZID=America/New_York:20250605T180000
DTSTAMP:20260425T223559
CREATED:20250123T164700Z
LAST-MODIFIED:20250123T164702Z
UID:2114-1749139200-1749146400@www.projectsharepa.org
SUMMARY:Summer Feeding 4 Kids
DESCRIPTION:Register at https://timetosignup.com/projectsharepa/
URL:https://www.projectsharepa.org/event/summer-feeding-4-kids/
LOCATION:Pennsylvania
END:VEVENT
BEGIN:VEVENT
DTSTART;TZID=America/New_York:20250605T100000
DTEND;TZID=America/New_York:20250605T120000
DTSTAMP:20260425T223559
CREATED:20250123T164620Z
LAST-MODIFIED:20250123T164621Z
UID:2112-1749117600-1749124800@www.projectsharepa.org
SUMMARY:Your Choice Distribution
DESCRIPTION:Shopping is by appointment only. Register at https://timetosignup.com/projectsharepa/. If it is your first time visiting Project SHARE\, please call (717) 249-7773.
URL:https://www.projectsharepa.org/event/your-choice-distribution-63/
LOCATION:Pennsylvania
END:VEVENT
BEGIN:VEVENT
DTSTART;TZID=America/New_York:20250605T093000
DTEND;TZID=America/New_York:20250605T140000
DTSTAMP:20260425T223559
CREATED:20250123T164515Z
LAST-MODIFIED:20250123T164516Z
UID:2110-1749115800-1749132000@www.projectsharepa.org
SUMMARY:Farmstand
DESCRIPTION:Shopping is by appointment only. Register at https://timetosignup.com/projectsharepa/
URL:https://www.projectsharepa.org/event/farmstand-66/
LOCATION:Pennsylvania
END:VEVENT
BEGIN:VEVENT
DTSTART;TZID=America/New_York:20250604T140000
DTEND;TZID=America/New_York:20250604T173000
DTSTAMP:20260425T223559
CREATED:20250123T164347Z
LAST-MODIFIED:20250123T164349Z
UID:2108-1749045600-1749058200@www.projectsharepa.org
SUMMARY:Your Choice Distribution
DESCRIPTION:Shopping is by appointment only. Register at https://timetosignup.com/projectsharepa/. If it is your first time visiting Project SHARE\, please call (717) 249-7773.
URL:https://www.projectsharepa.org/event/your-choice-distribution-62/
LOCATION:Pennsylvania
END:VEVENT
BEGIN:VEVENT
DTSTART;TZID=America/New_York:20250604T090000
DTEND;TZID=America/New_York:20250604T120000
DTSTAMP:20260425T223559
CREATED:20250123T164312Z
LAST-MODIFIED:20250123T164313Z
UID:2106-1749027600-1749038400@www.projectsharepa.org
SUMMARY:Your Choice Distribution
DESCRIPTION:Shopping is by appointment only. Register at https://timetosignup.com/projectsharepa/. If it is your first time visiting Project SHARE\, please call (717) 249-7773.
URL:https://www.projectsharepa.org/event/your-choice-distribution-61/
LOCATION:Pennsylvania
END:VEVENT
BEGIN:VEVENT
DTSTART;TZID=America/New_York:20250603T150000
DTEND;TZID=America/New_York:20250603T173000
DTSTAMP:20260425T223559
CREATED:20250123T164234Z
LAST-MODIFIED:20250123T164235Z
UID:2104-1748962800-1748971800@www.projectsharepa.org
SUMMARY:Farmstand
DESCRIPTION:Shopping is by appointment only. Register at https://timetosignup.com/projectsharepa/
URL:https://www.projectsharepa.org/event/farmstand-65/
LOCATION:Pennsylvania
END:VEVENT
BEGIN:VEVENT
DTSTART;TZID=America/New_York:20250603T113000
DTEND;TZID=America/New_York:20250603T130000
DTSTAMP:20260425T223559
CREATED:20250404T144909Z
LAST-MODIFIED:20250404T144910Z
UID:2712-1748950200-1748955600@www.projectsharepa.org
SUMMARY:Financial Literacy Class
DESCRIPTION:Project SHARE is teaming up with Maranatha-Carlisle to bring a free financial literacy class to the warehouse! Lunch\, a gift card and childcare will be provided for all participants. \n\n\n\nWhat: Saving\, Budgeting\, Credit Building\, Debt Elimination & more! \n\n\n\nWhen: Tuesdays\, May 6 – June 3\, from 11:30 a.m. – 1 p.m. \n\n\n\nWhere: Project SHARE\, 5 N. Orange St.\, Suite #4 \n\n\n\nSpace is limited! Sign up here: ttsu.me/money25
URL:https://www.projectsharepa.org/event/financial-literacy-class-5/
LOCATION:Pennsylvania
END:VEVENT
BEGIN:VEVENT
DTSTART;TZID=America/New_York:20250603T090000
DTEND;TZID=America/New_York:20250603T140000
DTSTAMP:20260425T223559
CREATED:20250123T164200Z
LAST-MODIFIED:20250123T164201Z
UID:2102-1748941200-1748959200@www.projectsharepa.org
SUMMARY:Farmstand
DESCRIPTION:Shopping is by appointment only. Register at https://timetosignup.com/projectsharepa/
URL:https://www.projectsharepa.org/event/farmstand-64/
LOCATION:Pennsylvania
END:VEVENT
BEGIN:VEVENT
DTSTART;TZID=America/New_York:20250530T163000
DTEND;TZID=America/New_York:20250530T193000
DTSTAMP:20260425T223559
CREATED:20250417T124157Z
LAST-MODIFIED:20250417T124158Z
UID:2723-1748622600-1748633400@www.projectsharepa.org
SUMMARY:40th Anniversary Block Party
DESCRIPTION:Celebrate 40 Years with Project SHARE! \n\n\n\nFor four decades\, you’ve supported our vision of “Nourishing Our Community…Awakening Hope!” Now\, we’re inviting you to celebrate the impact we’ve made together. \n\n\n\nJoin us for a free anniversary block party at our headquarters on Friday\, May 30\, from 4:30-7:30 p.m. Enjoy a live DJ\, games\, and more! Be sure to check out our Facebook event page for all the details. \n\n\n\nSpecial thanks to our fiscal sponsor\, Bobby Rahal Toyota\, for making this celebration possible!
URL:https://www.projectsharepa.org/event/40th-anniversary-block-party/
LOCATION:Pennsylvania
END:VEVENT
BEGIN:VEVENT
DTSTART;TZID=America/New_York:20250530T090000
DTEND;TZID=America/New_York:20250530T120000
DTSTAMP:20260425T223559
CREATED:20250123T164057Z
LAST-MODIFIED:20250123T164058Z
UID:2100-1748595600-1748606400@www.projectsharepa.org
SUMMARY:Farmstand
DESCRIPTION:Shopping is by appointment only. Register at https://timetosignup.com/projectsharepa/
URL:https://www.projectsharepa.org/event/farmstand-63/
LOCATION:Pennsylvania
END:VEVENT
BEGIN:VEVENT
DTSTART;TZID=America/New_York:20250529T100000
DTEND;TZID=America/New_York:20250529T120000
DTSTAMP:20260425T223559
CREATED:20250123T164018Z
LAST-MODIFIED:20250123T164019Z
UID:2098-1748512800-1748520000@www.projectsharepa.org
SUMMARY:Your Choice Distribution
DESCRIPTION:Shopping is by appointment only. Register at https://timetosignup.com/projectsharepa/. If it is your first time visiting Project SHARE\, please call (717) 249-7773.
URL:https://www.projectsharepa.org/event/your-choice-distribution-60/
LOCATION:Pennsylvania
END:VEVENT
BEGIN:VEVENT
DTSTART;TZID=America/New_York:20250529T093000
DTEND;TZID=America/New_York:20250529T140000
DTSTAMP:20260425T223559
CREATED:20250123T163946Z
LAST-MODIFIED:20250123T163947Z
UID:2096-1748511000-1748527200@www.projectsharepa.org
SUMMARY:Farmstand
DESCRIPTION:Shopping is by appointment only. Register at https://timetosignup.com/projectsharepa/
URL:https://www.projectsharepa.org/event/farmstand-62/
LOCATION:Pennsylvania
END:VEVENT
BEGIN:VEVENT
DTSTART;TZID=America/New_York:20250528T090000
DTEND;TZID=America/New_York:20250528T120000
DTSTAMP:20260425T223559
CREATED:20250123T163847Z
LAST-MODIFIED:20250123T163848Z
UID:2094-1748422800-1748433600@www.projectsharepa.org
SUMMARY:Your Choice Distribution
DESCRIPTION:Shopping is by appointment only. Register at https://timetosignup.com/projectsharepa/. If it is your first time visiting Project SHARE\, please call (717) 249-7773.
URL:https://www.projectsharepa.org/event/your-choice-distribution-59/
LOCATION:Pennsylvania
END:VEVENT
END:VCALENDAR