BEGIN:VCALENDAR
VERSION:2.0
PRODID:-//Project SHARE - ECPv6.15.20//NONSGML v1.0//EN
CALSCALE:GREGORIAN
METHOD:PUBLISH
X-WR-CALNAME:Project SHARE
X-ORIGINAL-URL:https://www.projectsharepa.org
X-WR-CALDESC:Events for Project SHARE
REFRESH-INTERVAL;VALUE=DURATION:PT1H
X-Robots-Tag:noindex
X-PUBLISHED-TTL:PT1H
BEGIN:VTIMEZONE
TZID:America/New_York
BEGIN:DAYLIGHT
TZOFFSETFROM:-0500
TZOFFSETTO:-0400
TZNAME:EDT
DTSTART:20240310T070000
END:DAYLIGHT
BEGIN:STANDARD
TZOFFSETFROM:-0400
TZOFFSETTO:-0500
TZNAME:EST
DTSTART:20241103T060000
END:STANDARD
BEGIN:DAYLIGHT
TZOFFSETFROM:-0500
TZOFFSETTO:-0400
TZNAME:EDT
DTSTART:20250309T070000
END:DAYLIGHT
BEGIN:STANDARD
TZOFFSETFROM:-0400
TZOFFSETTO:-0500
TZNAME:EST
DTSTART:20251102T060000
END:STANDARD
BEGIN:DAYLIGHT
TZOFFSETFROM:-0500
TZOFFSETTO:-0400
TZNAME:EDT
DTSTART:20260308T070000
END:DAYLIGHT
BEGIN:STANDARD
TZOFFSETFROM:-0400
TZOFFSETTO:-0500
TZNAME:EST
DTSTART:20261101T060000
END:STANDARD
END:VTIMEZONE
BEGIN:VEVENT
DTSTART;TZID=America/New_York:20250526T000000
DTEND;TZID=America/New_York:20250526T235959
DTSTAMP:20260426T001751
CREATED:20250123T163646Z
LAST-MODIFIED:20250123T163648Z
UID:2088-1748217600-1748303999@www.projectsharepa.org
SUMMARY:Project SHARE Closed
DESCRIPTION:Memorial Day
URL:https://www.projectsharepa.org/event/project-share-closed-10/
LOCATION:Pennsylvania
END:VEVENT
BEGIN:VEVENT
DTSTART;TZID=America/New_York:20250523T090000
DTEND;TZID=America/New_York:20250523T120000
DTSTAMP:20260426T001751
CREATED:20250123T163424Z
LAST-MODIFIED:20250123T163425Z
UID:2086-1747990800-1748001600@www.projectsharepa.org
SUMMARY:Farmstand
DESCRIPTION:Shopping is by appointment only. Register at https://timetosignup.com/projectsharepa/
URL:https://www.projectsharepa.org/event/farmstand-59/
LOCATION:Pennsylvania
END:VEVENT
BEGIN:VEVENT
DTSTART;TZID=America/New_York:20250522T100000
DTEND;TZID=America/New_York:20250522T120000
DTSTAMP:20260426T001751
CREATED:20250123T163319Z
LAST-MODIFIED:20250123T163320Z
UID:2082-1747908000-1747915200@www.projectsharepa.org
SUMMARY:Your Choice Distribution
DESCRIPTION:Shopping is by appointment only. Register at https://timetosignup.com/projectsharepa/. If it is your first time visiting Project SHARE\, please call (717) 249-7773.
URL:https://www.projectsharepa.org/event/your-choice-distribution-58/
LOCATION:Pennsylvania
END:VEVENT
BEGIN:VEVENT
DTSTART;TZID=America/New_York:20250522T093000
DTEND;TZID=America/New_York:20250522T140000
DTSTAMP:20260426T001751
CREATED:20250123T163245Z
LAST-MODIFIED:20250123T163246Z
UID:2080-1747906200-1747922400@www.projectsharepa.org
SUMMARY:Farmstand
DESCRIPTION:Shopping is by appointment only. Register at https://timetosignup.com/projectsharepa/
URL:https://www.projectsharepa.org/event/farmstand-58/
LOCATION:Pennsylvania
END:VEVENT
BEGIN:VEVENT
DTSTART;TZID=America/New_York:20250521T090000
DTEND;TZID=America/New_York:20250521T120000
DTSTAMP:20260426T001751
CREATED:20250123T163201Z
LAST-MODIFIED:20250123T163202Z
UID:2078-1747818000-1747828800@www.projectsharepa.org
SUMMARY:Your Choice Distribution
DESCRIPTION:Shopping is by appointment only. Register at https://timetosignup.com/projectsharepa/. If it is your first time visiting Project SHARE\, please call (717) 249-7773.
URL:https://www.projectsharepa.org/event/your-choice-distribution-57/
LOCATION:Pennsylvania
END:VEVENT
BEGIN:VEVENT
DTSTART;TZID=America/New_York:20250520T150000
DTEND;TZID=America/New_York:20250520T173000
DTSTAMP:20260426T001751
CREATED:20250123T163114Z
LAST-MODIFIED:20250123T163115Z
UID:2076-1747753200-1747762200@www.projectsharepa.org
SUMMARY:Farmstand
DESCRIPTION:Shopping is by appointment only. Register at https://timetosignup.com/projectsharepa/
URL:https://www.projectsharepa.org/event/farmstand-57/
LOCATION:Pennsylvania
END:VEVENT
BEGIN:VEVENT
DTSTART;TZID=America/New_York:20250520T113000
DTEND;TZID=America/New_York:20250520T130000
DTSTAMP:20260426T001751
CREATED:20250404T144633Z
LAST-MODIFIED:20250404T145022Z
UID:2708-1747740600-1747746000@www.projectsharepa.org
SUMMARY:Financial Literacy Class
DESCRIPTION:Project SHARE is teaming up with Maranatha-Carlisle to bring a free financial literacy class to the warehouse! Lunch\, a gift card and childcare will be provided for all participants. \n\n\n\nWhat: Saving\, Budgeting\, Credit Building\, Debt Elimination & more! \n\n\n\nWhen: Tuesdays\, May 6 – June 3\, from 11:30 a.m. – 1 p.m. \n\n\n\nWhere: Project SHARE\, 5 N. Orange St.\, Suite #4 \n\n\n\nSpace is limited! Sign up here: ttsu.me/money25
URL:https://www.projectsharepa.org/event/financial-literacy-class-3/
LOCATION:Pennsylvania
END:VEVENT
BEGIN:VEVENT
DTSTART;TZID=America/New_York:20250520T090000
DTEND;TZID=America/New_York:20250520T140000
DTSTAMP:20260426T001751
CREATED:20250123T163044Z
LAST-MODIFIED:20250123T163046Z
UID:2074-1747731600-1747749600@www.projectsharepa.org
SUMMARY:Farmstand
DESCRIPTION:Shopping is by appointment only. Register at https://timetosignup.com/projectsharepa/
URL:https://www.projectsharepa.org/event/farmstand-56/
LOCATION:Pennsylvania
END:VEVENT
BEGIN:VEVENT
DTSTART;TZID=America/New_York:20250517T083000
DTEND;TZID=America/New_York:20250517T120000
DTSTAMP:20260426T001751
CREATED:20250123T163013Z
LAST-MODIFIED:20250123T163014Z
UID:2072-1747470600-1747483200@www.projectsharepa.org
SUMMARY:Your Choice Distribution
DESCRIPTION:Shopping is by appointment only. Register at https://timetosignup.com/projectsharepa/. If it is your first time visiting Project SHARE\, please call (717) 249-7773.
URL:https://www.projectsharepa.org/event/your-choice-distribution-56/
LOCATION:Pennsylvania
END:VEVENT
BEGIN:VEVENT
DTSTART;TZID=America/New_York:20250516T000000
DTEND;TZID=America/New_York:20250516T235959
DTSTAMP:20260426T001751
CREATED:20250123T162937Z
LAST-MODIFIED:20250123T162938Z
UID:2070-1747353600-1747439999@www.projectsharepa.org
SUMMARY:Project SHARE Closed
DESCRIPTION:
URL:https://www.projectsharepa.org/event/project-share-closed-9/
LOCATION:Pennsylvania
END:VEVENT
BEGIN:VEVENT
DTSTART;TZID=America/New_York:20250515T140000
DTEND;TZID=America/New_York:20250515T173000
DTSTAMP:20260426T001751
CREATED:20250123T162909Z
LAST-MODIFIED:20250123T162910Z
UID:2068-1747317600-1747330200@www.projectsharepa.org
SUMMARY:Your Choice Distribution
DESCRIPTION:Shopping is by appointment only. Register at https://timetosignup.com/projectsharepa/. If it is your first time visiting Project SHARE\, please call (717) 249-7773.
URL:https://www.projectsharepa.org/event/your-choice-distribution-55/
LOCATION:Pennsylvania
END:VEVENT
BEGIN:VEVENT
DTSTART;TZID=America/New_York:20250514T140000
DTEND;TZID=America/New_York:20250514T173000
DTSTAMP:20260426T001751
CREATED:20250123T162827Z
LAST-MODIFIED:20250123T162828Z
UID:2066-1747231200-1747243800@www.projectsharepa.org
SUMMARY:Your Choice Distribution
DESCRIPTION:Shopping is by appointment only. Register at https://timetosignup.com/projectsharepa/. If it is your first time visiting Project SHARE\, please call (717) 249-7773.
URL:https://www.projectsharepa.org/event/your-choice-distribution-54/
LOCATION:Pennsylvania
END:VEVENT
BEGIN:VEVENT
DTSTART;TZID=America/New_York:20250514T090000
DTEND;TZID=America/New_York:20250514T120000
DTSTAMP:20260426T001751
CREATED:20250123T162705Z
LAST-MODIFIED:20250123T162706Z
UID:2064-1747213200-1747224000@www.projectsharepa.org
SUMMARY:Your Choice Distribution
DESCRIPTION:Shopping is by appointment only. Register at https://timetosignup.com/projectsharepa/. If it is your first time visiting Project SHARE\, please call (717) 249-7773.
URL:https://www.projectsharepa.org/event/your-choice-distribution-53/
LOCATION:Pennsylvania
END:VEVENT
BEGIN:VEVENT
DTSTART;TZID=America/New_York:20250513T120000
DTEND;TZID=America/New_York:20250513T140000
DTSTAMP:20260426T001751
CREATED:20250123T162612Z
LAST-MODIFIED:20250123T162613Z
UID:2062-1747137600-1747144800@www.projectsharepa.org
SUMMARY:Drive Thru
DESCRIPTION:An appointment is not needed. If it is your first time visiting Project SHARE\, please call (717) 249-7773.
URL:https://www.projectsharepa.org/event/drive-thru-5/
LOCATION:Pennsylvania
END:VEVENT
BEGIN:VEVENT
DTSTART;TZID=America/New_York:20250513T113000
DTEND;TZID=America/New_York:20250513T130000
DTSTAMP:20260426T001751
CREATED:20250404T144439Z
LAST-MODIFIED:20250404T145045Z
UID:2706-1747135800-1747141200@www.projectsharepa.org
SUMMARY:Financial Literacy Class
DESCRIPTION:Project SHARE is teaming up with Maranatha-Carlisle to bring a free financial literacy class to the warehouse! Lunch\, a gift card and childcare will be provided for all participants. \n\n\n\nWhat: Saving\, Budgeting\, Credit Building\, Debt Elimination & more! \n\n\n\nWhen: Tuesdays\, May 6 – June 3\, from 11:30 a.m. – 1 p.m. \n\n\n\nWhere: Project SHARE\, 5 N. Orange St.\, Suite #4 \n\n\n\nSpace is limited! Sign up here: ttsu.me/money25
URL:https://www.projectsharepa.org/event/financial-literacy-class-2/
LOCATION:Pennsylvania
END:VEVENT
BEGIN:VEVENT
DTSTART;TZID=America/New_York:20250510T083000
DTEND;TZID=America/New_York:20250510T120000
DTSTAMP:20260426T001751
CREATED:20250123T162532Z
LAST-MODIFIED:20250123T162533Z
UID:2060-1746865800-1746878400@www.projectsharepa.org
SUMMARY:Your Choice Distribution
DESCRIPTION:Shopping is by appointment only. Register at https://timetosignup.com/projectsharepa/. If it is your first time visiting Project SHARE\, please call (717) 249-7773.
URL:https://www.projectsharepa.org/event/your-choice-distribution-52/
LOCATION:Pennsylvania
END:VEVENT
BEGIN:VEVENT
DTSTART;TZID=America/New_York:20250509T090000
DTEND;TZID=America/New_York:20250509T120000
DTSTAMP:20260426T001751
CREATED:20250123T162501Z
LAST-MODIFIED:20250123T162502Z
UID:2058-1746781200-1746792000@www.projectsharepa.org
SUMMARY:Farmstand
DESCRIPTION:Shopping is by appointment only. Register at https://timetosignup.com/projectsharepa/
URL:https://www.projectsharepa.org/event/farmstand-55/
LOCATION:Pennsylvania
END:VEVENT
BEGIN:VEVENT
DTSTART;TZID=America/New_York:20250508T100000
DTEND;TZID=America/New_York:20250508T120000
DTSTAMP:20260426T001751
CREATED:20250123T162354Z
LAST-MODIFIED:20250123T162356Z
UID:2054-1746698400-1746705600@www.projectsharepa.org
SUMMARY:Your Choice Distribution
DESCRIPTION:Shopping is by appointment only. Register at https://timetosignup.com/projectsharepa/. If it is your first time visiting Project SHARE\, please call (717) 249-7773.
URL:https://www.projectsharepa.org/event/your-choice-distribution-51/
LOCATION:Pennsylvania
END:VEVENT
BEGIN:VEVENT
DTSTART;TZID=America/New_York:20250508T093000
DTEND;TZID=America/New_York:20250508T140000
DTSTAMP:20260426T001751
CREATED:20250123T162318Z
LAST-MODIFIED:20250123T162319Z
UID:2052-1746696600-1746712800@www.projectsharepa.org
SUMMARY:Farmstand
DESCRIPTION:Shopping is by appointment only. Register at https://timetosignup.com/projectsharepa/
URL:https://www.projectsharepa.org/event/farmstand-54/
LOCATION:Pennsylvania
END:VEVENT
BEGIN:VEVENT
DTSTART;TZID=America/New_York:20250507T140000
DTEND;TZID=America/New_York:20250507T173000
DTSTAMP:20260426T001751
CREATED:20250123T162240Z
LAST-MODIFIED:20250123T162241Z
UID:2050-1746626400-1746639000@www.projectsharepa.org
SUMMARY:Your Choice Distribution
DESCRIPTION:Shopping is by appointment only. Register at https://timetosignup.com/projectsharepa/. If it is your first time visiting Project SHARE\, please call (717) 249-7773.
URL:https://www.projectsharepa.org/event/your-choice-distribution-50/
LOCATION:Pennsylvania
END:VEVENT
BEGIN:VEVENT
DTSTART;TZID=America/New_York:20250507T090000
DTEND;TZID=America/New_York:20250507T120000
DTSTAMP:20260426T001751
CREATED:20250123T162206Z
LAST-MODIFIED:20250123T162207Z
UID:2048-1746608400-1746619200@www.projectsharepa.org
SUMMARY:Your Choice Distribution
DESCRIPTION:Shopping is by appointment only. Register at https://timetosignup.com/projectsharepa/. If it is your first time visiting Project SHARE\, please call (717) 249-7773.
URL:https://www.projectsharepa.org/event/your-choice-distribution-49/
LOCATION:Pennsylvania
END:VEVENT
BEGIN:VEVENT
DTSTART;TZID=America/New_York:20250506T113000
DTEND;TZID=America/New_York:20250506T130000
DTSTAMP:20260426T001751
CREATED:20250404T144259Z
LAST-MODIFIED:20250404T145126Z
UID:2702-1746531000-1746536400@www.projectsharepa.org
SUMMARY:Financial Literacy Class
DESCRIPTION:Project SHARE is teaming up with Maranatha-Carlisle to bring a free financial literacy class to the warehouse! Lunch\, a gift card and childcare will be provided for all participants. \n\n\n\nWhat: Saving\, Budgeting\, Credit Building\, Debt Elimination & more! \n\n\n\nWhen: Tuesdays\, May 6 – June 3\, from 11:30 a.m. – 1 p.m. \n\n\n\nWhere: Project SHARE\, 5 N. Orange St.\, Suite #4 \n\n\n\nSpace is limited! Sign up here: ttsu.me/money25
URL:https://www.projectsharepa.org/event/financial-literacy-class/
LOCATION:5 N. Orange St. Suite #4\, Carlisle\, PA 17013
END:VEVENT
BEGIN:VEVENT
DTSTART;TZID=America/New_York:20250502T090000
DTEND;TZID=America/New_York:20250502T120000
DTSTAMP:20260426T001751
CREATED:20250123T162119Z
LAST-MODIFIED:20250123T162120Z
UID:2046-1746176400-1746187200@www.projectsharepa.org
SUMMARY:Farmstand
DESCRIPTION:Shopping is by appointment only. Register at https://timetosignup.com/projectsharepa/
URL:https://www.projectsharepa.org/event/farmstand-53/
LOCATION:Pennsylvania
END:VEVENT
BEGIN:VEVENT
DTSTART;TZID=America/New_York:20250501T170000
DTEND;TZID=America/New_York:20250501T183000
DTSTAMP:20260426T001751
CREATED:20250123T162029Z
LAST-MODIFIED:20250123T162030Z
UID:2044-1746118800-1746124200@www.projectsharepa.org
SUMMARY:Kids in the Kitchen
DESCRIPTION:Register at https://timetosignup.com/projectsharepa/
URL:https://www.projectsharepa.org/event/kids-in-the-kitchen-5/
LOCATION:Pennsylvania
END:VEVENT
BEGIN:VEVENT
DTSTART;TZID=America/New_York:20250501T100000
DTEND;TZID=America/New_York:20250501T120000
DTSTAMP:20260426T001751
CREATED:20250123T161956Z
LAST-MODIFIED:20250123T161957Z
UID:2042-1746093600-1746100800@www.projectsharepa.org
SUMMARY:Your Choice Distribution
DESCRIPTION:Shopping is by appointment only. Register at https://timetosignup.com/projectsharepa/. If it is your first time visiting Project SHARE\, please call (717) 249-7773.
URL:https://www.projectsharepa.org/event/your-choice-distribution-48/
LOCATION:Pennsylvania
END:VEVENT
BEGIN:VEVENT
DTSTART;TZID=America/New_York:20250501T093000
DTEND;TZID=America/New_York:20250501T140000
DTSTAMP:20260426T001751
CREATED:20250123T161914Z
LAST-MODIFIED:20250123T161914Z
UID:2040-1746091800-1746108000@www.projectsharepa.org
SUMMARY:Farmstand
DESCRIPTION:Shopping is by appointment only. Register at https://timetosignup.com/projectsharepa/
URL:https://www.projectsharepa.org/event/farmstand-52/
LOCATION:Pennsylvania
END:VEVENT
BEGIN:VEVENT
DTSTART;TZID=America/New_York:20250430T090000
DTEND;TZID=America/New_York:20250430T120000
DTSTAMP:20260426T001751
CREATED:20250123T161842Z
LAST-MODIFIED:20250123T161843Z
UID:2038-1746003600-1746014400@www.projectsharepa.org
SUMMARY:Your Choice Distribution
DESCRIPTION:Shopping is by appointment only. Register at https://timetosignup.com/projectsharepa/. If it is your first time visiting Project SHARE\, please call (717) 249-7773.
URL:https://www.projectsharepa.org/event/your-choice-distribution-47/
LOCATION:Pennsylvania
END:VEVENT
BEGIN:VEVENT
DTSTART;TZID=America/New_York:20250429T150000
DTEND;TZID=America/New_York:20250429T173000
DTSTAMP:20260426T001751
CREATED:20250123T161803Z
LAST-MODIFIED:20250123T161805Z
UID:2036-1745938800-1745947800@www.projectsharepa.org
SUMMARY:Farmstand
DESCRIPTION:Shopping is by appointment only. Register at https://timetosignup.com/projectsharepa/
URL:https://www.projectsharepa.org/event/farmstand-51/
LOCATION:Pennsylvania
END:VEVENT
BEGIN:VEVENT
DTSTART;TZID=America/New_York:20250429T090000
DTEND;TZID=America/New_York:20250429T140000
DTSTAMP:20260426T001751
CREATED:20250123T161729Z
LAST-MODIFIED:20250123T161731Z
UID:2034-1745917200-1745935200@www.projectsharepa.org
SUMMARY:Farmstand
DESCRIPTION:Shopping is by appointment only. Register at https://timetosignup.com/projectsharepa/
URL:https://www.projectsharepa.org/event/farmstand-50/
LOCATION:Pennsylvania
END:VEVENT
BEGIN:VEVENT
DTSTART;TZID=America/New_York:20250425T090000
DTEND;TZID=America/New_York:20250425T120000
DTSTAMP:20260426T001751
CREATED:20250123T161652Z
LAST-MODIFIED:20250123T161654Z
UID:2032-1745571600-1745582400@www.projectsharepa.org
SUMMARY:Farmstand
DESCRIPTION:Shopping is by appointment only. Register at https://timetosignup.com/projectsharepa/
URL:https://www.projectsharepa.org/event/farmstand-49/
LOCATION:Pennsylvania
END:VEVENT
END:VCALENDAR