BEGIN:VCALENDAR
VERSION:2.0
PRODID:-//Project SHARE - ECPv6.15.20//NONSGML v1.0//EN
CALSCALE:GREGORIAN
METHOD:PUBLISH
X-WR-CALNAME:Project SHARE
X-ORIGINAL-URL:https://www.projectsharepa.org
X-WR-CALDESC:Events for Project SHARE
REFRESH-INTERVAL;VALUE=DURATION:PT1H
X-Robots-Tag:noindex
X-PUBLISHED-TTL:PT1H
BEGIN:VTIMEZONE
TZID:America/New_York
BEGIN:DAYLIGHT
TZOFFSETFROM:-0500
TZOFFSETTO:-0400
TZNAME:EDT
DTSTART:20250309T070000
END:DAYLIGHT
BEGIN:STANDARD
TZOFFSETFROM:-0400
TZOFFSETTO:-0500
TZNAME:EST
DTSTART:20251102T060000
END:STANDARD
BEGIN:DAYLIGHT
TZOFFSETFROM:-0500
TZOFFSETTO:-0400
TZNAME:EDT
DTSTART:20260308T070000
END:DAYLIGHT
BEGIN:STANDARD
TZOFFSETFROM:-0400
TZOFFSETTO:-0500
TZNAME:EST
DTSTART:20261101T060000
END:STANDARD
BEGIN:DAYLIGHT
TZOFFSETFROM:-0500
TZOFFSETTO:-0400
TZNAME:EDT
DTSTART:20270314T070000
END:DAYLIGHT
BEGIN:STANDARD
TZOFFSETFROM:-0400
TZOFFSETTO:-0500
TZNAME:EST
DTSTART:20271107T060000
END:STANDARD
END:VTIMEZONE
BEGIN:VEVENT
DTSTART;TZID=America/New_York:20260902T090000
DTEND;TZID=America/New_York:20260902T120000
DTSTAMP:20260425T103103
CREATED:20251230T190049Z
LAST-MODIFIED:20251230T190050Z
UID:3397-1788339600-1788350400@www.projectsharepa.org
SUMMARY:Your Choice Pantry
DESCRIPTION:Shopping is by appointment only. Register at https://timetosignup.com/projectsharepa/. If it is your first time visiting Project SHARE\, please call (717) 249-7773. \n\n\n\nLearn more about our Distribution.
URL:https://www.projectsharepa.org/event/your-choice-pantry-76/
LOCATION:Project SHARE Headquarters\, 5 N. Orange St. Suite #4\, Carlisle\, Pennsylvania\, 17013\, United States
CATEGORIES:Your Choice Pantry,Your Choice Pantry
END:VEVENT
BEGIN:VEVENT
DTSTART;TZID=America/New_York:20260901T150000
DTEND;TZID=America/New_York:20260901T173000
DTSTAMP:20260425T103103
CREATED:20251230T185953Z
LAST-MODIFIED:20251230T185954Z
UID:3395-1788274800-1788283800@www.projectsharepa.org
SUMMARY:Farmstand
DESCRIPTION:Shopping is by appointment only. Register at https://timetosignup.com/projectsharepa/ \n\n\n\nLearn more about our Farmstand.
URL:https://www.projectsharepa.org/event/farmstand-231/
LOCATION:Project SHARE Farmstand\, 123 Lincoln St\, Carlisle\, Pennsylvania\, 17013\, United States
CATEGORIES:Farmstand,Farmstand
END:VEVENT
BEGIN:VEVENT
DTSTART;TZID=America/New_York:20260901T090000
DTEND;TZID=America/New_York:20260901T140000
DTSTAMP:20260425T103103
CREATED:20251230T185906Z
LAST-MODIFIED:20251230T185907Z
UID:3393-1788253200-1788271200@www.projectsharepa.org
SUMMARY:Farmstand
DESCRIPTION:Shopping is by appointment only. Register at https://timetosignup.com/projectsharepa/ \n\n\n\nLearn more about our Farmstand.
URL:https://www.projectsharepa.org/event/farmstand-230/
LOCATION:Project SHARE Farmstand\, 123 Lincoln St\, Carlisle\, Pennsylvania\, 17013\, United States
CATEGORIES:Farmstand,Farmstand
END:VEVENT
BEGIN:VEVENT
DTSTART;TZID=America/New_York:20260828T090000
DTEND;TZID=America/New_York:20260828T120000
DTSTAMP:20260425T103103
CREATED:20251230T201551Z
LAST-MODIFIED:20251230T201552Z
UID:3524-1787907600-1787918400@www.projectsharepa.org
SUMMARY:Farmstand
DESCRIPTION:Shopping is by appointment only. Register at https://timetosignup.com/projectsharepa/ \n\n\n\nLearn more about our Farmstand.
URL:https://www.projectsharepa.org/event/farmstand-255/
LOCATION:Project SHARE Farmstand\, 123 Lincoln St\, Carlisle\, Pennsylvania\, 17013\, United States
CATEGORIES:Farmstand,Farmstand
END:VEVENT
BEGIN:VEVENT
DTSTART;TZID=America/New_York:20260827T140000
DTEND;TZID=America/New_York:20260827T173000
DTSTAMP:20260425T103103
CREATED:20251230T201417Z
LAST-MODIFIED:20251230T201418Z
UID:3520-1787839200-1787851800@www.projectsharepa.org
SUMMARY:Your Choice Pantry
DESCRIPTION:Shopping is by appointment only. Register at https://timetosignup.com/projectsharepa/. If it is your first time visiting Project SHARE\, please call (717) 249-7773. \n\n\n\nLearn more about our Distribution.
URL:https://www.projectsharepa.org/event/your-choice-pantry-99/
LOCATION:Project SHARE Headquarters\, 5 N. Orange St. Suite #4\, Carlisle\, Pennsylvania\, 17013\, United States
CATEGORIES:Your Choice Pantry,Your Choice Pantry
END:VEVENT
BEGIN:VEVENT
DTSTART;TZID=America/New_York:20260827T090000
DTEND;TZID=America/New_York:20260827T140000
DTSTAMP:20260425T103103
CREATED:20251230T201502Z
LAST-MODIFIED:20251230T201504Z
UID:3522-1787821200-1787839200@www.projectsharepa.org
SUMMARY:Farmstand
DESCRIPTION:Shopping is by appointment only. Register at https://timetosignup.com/projectsharepa/ \n\n\n\nLearn more about our Farmstand.
URL:https://www.projectsharepa.org/event/farmstand-254/
LOCATION:Project SHARE Farmstand\, 123 Lincoln St\, Carlisle\, Pennsylvania\, 17013\, United States
CATEGORIES:Farmstand,Farmstand
END:VEVENT
BEGIN:VEVENT
DTSTART;TZID=America/New_York:20260827T090000
DTEND;TZID=America/New_York:20260827T120000
DTSTAMP:20260425T103103
CREATED:20251230T201327Z
LAST-MODIFIED:20251230T201329Z
UID:3518-1787821200-1787832000@www.projectsharepa.org
SUMMARY:Your Choice Pantry
DESCRIPTION:Shopping is by appointment only. Register at https://timetosignup.com/projectsharepa/. If it is your first time visiting Project SHARE\, please call (717) 249-7773. \n\n\n\nLearn more about our Distribution.
URL:https://www.projectsharepa.org/event/your-choice-pantry-98/
LOCATION:Project SHARE Headquarters\, 5 N. Orange St. Suite #4\, Carlisle\, Pennsylvania\, 17013\, United States
CATEGORIES:Your Choice Pantry,Your Choice Pantry
END:VEVENT
BEGIN:VEVENT
DTSTART;TZID=America/New_York:20260826T090000
DTEND;TZID=America/New_York:20260826T120000
DTSTAMP:20260425T103103
CREATED:20251230T201231Z
LAST-MODIFIED:20251230T201232Z
UID:3516-1787734800-1787745600@www.projectsharepa.org
SUMMARY:Your Choice Pantry
DESCRIPTION:Shopping is by appointment only. Register at https://timetosignup.com/projectsharepa/. If it is your first time visiting Project SHARE\, please call (717) 249-7773. \n\n\n\nLearn more about our Distribution.
URL:https://www.projectsharepa.org/event/your-choice-pantry-97/
LOCATION:Project SHARE Headquarters\, 5 N. Orange St. Suite #4\, Carlisle\, Pennsylvania\, 17013\, United States
CATEGORIES:Your Choice Pantry,Your Choice Pantry
END:VEVENT
BEGIN:VEVENT
DTSTART;TZID=America/New_York:20260825T150000
DTEND;TZID=America/New_York:20260825T173000
DTSTAMP:20260425T103103
CREATED:20251230T200959Z
LAST-MODIFIED:20251230T201000Z
UID:3514-1787670000-1787679000@www.projectsharepa.org
SUMMARY:Farmstand
DESCRIPTION:Shopping is by appointment only. Register at https://timetosignup.com/projectsharepa/ \n\n\n\nLearn more about our Farmstand.
URL:https://www.projectsharepa.org/event/farmstand-253/
LOCATION:Project SHARE Farmstand\, 123 Lincoln St\, Carlisle\, Pennsylvania\, 17013\, United States
CATEGORIES:Farmstand,Farmstand
END:VEVENT
BEGIN:VEVENT
DTSTART;TZID=America/New_York:20260825T090000
DTEND;TZID=America/New_York:20260825T140000
DTSTAMP:20260425T103103
CREATED:20251230T200844Z
LAST-MODIFIED:20251230T200846Z
UID:3512-1787648400-1787666400@www.projectsharepa.org
SUMMARY:Farmstand
DESCRIPTION:Shopping is by appointment only. Register at https://timetosignup.com/projectsharepa/ \n\n\n\nLearn more about our Farmstand.
URL:https://www.projectsharepa.org/event/farmstand-252/
LOCATION:Project SHARE Farmstand\, 123 Lincoln St\, Carlisle\, Pennsylvania\, 17013\, United States
CATEGORIES:Farmstand,Farmstand
END:VEVENT
BEGIN:VEVENT
DTSTART;TZID=America/New_York:20260822T083000
DTEND;TZID=America/New_York:20260822T120000
DTSTAMP:20260425T103103
CREATED:20251230T200748Z
LAST-MODIFIED:20251230T200749Z
UID:3510-1787387400-1787400000@www.projectsharepa.org
SUMMARY:Your Choice Pantry
DESCRIPTION:Shopping is by appointment only. Register at https://timetosignup.com/projectsharepa/. If it is your first time visiting Project SHARE\, please call (717) 249-7773. \n\n\n\nLearn more about our Distribution.
URL:https://www.projectsharepa.org/event/your-choice-pantry-96/
LOCATION:Project SHARE Headquarters\, 5 N. Orange St. Suite #4\, Carlisle\, Pennsylvania\, 17013\, United States
CATEGORIES:Your Choice Pantry,Your Choice Pantry
END:VEVENT
BEGIN:VEVENT
DTSTART;TZID=America/New_York:20260821T000000
DTEND;TZID=America/New_York:20260821T235959
DTSTAMP:20260425T103103
CREATED:20251230T200646Z
LAST-MODIFIED:20251230T200648Z
UID:3508-1787270400-1787356799@www.projectsharepa.org
SUMMARY:Project SHARE Closed
DESCRIPTION:
URL:https://www.projectsharepa.org/event/project-share-closed-40/
LOCATION:Pennsylvania
END:VEVENT
BEGIN:VEVENT
DTSTART;TZID=America/New_York:20260820T140000
DTEND;TZID=America/New_York:20260820T173000
DTSTAMP:20260425T103103
CREATED:20251230T200617Z
LAST-MODIFIED:20251230T200618Z
UID:3506-1787234400-1787247000@www.projectsharepa.org
SUMMARY:Your Choice Pantry
DESCRIPTION:Shopping is by appointment only. Register at https://timetosignup.com/projectsharepa/. If it is your first time visiting Project SHARE\, please call (717) 249-7773. \n\n\n\nLearn more about our Distribution.
URL:https://www.projectsharepa.org/event/your-choice-pantry-95/
LOCATION:Project SHARE Headquarters\, 5 N. Orange St. Suite #4\, Carlisle\, Pennsylvania\, 17013\, United States
CATEGORIES:Your Choice Pantry,Your Choice Pantry
END:VEVENT
BEGIN:VEVENT
DTSTART;TZID=America/New_York:20260819T090000
DTEND;TZID=America/New_York:20260819T120000
DTSTAMP:20260425T103103
CREATED:20251230T200523Z
LAST-MODIFIED:20251230T200524Z
UID:3504-1787130000-1787140800@www.projectsharepa.org
SUMMARY:Your Choice Pantry
DESCRIPTION:Shopping is by appointment only. Register at https://timetosignup.com/projectsharepa/. If it is your first time visiting Project SHARE\, please call (717) 249-7773. \n\n\n\nLearn more about our Distribution.
URL:https://www.projectsharepa.org/event/your-choice-pantry-94/
LOCATION:Project SHARE Headquarters\, 5 N. Orange St. Suite #4\, Carlisle\, Pennsylvania\, 17013\, United States
CATEGORIES:Your Choice Pantry,Your Choice Pantry
END:VEVENT
BEGIN:VEVENT
DTSTART;TZID=America/New_York:20260818T120000
DTEND;TZID=America/New_York:20260818T140000
DTSTAMP:20260425T103103
CREATED:20251230T200324Z
LAST-MODIFIED:20251230T200325Z
UID:3502-1787054400-1787061600@www.projectsharepa.org
SUMMARY:Drive Thru
DESCRIPTION:An appointment is not needed. If it is your first time visiting Project SHARE\, please call (717) 249-7773. \n\n\n\nLearn more about our Distribution.
URL:https://www.projectsharepa.org/event/drive-thru-20/
LOCATION:Project SHARE Headquarters\, 5 N. Orange St. Suite #4\, Carlisle\, Pennsylvania\, 17013\, United States
CATEGORIES:Drive Thru
END:VEVENT
BEGIN:VEVENT
DTSTART;TZID=America/New_York:20260814T090000
DTEND;TZID=America/New_York:20260814T120000
DTSTAMP:20260425T103103
CREATED:20251230T200230Z
LAST-MODIFIED:20251230T200232Z
UID:3500-1786698000-1786708800@www.projectsharepa.org
SUMMARY:Farmstand
DESCRIPTION:Shopping is by appointment only. Register at https://timetosignup.com/projectsharepa/ \n\n\n\nLearn more about our Farmstand.
URL:https://www.projectsharepa.org/event/farmstand-251/
LOCATION:Project SHARE Farmstand\, 123 Lincoln St\, Carlisle\, Pennsylvania\, 17013\, United States
CATEGORIES:Farmstand,Farmstand
END:VEVENT
BEGIN:VEVENT
DTSTART;TZID=America/New_York:20260813T140000
DTEND;TZID=America/New_York:20260813T173000
DTSTAMP:20260425T103103
CREATED:20251230T200054Z
LAST-MODIFIED:20251230T200056Z
UID:3496-1786629600-1786642200@www.projectsharepa.org
SUMMARY:Your Choice Pantry
DESCRIPTION:Shopping is by appointment only. Register at https://timetosignup.com/projectsharepa/. If it is your first time visiting Project SHARE\, please call (717) 249-7773. \n\n\n\nLearn more about our Distribution.
URL:https://www.projectsharepa.org/event/your-choice-pantry-93/
LOCATION:Project SHARE Headquarters\, 5 N. Orange St. Suite #4\, Carlisle\, Pennsylvania\, 17013\, United States
CATEGORIES:Your Choice Pantry,Your Choice Pantry
END:VEVENT
BEGIN:VEVENT
DTSTART;TZID=America/New_York:20260813T090000
DTEND;TZID=America/New_York:20260813T140000
DTSTAMP:20260425T103103
CREATED:20251230T200140Z
LAST-MODIFIED:20251230T200141Z
UID:3498-1786611600-1786629600@www.projectsharepa.org
SUMMARY:Farmstand
DESCRIPTION:Shopping is by appointment only. Register at https://timetosignup.com/projectsharepa/ \n\n\n\nLearn more about our Farmstand.
URL:https://www.projectsharepa.org/event/farmstand-250/
LOCATION:Project SHARE Farmstand\, 123 Lincoln St\, Carlisle\, Pennsylvania\, 17013\, United States
CATEGORIES:Farmstand,Farmstand
END:VEVENT
BEGIN:VEVENT
DTSTART;TZID=America/New_York:20260813T090000
DTEND;TZID=America/New_York:20260813T120000
DTSTAMP:20260425T103103
CREATED:20251230T195957Z
LAST-MODIFIED:20251230T195958Z
UID:3494-1786611600-1786622400@www.projectsharepa.org
SUMMARY:Your Choice Pantry
DESCRIPTION:Shopping is by appointment only. Register at https://timetosignup.com/projectsharepa/. If it is your first time visiting Project SHARE\, please call (717) 249-7773. \n\n\n\nLearn more about our Distribution.
URL:https://www.projectsharepa.org/event/your-choice-pantry-92/
LOCATION:Project SHARE Headquarters\, 5 N. Orange St. Suite #4\, Carlisle\, Pennsylvania\, 17013\, United States
CATEGORIES:Your Choice Pantry,Your Choice Pantry
END:VEVENT
BEGIN:VEVENT
DTSTART;TZID=America/New_York:20260812T090000
DTEND;TZID=America/New_York:20260812T120000
DTSTAMP:20260425T103103
CREATED:20251230T195803Z
LAST-MODIFIED:20251230T195804Z
UID:3492-1786525200-1786536000@www.projectsharepa.org
SUMMARY:Your Choice Pantry
DESCRIPTION:Shopping is by appointment only. Register at https://timetosignup.com/projectsharepa/. If it is your first time visiting Project SHARE\, please call (717) 249-7773. \n\n\n\nLearn more about our Distribution.
URL:https://www.projectsharepa.org/event/your-choice-pantry-91/
LOCATION:Project SHARE Headquarters\, 5 N. Orange St. Suite #4\, Carlisle\, Pennsylvania\, 17013\, United States
CATEGORIES:Your Choice Pantry,Your Choice Pantry
END:VEVENT
BEGIN:VEVENT
DTSTART;TZID=America/New_York:20260811T150000
DTEND;TZID=America/New_York:20260811T173000
DTSTAMP:20260425T103103
CREATED:20251230T195657Z
LAST-MODIFIED:20251230T195658Z
UID:3490-1786460400-1786469400@www.projectsharepa.org
SUMMARY:Farmstand
DESCRIPTION:Shopping is by appointment only. Register at https://timetosignup.com/projectsharepa/ \n\n\n\nLearn more about our Farmstand.
URL:https://www.projectsharepa.org/event/farmstand-249/
LOCATION:Project SHARE Farmstand\, 123 Lincoln St\, Carlisle\, Pennsylvania\, 17013\, United States
CATEGORIES:Farmstand,Farmstand
END:VEVENT
BEGIN:VEVENT
DTSTART;TZID=America/New_York:20260811T140000
DTEND;TZID=America/New_York:20260811T173000
DTSTAMP:20260425T103103
CREATED:20251230T195512Z
LAST-MODIFIED:20251230T195513Z
UID:3484-1786456800-1786469400@www.projectsharepa.org
SUMMARY:Carlisle 4 Kids
DESCRIPTION:Carlisle 4 Kids is an annual community event held every August\, dedicated to supporting local students by providing them with the resources they need to succeed in the upcoming school year. \n\n\n\nLearn more about Carlisle 4 Kids.
URL:https://www.projectsharepa.org/event/carlisle-4-kids/
LOCATION:Carlisle Expo Center\, 100 K St.\, Carlisle\, Pennsylvania\, 17013\, United States
END:VEVENT
BEGIN:VEVENT
DTSTART;TZID=America/New_York:20260811T090000
DTEND;TZID=America/New_York:20260811T140000
DTSTAMP:20260425T103103
CREATED:20251230T195609Z
LAST-MODIFIED:20251230T195611Z
UID:3488-1786438800-1786456800@www.projectsharepa.org
SUMMARY:Farmstand
DESCRIPTION:Shopping is by appointment only. Register at https://timetosignup.com/projectsharepa/ \n\n\n\nLearn more about our Farmstand.
URL:https://www.projectsharepa.org/event/farmstand-248/
LOCATION:Project SHARE Farmstand\, 123 Lincoln St\, Carlisle\, Pennsylvania\, 17013\, United States
CATEGORIES:Farmstand,Farmstand
END:VEVENT
BEGIN:VEVENT
DTSTART;TZID=America/New_York:20260808T083000
DTEND;TZID=America/New_York:20260808T120000
DTSTAMP:20260425T103103
CREATED:20251230T195210Z
LAST-MODIFIED:20251230T195211Z
UID:3482-1786177800-1786190400@www.projectsharepa.org
SUMMARY:Your Choice Pantry
DESCRIPTION:Shopping is by appointment only. Register at https://timetosignup.com/projectsharepa/. If it is your first time visiting Project SHARE\, please call (717) 249-7773. \n\n\n\nLearn more about our Distribution.
URL:https://www.projectsharepa.org/event/your-choice-pantry-90/
LOCATION:Project SHARE Headquarters\, 5 N. Orange St. Suite #4\, Carlisle\, Pennsylvania\, 17013\, United States
CATEGORIES:Your Choice Pantry,Your Choice Pantry
END:VEVENT
BEGIN:VEVENT
DTSTART;TZID=America/New_York:20260807T090000
DTEND;TZID=America/New_York:20260807T120000
DTSTAMP:20260425T103103
CREATED:20251230T195026Z
LAST-MODIFIED:20251230T195027Z
UID:3478-1786093200-1786104000@www.projectsharepa.org
SUMMARY:Farmstand
DESCRIPTION:Shopping is by appointment only. Register at https://timetosignup.com/projectsharepa/ \n\n\n\nLearn more about our Farmstand.
URL:https://www.projectsharepa.org/event/farmstand-247/
LOCATION:Project SHARE Farmstand\, 123 Lincoln St\, Carlisle\, Pennsylvania\, 17013\, United States
CATEGORIES:Farmstand,Farmstand
END:VEVENT
BEGIN:VEVENT
DTSTART;TZID=America/New_York:20260807T090000
DTEND;TZID=America/New_York:20260807T110000
DTSTAMP:20260425T103103
CREATED:20251230T195123Z
LAST-MODIFIED:20251230T195124Z
UID:3480-1786093200-1786100400@www.projectsharepa.org
SUMMARY:Summer Feeding 4 Kids
DESCRIPTION:Summer Feeding 4 Kids runs from June to August and takes over where school-year programs end\, providing seven days of breakfasts and lunches in a convenient weekly drive-through format at three locations (Project SHARE\, Amelia Givin Free Library & Plainfield First Church of God). \n\n\n\nSummer Feeding 4 Kids serves families who live within the Carlisle Area\, Big Spring and South Middleton school districts with children in Pre-K through 12th grade. \n\n\n\nRegister at https://timetosignup.com/projectsharepa/ \n\n\n\nLearn more about Summer Feeding 4 Kids.
URL:https://www.projectsharepa.org/event/summer-feeding-4-kids-38/
LOCATION:Project SHARE Headquarters\, 5 N. Orange St. Suite #4\, Carlisle\, Pennsylvania\, 17013\, United States
CATEGORIES:Summer Feeding 4 Kids
END:VEVENT
BEGIN:VEVENT
DTSTART;TZID=America/New_York:20260806T160000
DTEND;TZID=America/New_York:20260806T180000
DTSTAMP:20260425T103103
CREATED:20251230T194940Z
LAST-MODIFIED:20251230T194941Z
UID:3476-1786032000-1786039200@www.projectsharepa.org
SUMMARY:Summer Feeding 4 Kids
DESCRIPTION:Summer Feeding 4 Kids runs from June to August and takes over where school-year programs end\, providing seven days of breakfasts and lunches in a convenient weekly drive-through format at three locations (Project SHARE\, Amelia Givin Free Library & Plainfield First Church of God). \n\n\n\nSummer Feeding 4 Kids serves families who live within the Carlisle Area\, Big Spring and South Middleton school districts with children in Pre-K through 12th grade. \n\n\n\nRegister at https://timetosignup.com/projectsharepa/ \n\n\n\nLearn more about Summer Feeding 4 Kids.
URL:https://www.projectsharepa.org/event/summer-feeding-4-kids-37/
LOCATION:Project SHARE Headquarters\, 5 N. Orange St. Suite #4\, Carlisle\, Pennsylvania\, 17013\, United States
CATEGORIES:Summer Feeding 4 Kids
END:VEVENT
BEGIN:VEVENT
DTSTART;TZID=America/New_York:20260806T090000
DTEND;TZID=America/New_York:20260806T140000
DTSTAMP:20260425T103103
CREATED:20251230T194850Z
LAST-MODIFIED:20251230T194851Z
UID:3474-1786006800-1786024800@www.projectsharepa.org
SUMMARY:Farmstand
DESCRIPTION:Shopping is by appointment only. Register at https://timetosignup.com/projectsharepa/ \n\n\n\nLearn more about our Farmstand.
URL:https://www.projectsharepa.org/event/farmstand-246/
LOCATION:Project SHARE Farmstand\, 123 Lincoln St\, Carlisle\, Pennsylvania\, 17013\, United States
CATEGORIES:Farmstand,Farmstand
END:VEVENT
BEGIN:VEVENT
DTSTART;TZID=America/New_York:20260806T090000
DTEND;TZID=America/New_York:20260806T120000
DTSTAMP:20260425T103103
CREATED:20251230T194805Z
LAST-MODIFIED:20251230T194807Z
UID:3472-1786006800-1786017600@www.projectsharepa.org
SUMMARY:Your Choice Pantry
DESCRIPTION:Shopping is by appointment only. Register at https://timetosignup.com/projectsharepa/. If it is your first time visiting Project SHARE\, please call (717) 249-7773. \n\n\n\nLearn more about our Distribution.
URL:https://www.projectsharepa.org/event/your-choice-pantry-89/
LOCATION:Project SHARE Headquarters\, 5 N. Orange St. Suite #4\, Carlisle\, Pennsylvania\, 17013\, United States
CATEGORIES:Your Choice Pantry,Your Choice Pantry
END:VEVENT
BEGIN:VEVENT
DTSTART;TZID=America/New_York:20260805T090000
DTEND;TZID=America/New_York:20260805T120000
DTSTAMP:20260425T103103
CREATED:20251230T194543Z
LAST-MODIFIED:20251230T194544Z
UID:3470-1785920400-1785931200@www.projectsharepa.org
SUMMARY:Your Choice Pantry
DESCRIPTION:Shopping is by appointment only. Register at https://timetosignup.com/projectsharepa/. If it is your first time visiting Project SHARE\, please call (717) 249-7773. \n\n\n\nLearn more about our Distribution.
URL:https://www.projectsharepa.org/event/your-choice-pantry-88/
LOCATION:Project SHARE Headquarters\, 5 N. Orange St. Suite #4\, Carlisle\, Pennsylvania\, 17013\, United States
CATEGORIES:Your Choice Pantry,Your Choice Pantry
END:VEVENT
END:VCALENDAR