BEGIN:VCALENDAR
VERSION:2.0
PRODID:-//Project SHARE - ECPv6.15.20//NONSGML v1.0//EN
CALSCALE:GREGORIAN
METHOD:PUBLISH
X-WR-CALNAME:Project SHARE
X-ORIGINAL-URL:https://www.projectsharepa.org
X-WR-CALDESC:Events for Project SHARE
REFRESH-INTERVAL;VALUE=DURATION:PT1H
X-Robots-Tag:noindex
X-PUBLISHED-TTL:PT1H
BEGIN:VTIMEZONE
TZID:America/New_York
BEGIN:DAYLIGHT
TZOFFSETFROM:-0500
TZOFFSETTO:-0400
TZNAME:EDT
DTSTART:20250309T070000
END:DAYLIGHT
BEGIN:STANDARD
TZOFFSETFROM:-0400
TZOFFSETTO:-0500
TZNAME:EST
DTSTART:20251102T060000
END:STANDARD
BEGIN:DAYLIGHT
TZOFFSETFROM:-0500
TZOFFSETTO:-0400
TZNAME:EDT
DTSTART:20260308T070000
END:DAYLIGHT
BEGIN:STANDARD
TZOFFSETFROM:-0400
TZOFFSETTO:-0500
TZNAME:EST
DTSTART:20261101T060000
END:STANDARD
BEGIN:DAYLIGHT
TZOFFSETFROM:-0500
TZOFFSETTO:-0400
TZNAME:EDT
DTSTART:20270314T070000
END:DAYLIGHT
BEGIN:STANDARD
TZOFFSETFROM:-0400
TZOFFSETTO:-0500
TZNAME:EST
DTSTART:20271107T060000
END:STANDARD
END:VTIMEZONE
BEGIN:VEVENT
DTSTART;TZID=America/New_York:20260407T150000
DTEND;TZID=America/New_York:20260407T173000
DTSTAMP:20260425T064737
CREATED:20251229T191645Z
LAST-MODIFIED:20251229T191646Z
UID:3185-1775574000-1775583000@www.projectsharepa.org
SUMMARY:Farmstand
DESCRIPTION:Shopping is by appointment only. Register at https://timetosignup.com/projectsharepa/ \n\n\n\nLearn more about our Farmstand.
URL:https://www.projectsharepa.org/event/farmstand-189/
LOCATION:Project SHARE Farmstand\, 123 Lincoln St\, Carlisle\, Pennsylvania\, 17013\, United States
CATEGORIES:Farmstand,Farmstand
END:VEVENT
BEGIN:VEVENT
DTSTART;TZID=America/New_York:20260408T090000
DTEND;TZID=America/New_York:20260408T120000
DTSTAMP:20260425T064737
CREATED:20251229T191759Z
LAST-MODIFIED:20251229T191800Z
UID:3187-1775638800-1775649600@www.projectsharepa.org
SUMMARY:Your Choice Pantry
DESCRIPTION:Shopping is by appointment only. Register at https://timetosignup.com/projectsharepa/. If it is your first time visiting Project SHARE\, please call (717) 249-7773. \n\n\n\nLearn more about our Distribution.
URL:https://www.projectsharepa.org/event/your-choice-pantry-38/
LOCATION:Project SHARE Headquarters\, 5 N. Orange St. Suite #4\, Carlisle\, Pennsylvania\, 17013\, United States
CATEGORIES:Your Choice Pantry,Your Choice Pantry
END:VEVENT
BEGIN:VEVENT
DTSTART;TZID=America/New_York:20260409T090000
DTEND;TZID=America/New_York:20260409T140000
DTSTAMP:20260425T064737
CREATED:20251229T191857Z
LAST-MODIFIED:20251229T191858Z
UID:3189-1775725200-1775743200@www.projectsharepa.org
SUMMARY:Farmstand
DESCRIPTION:Shopping is by appointment only. Register at https://timetosignup.com/projectsharepa/ \n\n\n\nLearn more about our Farmstand.
URL:https://www.projectsharepa.org/event/farmstand-190/
LOCATION:Project SHARE Farmstand\, 123 Lincoln St\, Carlisle\, Pennsylvania\, 17013\, United States
CATEGORIES:Farmstand,Farmstand
END:VEVENT
BEGIN:VEVENT
DTSTART;TZID=America/New_York:20260409T140000
DTEND;TZID=America/New_York:20260409T173000
DTSTAMP:20260425T064737
CREATED:20251229T193821Z
LAST-MODIFIED:20251229T193823Z
UID:3192-1775743200-1775755800@www.projectsharepa.org
SUMMARY:Your Choice Pantry
DESCRIPTION:Shopping is by appointment only. Register at https://timetosignup.com/projectsharepa/. If it is your first time visiting Project SHARE\, please call (717) 249-7773. \n\n\n\nLearn more about our Distribution.
URL:https://www.projectsharepa.org/event/your-choice-pantry-39/
LOCATION:Project SHARE Headquarters\, 5 N. Orange St. Suite #4\, Carlisle\, Pennsylvania\, 17013\, United States
CATEGORIES:Your Choice Pantry,Your Choice Pantry
END:VEVENT
BEGIN:VEVENT
DTSTART;TZID=America/New_York:20260409T170000
DTEND;TZID=America/New_York:20260409T183000
DTSTAMP:20260425T064737
CREATED:20251229T150011Z
LAST-MODIFIED:20251229T150012Z
UID:3103-1775754000-1775759400@www.projectsharepa.org
SUMMARY:Slice of the Month
DESCRIPTION:In this class\, adults learn how to prepare easy\, delicious recipes with the foods available during Distribution and/or Farmstand each month. Participants walk away with a simple recipe and its ingredients as well as relationships with fellow Project SHARE community members. \n\n\n\nRegister at https://timetosignup.com/projectsharepa/ \n\n\n\nLearn more about our cooking classes.
URL:https://www.projectsharepa.org/event/slice-of-the-month-9/
LOCATION:Project SHARE Farmstand\, 123 Lincoln St\, Carlisle\, Pennsylvania\, 17013\, United States
CATEGORIES:Cooking Classes
END:VEVENT
BEGIN:VEVENT
DTSTART;TZID=America/New_York:20260410T090000
DTEND;TZID=America/New_York:20260410T120000
DTSTAMP:20260425T064737
CREATED:20251229T193954Z
LAST-MODIFIED:20251229T193955Z
UID:3194-1775811600-1775822400@www.projectsharepa.org
SUMMARY:Farmstand
DESCRIPTION:Shopping is by appointment only. Register at https://timetosignup.com/projectsharepa/ \n\n\n\nLearn more about our Farmstand.
URL:https://www.projectsharepa.org/event/farmstand-191/
LOCATION:Project SHARE Farmstand\, 123 Lincoln St\, Carlisle\, Pennsylvania\, 17013\, United States
CATEGORIES:Farmstand,Farmstand
END:VEVENT
BEGIN:VEVENT
DTSTART;TZID=America/New_York:20260414T120000
DTEND;TZID=America/New_York:20260414T140000
DTSTAMP:20260425T064737
CREATED:20251229T194054Z
LAST-MODIFIED:20251229T194055Z
UID:3196-1776168000-1776175200@www.projectsharepa.org
SUMMARY:Drive Thru
DESCRIPTION:An appointment is not needed. If it is your first time visiting Project SHARE\, please call (717) 249-7773. \n\n\n\nLearn more about our Distribution here.
URL:https://www.projectsharepa.org/event/drive-thru-16/
LOCATION:Project SHARE Headquarters\, 5 N. Orange St. Suite #4\, Carlisle\, Pennsylvania\, 17013\, United States
CATEGORIES:Drive Thru
END:VEVENT
BEGIN:VEVENT
DTSTART;TZID=America/New_York:20260415T090000
DTEND;TZID=America/New_York:20260415T120000
DTSTAMP:20260425T064737
CREATED:20251229T194158Z
LAST-MODIFIED:20251229T194159Z
UID:3198-1776243600-1776254400@www.projectsharepa.org
SUMMARY:Your Choice Pantry
DESCRIPTION:Shopping is by appointment only. Register at https://timetosignup.com/projectsharepa/. If it is your first time visiting Project SHARE\, please call (717) 249-7773. \n\n\n\nLearn more about our Distribution.
URL:https://www.projectsharepa.org/event/your-choice-pantry-40/
LOCATION:Project SHARE Headquarters\, 5 N. Orange St. Suite #4\, Carlisle\, Pennsylvania\, 17013\, United States
CATEGORIES:Your Choice Pantry,Your Choice Pantry
END:VEVENT
BEGIN:VEVENT
DTSTART;TZID=America/New_York:20260416T140000
DTEND;TZID=America/New_York:20260416T173000
DTSTAMP:20260425T064737
CREATED:20251229T194305Z
LAST-MODIFIED:20251229T194306Z
UID:3200-1776348000-1776360600@www.projectsharepa.org
SUMMARY:Your Choice Pantry
DESCRIPTION:Shopping is by appointment only. Register at https://timetosignup.com/projectsharepa/. If it is your first time visiting Project SHARE\, please call (717) 249-7773. \n\n\n\nLearn more about our Distribution.
URL:https://www.projectsharepa.org/event/your-choice-pantry-41/
LOCATION:Project SHARE Headquarters\, 5 N. Orange St. Suite #4\, Carlisle\, Pennsylvania\, 17013\, United States
CATEGORIES:Your Choice Pantry,Your Choice Pantry
END:VEVENT
BEGIN:VEVENT
DTSTART;TZID=America/New_York:20260417T000000
DTEND;TZID=America/New_York:20260417T235959
DTSTAMP:20260425T064737
CREATED:20251229T194334Z
LAST-MODIFIED:20251229T194335Z
UID:3202-1776384000-1776470399@www.projectsharepa.org
SUMMARY:Project SHARE Closed
DESCRIPTION:
URL:https://www.projectsharepa.org/event/project-share-closed-33/
LOCATION:Pennsylvania
END:VEVENT
BEGIN:VEVENT
DTSTART;TZID=America/New_York:20260418T083000
DTEND;TZID=America/New_York:20260418T120000
DTSTAMP:20260425T064737
CREATED:20251229T194430Z
LAST-MODIFIED:20251229T194431Z
UID:3204-1776501000-1776513600@www.projectsharepa.org
SUMMARY:Your Choice Pantry
DESCRIPTION:Shopping is by appointment only. Register at https://timetosignup.com/projectsharepa/. If it is your first time visiting Project SHARE\, please call (717) 249-7773. \n\n\n\nLearn more about our Distribution.
URL:https://www.projectsharepa.org/event/your-choice-pantry-42/
LOCATION:Project SHARE Headquarters\, 5 N. Orange St. Suite #4\, Carlisle\, Pennsylvania\, 17013\, United States
CATEGORIES:Your Choice Pantry,Your Choice Pantry
END:VEVENT
BEGIN:VEVENT
DTSTART;TZID=America/New_York:20260418T103000
DTEND;TZID=America/New_York:20260418T120000
DTSTAMP:20260425T064737
CREATED:20251229T151433Z
LAST-MODIFIED:20251229T151434Z
UID:3113-1776508200-1776513600@www.projectsharepa.org
SUMMARY:The Sharing Table
DESCRIPTION:The Sharing Table is a fun weekend activity that allows families to cook alongside one another\, offering a relaxing\, less structured environment designed to foster positive experiences between parents and children in the kitchen. \n\n\n\nRegister at https://timetosignup.com/projectsharepa/ \n\n\n\nLearn more about our cooking classes.
URL:https://www.projectsharepa.org/event/the-sharing-table-4/
LOCATION:Project SHARE Farmstand\, 123 Lincoln St\, Carlisle\, Pennsylvania\, 17013\, United States
CATEGORIES:Cooking Classes
END:VEVENT
BEGIN:VEVENT
DTSTART;TZID=America/New_York:20260421T090000
DTEND;TZID=America/New_York:20260421T140000
DTSTAMP:20260425T064737
CREATED:20251229T194530Z
LAST-MODIFIED:20251229T194531Z
UID:3206-1776762000-1776780000@www.projectsharepa.org
SUMMARY:Farmstand
DESCRIPTION:Shopping is by appointment only. Register at https://timetosignup.com/projectsharepa/ \n\n\n\nLearn more about our Farmstand.
URL:https://www.projectsharepa.org/event/farmstand-192/
LOCATION:Project SHARE Farmstand\, 123 Lincoln St\, Carlisle\, Pennsylvania\, 17013\, United States
CATEGORIES:Farmstand,Farmstand
END:VEVENT
BEGIN:VEVENT
DTSTART;TZID=America/New_York:20260421T150000
DTEND;TZID=America/New_York:20260421T173000
DTSTAMP:20260425T064737
CREATED:20251229T194617Z
LAST-MODIFIED:20251229T194618Z
UID:3208-1776783600-1776792600@www.projectsharepa.org
SUMMARY:Farmstand
DESCRIPTION:Shopping is by appointment only. Register at https://timetosignup.com/projectsharepa/ \n\n\n\nLearn more about our Farmstand.
URL:https://www.projectsharepa.org/event/farmstand-193/
LOCATION:Project SHARE Farmstand\, 123 Lincoln St\, Carlisle\, Pennsylvania\, 17013\, United States
CATEGORIES:Farmstand,Farmstand
END:VEVENT
BEGIN:VEVENT
DTSTART;TZID=America/New_York:20260422T090000
DTEND;TZID=America/New_York:20260422T120000
DTSTAMP:20260425T064737
CREATED:20251229T200113Z
LAST-MODIFIED:20251229T200114Z
UID:3210-1776848400-1776859200@www.projectsharepa.org
SUMMARY:Your Choice Pantry
DESCRIPTION:Shopping is by appointment only. Register at https://timetosignup.com/projectsharepa/. If it is your first time visiting Project SHARE\, please call (717) 249-7773. \n\n\n\nLearn more about our Distribution.
URL:https://www.projectsharepa.org/event/your-choice-pantry-43/
LOCATION:Project SHARE Headquarters\, 5 N. Orange St. Suite #4\, Carlisle\, Pennsylvania\, 17013\, United States
CATEGORIES:Your Choice Pantry,Your Choice Pantry
END:VEVENT
BEGIN:VEVENT
DTSTART;TZID=America/New_York:20260423T090000
DTEND;TZID=America/New_York:20260423T120000
DTSTAMP:20260425T064737
CREATED:20251229T200417Z
LAST-MODIFIED:20251229T200418Z
UID:3212-1776934800-1776945600@www.projectsharepa.org
SUMMARY:Your Choice Pantry
DESCRIPTION:Shopping is by appointment only. Register at https://timetosignup.com/projectsharepa/. If it is your first time visiting Project SHARE\, please call (717) 249-7773. \n\n\n\nLearn more about our Distribution.
URL:https://www.projectsharepa.org/event/your-choice-pantry-44/
LOCATION:Project SHARE Headquarters\, 5 N. Orange St. Suite #4\, Carlisle\, Pennsylvania\, 17013\, United States
CATEGORIES:Your Choice Pantry,Your Choice Pantry
END:VEVENT
BEGIN:VEVENT
DTSTART;TZID=America/New_York:20260423T090000
DTEND;TZID=America/New_York:20260423T140000
DTSTAMP:20260425T064737
CREATED:20251229T200517Z
LAST-MODIFIED:20251229T200518Z
UID:3214-1776934800-1776952800@www.projectsharepa.org
SUMMARY:Farmstand
DESCRIPTION:Shopping is by appointment only. Register at https://timetosignup.com/projectsharepa/ \n\n\n\nLearn more about our Farmstand.
URL:https://www.projectsharepa.org/event/farmstand-194/
LOCATION:Project SHARE Farmstand\, 123 Lincoln St\, Carlisle\, Pennsylvania\, 17013\, United States
CATEGORIES:Farmstand,Farmstand
END:VEVENT
BEGIN:VEVENT
DTSTART;TZID=America/New_York:20260423T170000
DTEND;TZID=America/New_York:20260423T180000
DTSTAMP:20260425T064737
CREATED:20251229T145434Z
LAST-MODIFIED:20251229T145435Z
UID:3093-1776963600-1776967200@www.projectsharepa.org
SUMMARY:Virtual Kids in the Kitchen
DESCRIPTION:Kids in the Kitchen is designed for children aged 7-14 to learn basic nutrition and gain valuable cooking skills through hands-on learning and collaboration with fellow classmates. \n\n\n\nVirtual classes are held over Zoom. Food kits are available to families for pick up prior to class. \n\n\n\nRegister at https://timetosignup.com/projectsharepa/ \n\n\n\nLearn more about our cooking classes here.
URL:https://www.projectsharepa.org/event/virtual-kids-in-the-kitchen-7/
LOCATION:Pennsylvania
CATEGORIES:Cooking Classes
END:VEVENT
BEGIN:VEVENT
DTSTART;TZID=America/New_York:20260424T090000
DTEND;TZID=America/New_York:20260424T120000
DTSTAMP:20260425T064737
CREATED:20251229T200608Z
LAST-MODIFIED:20251229T200609Z
UID:3216-1777021200-1777032000@www.projectsharepa.org
SUMMARY:Farmstand
DESCRIPTION:Shopping is by appointment only. Register at https://timetosignup.com/projectsharepa/ \n\n\n\nLearn more about our Farmstand.
URL:https://www.projectsharepa.org/event/farmstand-195/
LOCATION:Project SHARE Farmstand\, 123 Lincoln St\, Carlisle\, Pennsylvania\, 17013\, United States
CATEGORIES:Farmstand,Farmstand
END:VEVENT
BEGIN:VEVENT
DTSTART;TZID=America/New_York:20260428T090000
DTEND;TZID=America/New_York:20260428T140000
DTSTAMP:20260425T064737
CREATED:20251229T200700Z
LAST-MODIFIED:20251229T200701Z
UID:3218-1777366800-1777384800@www.projectsharepa.org
SUMMARY:Farmstand
DESCRIPTION:Shopping is by appointment only. Register at https://timetosignup.com/projectsharepa/ \n\n\n\nLearn more about our Farmstand.
URL:https://www.projectsharepa.org/event/farmstand-196/
LOCATION:Project SHARE Farmstand\, 123 Lincoln St\, Carlisle\, Pennsylvania\, 17013\, United States
CATEGORIES:Farmstand,Farmstand
END:VEVENT
BEGIN:VEVENT
DTSTART;TZID=America/New_York:20260428T150000
DTEND;TZID=America/New_York:20260428T173000
DTSTAMP:20260425T064737
CREATED:20251229T200752Z
LAST-MODIFIED:20251229T200753Z
UID:3220-1777388400-1777397400@www.projectsharepa.org
SUMMARY:Farmstand
DESCRIPTION:Shopping is by appointment only. Register at https://timetosignup.com/projectsharepa/ \n\n\n\nLearn more about our Farmstand.
URL:https://www.projectsharepa.org/event/farmstand-197/
LOCATION:Project SHARE Farmstand\, 123 Lincoln St\, Carlisle\, Pennsylvania\, 17013\, United States
CATEGORIES:Farmstand,Farmstand
END:VEVENT
BEGIN:VEVENT
DTSTART;TZID=America/New_York:20260429T090000
DTEND;TZID=America/New_York:20260429T120000
DTSTAMP:20260425T064737
CREATED:20251229T200847Z
LAST-MODIFIED:20251229T200848Z
UID:3222-1777453200-1777464000@www.projectsharepa.org
SUMMARY:Your Choice Pantry
DESCRIPTION:Shopping is by appointment only. Register at https://timetosignup.com/projectsharepa/. If it is your first time visiting Project SHARE\, please call (717) 249-7773. \n\n\n\nLearn more about our Distribution.
URL:https://www.projectsharepa.org/event/your-choice-pantry-45/
LOCATION:Project SHARE Headquarters\, 5 N. Orange St. Suite #4\, Carlisle\, Pennsylvania\, 17013\, United States
CATEGORIES:Your Choice Pantry,Your Choice Pantry
END:VEVENT
BEGIN:VEVENT
DTSTART;TZID=America/New_York:20260430T090000
DTEND;TZID=America/New_York:20260430T120000
DTSTAMP:20260425T064737
CREATED:20251229T200953Z
LAST-MODIFIED:20251229T200954Z
UID:3224-1777539600-1777550400@www.projectsharepa.org
SUMMARY:Your Choice Pantry
DESCRIPTION:Shopping is by appointment only. Register at https://timetosignup.com/projectsharepa/. If it is your first time visiting Project SHARE\, please call (717) 249-7773. \n\n\n\nLearn more about our Distribution.
URL:https://www.projectsharepa.org/event/your-choice-pantry-46/
LOCATION:Project SHARE Headquarters\, 5 N. Orange St. Suite #4\, Carlisle\, Pennsylvania\, 17013\, United States
CATEGORIES:Your Choice Pantry,Your Choice Pantry
END:VEVENT
BEGIN:VEVENT
DTSTART;TZID=America/New_York:20260430T090000
DTEND;TZID=America/New_York:20260430T140000
DTSTAMP:20260425T064737
CREATED:20251229T201059Z
LAST-MODIFIED:20251229T201100Z
UID:3226-1777539600-1777557600@www.projectsharepa.org
SUMMARY:Farmstand
DESCRIPTION:Shopping is by appointment only. Register at https://timetosignup.com/projectsharepa/ \n\n\n\nLearn more about our Farmstand.
URL:https://www.projectsharepa.org/event/farmstand-198/
LOCATION:Project SHARE Farmstand\, 123 Lincoln St\, Carlisle\, Pennsylvania\, 17013\, United States
CATEGORIES:Farmstand,Farmstand
END:VEVENT
BEGIN:VEVENT
DTSTART;TZID=America/New_York:20260430T170000
DTEND;TZID=America/New_York:20260430T183000
DTSTAMP:20260425T064737
CREATED:20251229T144814Z
LAST-MODIFIED:20251229T144815Z
UID:3081-1777568400-1777573800@www.projectsharepa.org
SUMMARY:Kids in the Kitchen
DESCRIPTION:Kids in the Kitchen is designed for children aged 7-14 to learn basic nutrition and gain valuable cooking skills through hands-on learning and collaboration with fellow classmates. \n\n\n\nRegister at https://timetosignup.com/projectsharepa/ \n\n\n\nLearn more about our cooking classes.
URL:https://www.projectsharepa.org/event/kids-in-the-kitchen-16/
LOCATION:Project SHARE Headquarters\, 5 N. Orange St. Suite #4\, Carlisle\, Pennsylvania\, 17013\, United States
CATEGORIES:Cooking Classes
END:VEVENT
BEGIN:VEVENT
DTSTART;TZID=America/New_York:20260501T090000
DTEND;TZID=America/New_York:20260501T120000
DTSTAMP:20260425T064737
CREATED:20251229T201223Z
LAST-MODIFIED:20251229T201906Z
UID:3228-1777626000-1777636800@www.projectsharepa.org
SUMMARY:Farmstand
DESCRIPTION:Shopping is by appointment only. Register at https://timetosignup.com/projectsharepa/ \n\n\n\nLearn more about our Farmstand.
URL:https://www.projectsharepa.org/event/farmstand-199/
LOCATION:Project SHARE Farmstand\, 123 Lincoln St\, Carlisle\, Pennsylvania\, 17013\, United States
CATEGORIES:Farmstand,Farmstand
END:VEVENT
BEGIN:VEVENT
DTSTART;TZID=America/New_York:20260505T090000
DTEND;TZID=America/New_York:20260505T140000
DTSTAMP:20260425T064737
CREATED:20251229T202158Z
LAST-MODIFIED:20251229T202159Z
UID:3230-1777971600-1777989600@www.projectsharepa.org
SUMMARY:Farmstand
DESCRIPTION:Shopping is by appointment only. Register at https://timetosignup.com/projectsharepa/ \n\n\n\nLearn more about our Farmstand.
URL:https://www.projectsharepa.org/event/farmstand-200/
LOCATION:Project SHARE Farmstand\, 123 Lincoln St\, Carlisle\, Pennsylvania\, 17013\, United States
CATEGORIES:Farmstand,Farmstand
END:VEVENT
BEGIN:VEVENT
DTSTART;TZID=America/New_York:20260505T150000
DTEND;TZID=America/New_York:20260505T173000
DTSTAMP:20260425T064737
CREATED:20251229T202312Z
LAST-MODIFIED:20251229T202313Z
UID:3232-1777993200-1778002200@www.projectsharepa.org
SUMMARY:Farmstand
DESCRIPTION:Shopping is by appointment only. Register at https://timetosignup.com/projectsharepa/ \n\n\n\nLearn more about our Farmstand.
URL:https://www.projectsharepa.org/event/farmstand-201/
LOCATION:Project SHARE Farmstand\, 123 Lincoln St\, Carlisle\, Pennsylvania\, 17013\, United States
CATEGORIES:Farmstand,Farmstand
END:VEVENT
BEGIN:VEVENT
DTSTART;TZID=America/New_York:20260506T090000
DTEND;TZID=America/New_York:20260506T120000
DTSTAMP:20260425T064737
CREATED:20251229T202407Z
LAST-MODIFIED:20251229T202409Z
UID:3234-1778058000-1778068800@www.projectsharepa.org
SUMMARY:Your Choice Pantry
DESCRIPTION:Shopping is by appointment only. Register at https://timetosignup.com/projectsharepa/. If it is your first time visiting Project SHARE\, please call (717) 249-7773. \n\n\n\nLearn more about our Distribution.
URL:https://www.projectsharepa.org/event/your-choice-pantry-47/
LOCATION:Project SHARE Headquarters\, 5 N. Orange St. Suite #4\, Carlisle\, Pennsylvania\, 17013\, United States
CATEGORIES:Your Choice Pantry,Your Choice Pantry
END:VEVENT
BEGIN:VEVENT
DTSTART;TZID=America/New_York:20260507T090000
DTEND;TZID=America/New_York:20260507T120000
DTSTAMP:20260425T064737
CREATED:20251229T202504Z
LAST-MODIFIED:20251229T202505Z
UID:3236-1778144400-1778155200@www.projectsharepa.org
SUMMARY:Your Choice Pantry
DESCRIPTION:Shopping is by appointment only. Register at https://timetosignup.com/projectsharepa/. If it is your first time visiting Project SHARE\, please call (717) 249-7773. \n\n\n\nLearn more about our Distribution.
URL:https://www.projectsharepa.org/event/your-choice-pantry-48/
LOCATION:Project SHARE Headquarters\, 5 N. Orange St. Suite #4\, Carlisle\, Pennsylvania\, 17013\, United States
CATEGORIES:Your Choice Pantry,Your Choice Pantry
END:VEVENT
END:VCALENDAR